BEGIN:VCALENDAR
VERSION:2.0
PRODID:-//https://techplay.jp//JP
CALSCALE:GREGORIAN
METHOD:PUBLISH
X-WR-CALDESC:その作業をDX！RPA✕反社チェック
X-WR-CALNAME:その作業をDX！RPA✕反社チェック
X-WR-TIMEZONE:Asia/Tokyo
BEGIN:VTIMEZONE
TZID:Asia/Tokyo
BEGIN:STANDARD
DTSTART:19700101T000000
TZOFFSETFROM:+0900
TZOFFSETTO:+0900
TZNAME:JST
END:STANDARD
END:VTIMEZONE
BEGIN:VEVENT
UID:897243@techplay.jp
SUMMARY:その作業をDX！RPA✕反社チェック
DTSTART;TZID=Asia/Tokyo:20230329T090000
DTEND;TZID=Asia/Tokyo:20230428T180000
DTSTAMP:20260420T105841Z
CREATED:20230323T060240Z
DESCRIPTION:イベント詳細はこちら\nhttps://techplay.jp/event/89724
 3?utm_medium=referral&utm_source=ics&utm_campaign=ics\n\n\nその作業
 をDX！RPA✕反社チェック\n\n\n不定期に発生する定型業
 務の「反社チェック」。RPAでどのように自動化するか
 を徹底解説！\n●こんな方におすすめ\n\n反社チェック
 業務を効率化したい方\n定型業務の自動化をご検討中
 の方\nRPAの導入を検討されている方\n\n●こんな内容を
 お話しします\n\n反社チェックとは？\nRPAが支援する自
 動化の流れ！\n事例\nまとめ\n\n開催概要\n●参加方法　
 本セミナーはオンデマンド形式のセミナーです。参加
 者様のご都合に合わせご覧いただけます。　セミナー
 にお申込みいただいた後、メールにて視聴用URLをお送
 り致します。　受講後のアンケートにお答えいただい
 た方にはスライド資料を送付いたします。アンケート
 はYouTube概要欄に記載しております。\n●参加費　無料\
 n●備　考　ウェビナー内容は一部変更になる場合がご
 ざいます。　お申込み後、運営都合によりご参加をキ
 ャンセルさせていただく場合がございます。　競合他
 社様のご参加はお断りさせていただく場合がございま
 す。\n●お問合せ先　タクトシステム株式会社　ウェ
 ビナー運営事務局　webinar@tactsystem.co.jp
LOCATION:オンライン
URL:https://techplay.jp/event/897243?utm_medium=referral&utm_source=ics&utm
 _campaign=ics
END:VEVENT
END:VCALENDAR
