BEGIN:VCALENDAR
VERSION:2.0
PRODID:-//https://techplay.jp//JP
CALSCALE:GREGORIAN
METHOD:PUBLISH
X-WR-CALDESC:【ゼロからはじめるWebデザイン】色の基本 カ
 ラーモデル/濃淡/配色
X-WR-CALNAME:【ゼロからはじめるWebデザイン】色の基本 カ
 ラーモデル/濃淡/配色
X-WR-TIMEZONE:Asia/Tokyo
BEGIN:VTIMEZONE
TZID:Asia/Tokyo
BEGIN:STANDARD
DTSTART:19700101T000000
TZOFFSETFROM:+0900
TZOFFSETTO:+0900
TZNAME:JST
END:STANDARD
END:VTIMEZONE
BEGIN:VEVENT
UID:897566@techplay.jp
SUMMARY:【ゼロからはじめるWebデザイン】色の基本 カラー
 モデル/濃淡/配色
DTSTART;TZID=Asia/Tokyo:20230413T203000
DTEND;TZID=Asia/Tokyo:20230413T213000
DTSTAMP:20260420T110436Z
CREATED:20230325T231338Z
DESCRIPTION:イベント詳細はこちら\nhttps://techplay.jp/event/89756
 6?utm_medium=referral&utm_source=ics&utm_campaign=ics\n\nWEBデザイナ
 ーになるための基礎基本を徹底解説【全11回】\nWebデザ
 イナーを目指しているけれど、何から始めていければ
 いいか分からない。そんな方のために、誰でも最短でW
 ebデザイナーに必要な知識とスキルを学ぶ勉強会です
 。「ゼロからはじめるWEBデザイン」は、WEBサイトの仕
 事の流れと、実践的なツールの扱い方について学んで
 いきます。サイトの実装については、別途「ゼロから
 はじめるWordPress」勉強会で学習できます。また、各勉
 強会の内容は、Youtubeにてアーカイブ配信のほか、書籍
 「ゼロからはじめるWebデザイナー」の内容に基づいて
 おりますので、こちらを復習用にもお使いいただけま
 す。\n▼過去開催のアーカイブ動画はこちらhttps://www.yo
 utube.com/@user-pe9ie4et9c\n▼書籍「ゼロからはじめるWebデザ
 イナー」発売中！https://amzn.asia/d/h0w2H66\n【#05】色の基
 本 カラーモデル/濃淡/配色\nデザイナーにとって、色
 は非常に重要です。色は、普段見慣れているから簡単
 に設定できると思いきや、実際に形にしようと思った
 とき、なかなかうまく表現することが難しいと思いま
 す。これは、人は色を見たら、頭の中で様々な情報処
 理するからです。この頭の中の処理を紐解いていくこ
 とが大事なのですが、今回は最も基本的なポイントに
 ついてお伝えしていきます。\n【今回の内容】　※時
 間の都合などで変更する場合があります\n\nカラーモデ
 ル\n濃淡、色相、彩度\nユニバーサルカラー\n配色の考
 え方\n\n初めての方にも分かりやすいように、お話させ
 ていただきます。・WEBデザインを学んでみたい方・ス
 キルアップしたい方・新しいことを始めたい方など、
 どなたでもご参加ください！\nシンラボとは\n『テクノ
 ロジーで社会課題を解決する』をビジョンに、エンジ
 ニア、デザイナー、ライター、イべンテーターなど、
 様々な人が活躍するテックコミュニティです。アプリ
 開発、Webサイト制作からコミュニティ作り、イベント
 企画まで、様々なプロジェクトが創出されています。\
 n▼シンラボHP（入会希望もこちらから）https://sinlab.futu
 re-tech-association.org/\n▼シンラボ公式LINEhttps://lin.ee/hCieVxo
 \n開催概要\n【日時】2023年4月13日（木） 20:30~21:30【参
 加費】無料\n主催：黒　卓陽\nシンラボ　WEBデザイナー
 1993年生まれ。法政大学デザイン工学研究科都市環境デ
 ザイン工学科卒業。地図制作会社、ゲーム会社のデザ
 イナーに就職した後、会社を辞めて独学でWEBデザイン
 を勉強し、現在WEBデザイナー。これまでWordpressを使っ
 て、コーポレートサイトからオウンドメディア、社内
 システムまでを制作。\nタイムスケジュール\n\n\n\n時間
 \n内容\n\n\n\n\n20:30〜20:35\nオープニング\n\n\n20:35〜21:15\n
 講義\n\n\n21:15〜21:25\n質問回答コーナー（イベント申込
 時にいただいた質問に回答）\n\n\n21:25〜21:30\nクロージ
 ング\n\n\n\n※ 当日予告なく時間配分・内容が変更にな
 る可能性がございます。\n注意事項\n\nリクルーティン
 グ、勧誘など、採用目的でのイベント参加はお断りし
 ております。\nキャンセル待ち・補欠・落選の方はご
 参加いただくことが出来ませんのでご了承ください。\
 n欠席される場合は、お手数ですが速やかにキャンセル
 処理をお願い致します。\n無断キャンセルや欠席が続
 く場合、次回以降の参加をお断りさせていただく場合
 がございます。\n
LOCATION:オンライン
URL:https://techplay.jp/event/897566?utm_medium=referral&utm_source=ics&utm
 _campaign=ics
END:VEVENT
END:VCALENDAR
