BEGIN:VCALENDAR
VERSION:2.0
PRODID:-//https://techplay.jp//JP
CALSCALE:GREGORIAN
METHOD:PUBLISH
X-WR-CALDESC:広告×SEOで商談機会を最大化！ BtoBマーケター
 が押さえるべき最新のマーケティング手法とは？
X-WR-CALNAME:広告×SEOで商談機会を最大化！ BtoBマーケター
 が押さえるべき最新のマーケティング手法とは？
X-WR-TIMEZONE:Asia/Tokyo
BEGIN:VTIMEZONE
TZID:Asia/Tokyo
BEGIN:STANDARD
DTSTART:19700101T000000
TZOFFSETFROM:+0900
TZOFFSETTO:+0900
TZNAME:JST
END:STANDARD
END:VTIMEZONE
BEGIN:VEVENT
UID:897671@techplay.jp
SUMMARY:広告×SEOで商談機会を最大化！ BtoBマーケターが押
 さえるべき最新のマーケティング手法とは？
DTSTART;TZID=Asia/Tokyo:20230418T120000
DTEND;TZID=Asia/Tokyo:20230418T130000
DTSTAMP:20260421T012441Z
CREATED:20230327T043503Z
DESCRIPTION:イベント詳細はこちら\nhttps://techplay.jp/event/89767
 1?utm_medium=referral&utm_source=ics&utm_campaign=ics\n\n広告×SEOで
 商談機会を最大化！ BtoBマーケターが押さえるべき最
 新のマーケティング手法とは？\nBtoB商材における集客
 から商談創出を広告×SEOで実現\nBtoB商材のマーケティ
 ングにおいて「リード数が足りない」「営業が希望す
 るニーズを持ったリードが提供できない」など、イン
 バウンドリード創出にお悩みの方は多いかと思います
 。本ウェビナーでは顧客のニーズを捉え、適切な文脈
 でリード獲得する方法について、広告とSEOの切り口で
 最新のノウハウをご提供いたします。\n各分野の専門
 家である、株式会社オーリーズによる広告パート、株
 式会社CINCによるSEOパートと、各ノウハウをパートを分
 けてお届けいたします。\n▼こんな方にオススメです
 ！\n\nBtoB企業におけるマーケティング責任者の方\nBtoB
 企業における広告担当の方\nBtoB企業におけるSEO担当の
 方\n\n▼ウェビナー内容\n\n株式会社オーリーズ\n\n広告
 パート\n\n\n株式会社CINC\n\nSEOパート\n\n\n\n▼開催概要\n\
 n開催日時：2023年4月18日（火）12:00～13:00\n参加費：無
 料\n会場：オンライン　※Zoomを利用します\n参加方法
 ：お申込み受付後、メールにて視聴登録用URLをご案内
 いたします\n\n今回ご提供いただく個人情報は、株式会
 社CINC・株式会社オーリーズが取り扱い、各社の個人情
 報保護方針に基づき厳重に管理いたします。また本セ
 ミナーご参加の確認、及び次回以降に各社にて開催す
 るセミナーのご案内、各社がおすすめするサービスの
 ご紹介に利用させて頂きます。\n▼登壇者\n株式会社オ
 ーリーズ執行役員／COO宇賀田 徹\n東証一部上場不動産
 系事業会社にて入社。経営企画室に所属し新規事業の
 立ち上げを行う。 主にBtoBビジネス領域のWebメディア
 運用を通じて、SEMやCRMを含むマーケティング施策の企
 画・ディレクションを中心とした業務を遂行。 事業拡
 大と同時に、デジタルマーケティングの可能性につい
 て追求している中、オーリーズと出会い入社を決意。
 マネージャーを経てCOOに就任し、経営企画とデジタル
 マーケティングに携わった経験を活かし、オーリーズ
 を発展させるべく日々邁進中。\n\n株式会社CINCアナリ
 ティクス事業本部 クリエイティブ&アナリシス部コン
 サルティンググループ マネージャー尾崎 篤志\n株式会
 社CINC（旧社名：Core）創業3年目から参画。入社時から
 一貫してマーケティングコンサルタントを務め、toBtoC
 問わず数々のクライアントのコンサルティングを経験
 。WebサイトのSEOやCVR改善、またマーケティング上流か
 らの提案も幅広く行う。現在はコンサルタントとして
 クライアントを担当しながら、マネジメントも行う。\
 n\n以上となります。皆様のご参加、お待ちしておりま
 す！\n\n※企業向けのセミナーでございますので、フリ
 ーメールでの登録はご遠慮くださいますようお願いい
 たします。※競合他社/同業者/企業にご所属でない個
 人の方からのお申込みなど、 当社の判断によりセミナ
 ー参加をお断りする場合があります。予めご了承くだ
 さい。※終了時刻は前後する可能性がございます。※
 予告なく登壇者・内容の変更がある場合がございます
 。
LOCATION:オンラインセミナー
URL:https://techplay.jp/event/897671?utm_medium=referral&utm_source=ics&utm
 _campaign=ics
END:VEVENT
END:VCALENDAR
