BEGIN:VCALENDAR
VERSION:2.0
PRODID:-//https://techplay.jp//JP
CALSCALE:GREGORIAN
METHOD:PUBLISH
X-WR-CALDESC:5年間やってわかった 大企業におけるBtoBマー
 ケターの心得と挑戦
X-WR-CALNAME:5年間やってわかった 大企業におけるBtoBマー
 ケターの心得と挑戦
X-WR-TIMEZONE:Asia/Tokyo
BEGIN:VTIMEZONE
TZID:Asia/Tokyo
BEGIN:STANDARD
DTSTART:19700101T000000
TZOFFSETFROM:+0900
TZOFFSETTO:+0900
TZNAME:JST
END:STANDARD
END:VTIMEZONE
BEGIN:VEVENT
UID:897811@techplay.jp
SUMMARY:5年間やってわかった 大企業におけるBtoBマーケタ
 ーの心得と挑戦
DTSTART;TZID=Asia/Tokyo:20230411T140000
DTEND;TZID=Asia/Tokyo:20230411T150000
DTSTAMP:20260419T161322Z
CREATED:20230328T024204Z
DESCRIPTION:イベント詳細はこちら\nhttps://techplay.jp/event/89781
 1?utm_medium=referral&utm_source=ics&utm_campaign=ics\n\nこんな方に
 おすすめ\n\n大手企業でのマーケティング活動に苦労し
 ている\nマーケティングを推進しているが、何をすべ
 きかわからない\nマーケターとしてのマインドセット
 を知りたい\n\n\n概要\n近年、顧客の購買行動は大きく
 変化しています。その中で、従来の「営業」だけでは
 更なる成果に繋げるのが難しいと考え、新たに「マー
 ケティング組織」を編成した企業が増加しています。\
 nしかし、いざマーケティングに取り組もうと思ってい
 ても、「BtoBマーケティングやBtoBマーケターがなにを
 すべきかわからない」とお悩みの方が多いのではない
 でしょうか。\n今回のセミナーでは、この5年間でBtoBマ
 ーケティングの立ち上げから現在まで組織を拡大して
 いった富家 翔平 氏をお招きし、「コニカミノルタジ
 ャパンでの5年間のマーケティング変遷」を弊社COO 冨
 田モデレートのもと、深掘りしてまいります。\n明日
 からのマーケティング活動にヒントが欲しい方、質問
 もお寄せの上ぜひご視聴ください。\n▼富家氏のnoteは
 こちら『5年間やってわかった、BtoBマーケターがやる
 べき仕事の全体感』\n登壇者\n富家 翔平\nコニカミノル
 タジャパン株式会社営業推進統括部 マーケティングセ
 ンター マーケティング企画部 部長\n「営業プロセス改
 革×マーケティング推進」プロジェクトを牽引し、マ
 ーケティング組織の立ち上げを担う。マーケティング
 センターの新設に伴い、全社マーケとして、事業部と
 連携した戦略的なマーケティング施策の実行による事
 業貢献に挑戦している。BtoBマーケティング・セールス
 をテーマにしたイベントやセミナー、メディアへの登
 壇実績多数。\n\n\n冨田 貴徳\nSALES ROBOTICS株式会社執行
 役員 COO\n2021年にSALES ROBOTICS株式会社入社、執行役員CMO/
 CSOに就任。\n現在は、COOとしてインサイドセールス事
 業と新規事業を管掌。\nBtoB SaaSキャリア12年、専門は事
 業開発マーケター。\nこれまで「THE MODEL」全組織を経
 験し、複数のSaaS企業で事業責任者を務めてきた。\n2023
 年Salesforceの、インサイドセールス分科会の会長を務め
 る。\n\n\n参加費\n無料\n注意事項\n\n競合他社様はお断
 りさせていただいております。予めご了承下さい。\n
 視聴用URLは後日、担当者から別途ご案内いたします。\
 n【個人情報保護方針】個人情報取扱い管理の詳細につ
 いては、申込ページを参照してください。\n
LOCATION:オンライン（Zoom配信）
URL:https://techplay.jp/event/897811?utm_medium=referral&utm_source=ics&utm
 _campaign=ics
END:VEVENT
END:VCALENDAR
