BEGIN:VCALENDAR
VERSION:2.0
PRODID:-//https://techplay.jp//JP
CALSCALE:GREGORIAN
METHOD:PUBLISH
X-WR-CALDESC:ゼロからわかる！音声認識率の測り方
X-WR-CALNAME:ゼロからわかる！音声認識率の測り方
X-WR-TIMEZONE:Asia/Tokyo
BEGIN:VTIMEZONE
TZID:Asia/Tokyo
BEGIN:STANDARD
DTSTART:19700101T000000
TZOFFSETFROM:+0900
TZOFFSETTO:+0900
TZNAME:JST
END:STANDARD
END:VTIMEZONE
BEGIN:VEVENT
UID:898082@techplay.jp
SUMMARY:ゼロからわかる！音声認識率の測り方
DTSTART;TZID=Asia/Tokyo:20230411T140000
DTEND;TZID=Asia/Tokyo:20230411T150000
DTSTAMP:20260421T054932Z
CREATED:20230329T074453Z
DESCRIPTION:イベント詳細はこちら\nhttps://techplay.jp/event/89808
 2?utm_medium=referral&utm_source=ics&utm_campaign=ics\n\nゼロからわ
 かる！音声認識率の測り方\n概要\n音声認識率はどのよ
 うにして正しく測るのか音声認識開発エンジニアが、
 惜しみなく丁寧に教えます。\n・音声認識率とは・音
 声認識率の計算方法・音声認識率の測り方　　　ース
 テップごとに実演を交えてご説明します。　　　　1.
 音声の準備　　　　2.正解となるテキストの作成　　
 　　3.音声認識してテキストの準備　　　　4.表記ゆれ
 のチェック　　　　5.Pythonのライブラリ「JiWER」を使用
 した計測　　　　6.考察\nこのウェビナーでわかること
 \n\n音声認識率とは何か\n音声認識率の測り方\n計測時
 に気を付けること\n\n参加対象\n\n音声認識システムの
 企画・開発に興味がある方\n音声認識製品の導入を検
 討される方\n各社音声認識エンジンの認識率を比較し
 たい方\n音声認識エンジンの情報収集をされる方　な
 ど\n\n参加費\n無料\n場所\nZoom にて視聴\nお問い合わせ\n
 株式会社アドバンスト・メディア　ACP ウェビナー事務
 局Mail: ami-pfdo-webinar-ml@advanced-media.co.jp
LOCATION:オンライン（Zoom）
URL:https://techplay.jp/event/898082?utm_medium=referral&utm_source=ics&utm
 _campaign=ics
END:VEVENT
END:VCALENDAR
