BEGIN:VCALENDAR
VERSION:2.0
PRODID:-//https://techplay.jp//JP
CALSCALE:GREGORIAN
METHOD:PUBLISH
X-WR-CALDESC:30分でわかる！～新人教育をAI分析で改善しま
 せんか？
X-WR-CALNAME:30分でわかる！～新人教育をAI分析で改善しま
 せんか？
X-WR-TIMEZONE:Asia/Tokyo
BEGIN:VTIMEZONE
TZID:Asia/Tokyo
BEGIN:STANDARD
DTSTART:19700101T000000
TZOFFSETFROM:+0900
TZOFFSETTO:+0900
TZNAME:JST
END:STANDARD
END:VTIMEZONE
BEGIN:VEVENT
UID:898146@techplay.jp
SUMMARY:30分でわかる！～新人教育をAI分析で改善しません
 か？
DTSTART;TZID=Asia/Tokyo:20230401T000000
DTEND;TZID=Asia/Tokyo:20230430T230000
DTSTAMP:20260420T043657Z
CREATED:20230329T235557Z
DESCRIPTION:イベント詳細はこちら\nhttps://techplay.jp/event/89814
 6?utm_medium=referral&utm_source=ics&utm_campaign=ics\n\nこんなお悩
 み、ありませんか？\n・現場の指導方法がバラバラで
 、どうしているのか見えてこない...\n・人数が多過ぎ
 て個人個人の進捗率がわからない...\n・より早くフォ
 ローを入れたり、若手のつまずきに気づく等、もっと
 一人一人に合わせた指導をしたい...\nもう、思い込み
 で判断しない。\n新人を伸ばす教育に、“データ分析
 ”を！\n\n\nAIトーク構成分析で「型」を見極める“新
 しい営業指導”について、大企業での実例&ノウハウを
 知る30分！\n若手社員の離職理由のひとつに、**「納得
 感の低い指導や属人的な指導」**が多いと聞きます。\n
 また、リモートワークが普及し、指導のバラつきやス
 キルの見える化が難しくなったことで、“伸びにくい
 ”・“伸ばしづらい”環境が生まれてしまっているか
 も知れません。\nそこで、今回のウェビナーでは新人
 への営業教育において大切な3つの観点と指導方法をお
 伝えするとともに、AIトーク分析を活用した「客観的
 な評価」による指導方法をお伝えします。\n\n◆こんな
 方にオススメ◆\n・地方拠点、支店、部署にて営業指
 導を行なっている方・人材育成の責任者様、ご担当者
 の方\n\n【開催概要】\n＜日時＞【再配信】・4月3日（
 月）19:00~19:30・4月4日（火）15:00~15:30・4月5日（水）10:00
 ~10:30・4月7日（金）12:30~13:00・4月10日（月）13:30~14:00・4
 月11日（火）17:00~17:30・4月13日（木）11:30~12:00・4月13日
 （木）18:00~18:30・4月14日（金）09:30~10:00・4月19日（水）
 12:30~13:00・4月20日（木）18:00~18:30・4月24日（月）14:00~14:
 30・4月26日（水）13:00~13:30\n各回30分を予定しておりま
 す。日程が変更になる場合もございますので、最新情
 報は、弊社お申込みフォームよりご確認ください。\n
 ＜費用＞無料\n＜場所＞Zoom※開催日前日にメールにて
 、URLをご連絡します\n＜お申し込み方法＞当サイトよ
 りお申込みいただけます。弊社googleフォームによるエ
 ントリーも可能です。開催前日〜当日のお申込みは、
 開催情報通知が間に合わない可能性があるため、上記
 フォームからお申し込みいただきますようお願いいた
 します。\n＜登壇者＞河野 理愛   コグニティ株式会
 社　代表取締役\n＜プログラム＞1. AIトーク分析で営業
 部門の新人ケア！？2.沢山の新人を対象としたAI分析の
 使い方\n\n【注意事項】\n・企業向けのセミナーですの
 で、なるべく会社でのメールアドレスでご登録くださ
 い。\n・ウェビナー前日にURLメールが届かない場合は
 メールアドレスが誤って登録されている可能性がござ
 いますので、お手数ですが、こちらのフォーム（https:/
 /cognitee.com/contact）よりお問い合わせをお願いいたしま
 す。\n・メール指定受信を設定されている場合は、＜@c
 ognitee.com＞のドメイン設定を各自でお願いします。\n・
 ご登録いただいた個人情報は、Webinarに関するご連絡の
 他、製品資料の送付、新製品・サービス、イベントに
 関する情報提供のために利用させていただく場合がご
 ざいます。また、共同開催者への情報提供もございま
 す。ご登録いただいた時点でご同意いただく形になり
 ますことをご了承ください。プライバシーポリシー：h
 ttps://cognitee.com/about/5014
LOCATION:オンライン（ZOOM）
URL:https://techplay.jp/event/898146?utm_medium=referral&utm_source=ics&utm
 _campaign=ics
END:VEVENT
END:VCALENDAR
