BEGIN:VCALENDAR
VERSION:2.0
PRODID:-//https://techplay.jp//JP
CALSCALE:GREGORIAN
METHOD:PUBLISH
X-WR-CALDESC:ChatGPTの影響でこれから日本に起こる「AI」と
 「デジタル広告トレンド」～自動広告生成ツールOmneky
 の最新機能公開～
X-WR-CALNAME:ChatGPTの影響でこれから日本に起こる「AI」と
 「デジタル広告トレンド」～自動広告生成ツールOmneky
 の最新機能公開～
X-WR-TIMEZONE:Asia/Tokyo
BEGIN:VTIMEZONE
TZID:Asia/Tokyo
BEGIN:STANDARD
DTSTART:19700101T000000
TZOFFSETFROM:+0900
TZOFFSETTO:+0900
TZNAME:JST
END:STANDARD
END:VTIMEZONE
BEGIN:VEVENT
UID:898358@techplay.jp
SUMMARY:ChatGPTの影響でこれから日本に起こる「AI」と「デ
 ジタル広告トレンド」～自動広告生成ツールOmnekyの最
 新機能公開～
DTSTART;TZID=Asia/Tokyo:20230414T110000
DTEND;TZID=Asia/Tokyo:20230414T120000
DTSTAMP:20260423T164115Z
CREATED:20230331T065730Z
DESCRIPTION:イベント詳細はこちら\nhttps://techplay.jp/event/89835
 8?utm_medium=referral&utm_source=ics&utm_campaign=ics\n\nChatGPTの影響
 でこれから日本に起こる「AI」と「デジタル広告トレ
 ンド」～自動広告生成ツールOmnekyの最新機能公開～\n
 概要\n今回ウェビナーを開催する「Omneky社」は2021年か
 らOpenAIをはじめとする多様なAIを活用し、独自のプロ
 ダクト開発を行っていました。\nOmnekyのツールでは過
 去の広告配信データを元にクリエイティブ画像や広告
 コピーの自動生成や、コンピュータービジョンを活用
 したクリエイティブデザインの要素解析などのソリュ
 ーションを提供し、クライアントのクリエイティブ分
 析や広告運用にかかる工数を大幅に削減します。\nさ
 らに新機能として、チャットボットを活用したクリエ
 イティブブリーフ自動生成機能や、商品画像の背景を
 自動生成する機能なども追加される予定です。\nセミ
 ナー後半では先行してご覧いただける可能性がござい
 ます。\nライトアップは2021年4月から利用し、実際に広
 告運用において、AI・OmnekyがROAS（広告における費用対
 効果）の改善に繋がる事を立証してきました。\nそこ
 で今回、広告業界の方を中心に、AIを活用したクリエ
 イティブ作成、運用、仮説検証の考え方などについて
 具体的に説明いたします。\nコンテンツ・シリコンバ
 レーの自動生成AIビジネス最前線・Omnekyの特徴、最新
 機能のデモンストレーション・質疑応答\nサービスメ
 リット◆Omnekyの機能詳細\n機能1：Computer vision analytics(
 コンピュータービジョンによる分析)コンピュータービ
 ジョンを使用して、デザイン要素を定量化し、インサ
 イトを得ることができます。画像の特徴、動画の特徴
 、デザインの特徴、キーワードなど、広告経由の売上
 を促進するものを発見し、次の広告クリエイティブ生
 成を合理的に判断することができます。\n機能2：text-to
 -image(AIによる画像生成)生成したい画像を文章で入力す
 ることで、文章内にある単語や文脈をAIが理解し、文
 章通りの画像を0からAIが生成します。さらに、コンピ
 ュータービジョンの分析によって得られた単語や要素
 などのインサイトを元に、AI自身が入力する文章を生
 成することも可能。\n機能3：text-to-text(AIによるテキス
 ト生成)広告タイトルやディスクリプションに使用した
 い単語を入力することで、コンピュータービジョンの
 分析や広告に設定しているオーディエンスなどのデー
 タによって得られたインサイトを元に、AI自身が文章
 を生成することが可能。\n新機能：-dream-booth(製品画像
 の再学習)製品画像をAIに学習セットとしてトレーニン
 グをさせることにより、製品画像を0から再生成するこ
 とが可能。さらに、再生成する製品画像に対して任意
 の背景を自動生成することが可能となります。\n登壇
 者\n■登壇企業情報・Omneky Inc．https://www.omneky.com/本社
 ：3357 26th St San Francisco\, CA 94110代表者：CEO Senju hikari（
 千住 光）登壇者：竹花雄貴\n・株式会社ライトアップh
 ttps://www.writeup.jp/company/2002年4月5日設立2018年6月に東証
 グロース上場(証券コード:6580)登壇者：執行役員　小口
 裕也※必ずお読みください\n個人情報の取り扱いにつ
 いて【個人情報の取り扱いについて】ご記入・ご入力
 いただきましたお客様の個人情報は、下記利用目的の
 ために勉強会講師、共催企業各社が取得させていただ
 きます。個人情報の取扱いにつきましてご同意の上で
 、お申し込み頂けます様お願い申し上げます。・当勉
 強会の運営・各社が今後開催するイベント、セミナー
 等の内容改善及びご案内・各社からの製品、商品、サ
 ービス等のご案内・各社業務に関わる市場調査、商品
 ・サービス開発ご記入・ご入力いただいた個人情報に
 関する各社への開示・訂正・削除等の請求方法につき
 ましては各社ホームページをご参照下さい。
LOCATION:オンライン
URL:https://techplay.jp/event/898358?utm_medium=referral&utm_source=ics&utm
 _campaign=ics
END:VEVENT
END:VCALENDAR
