BEGIN:VCALENDAR
VERSION:2.0
PRODID:-//https://techplay.jp//JP
CALSCALE:GREGORIAN
METHOD:PUBLISH
X-WR-CALDESC:WEBでこだわるべきものは？マーケティングVSブ
 ランディング 【LENS ASSOCIATES共催】（無料オンライン開
 催）
X-WR-CALNAME:WEBでこだわるべきものは？マーケティングVSブ
 ランディング 【LENS ASSOCIATES共催】（無料オンライン開
 催）
X-WR-TIMEZONE:Asia/Tokyo
BEGIN:VTIMEZONE
TZID:Asia/Tokyo
BEGIN:STANDARD
DTSTART:19700101T000000
TZOFFSETFROM:+0900
TZOFFSETTO:+0900
TZNAME:JST
END:STANDARD
END:VTIMEZONE
BEGIN:VEVENT
UID:898954@techplay.jp
SUMMARY:WEBでこだわるべきものは？マーケティングVSブラ
 ンディング 【LENS ASSOCIATES共催】（無料オンライン開催
 ）
DTSTART;TZID=Asia/Tokyo:20230426T130000
DTEND;TZID=Asia/Tokyo:20230426T140000
DTSTAMP:20260423T051132Z
CREATED:20230405T012006Z
DESCRIPTION:イベント詳細はこちら\nhttps://techplay.jp/event/89895
 4?utm_medium=referral&utm_source=ics&utm_campaign=ics\n\n\nかっこい
 いデザインのサイトを作ったけど、売上に繋がらなか
 った\nマーケティングとデザイン、どちらに力を入れ
 たらいいか分からない\nデザインにこだわりたいけど
 、マーケティングにも力を入れたい。\n\nWebで集客やブ
 ランディングをするのは、今や当たり前となっていま
 す。\nしかし、実際に予算を使ってサイト制作をした
 ものの思ったような成果が出ないと感じている会社は
 少なくありません。\nそこで、**Webマーケティングを専
 門とする株式会社バリューエージェントの代表【上野
 山光雄】とデザインを専門とする株式会社レンズアソ
 シエイツの代表【矢野まさつぐ氏】**が「マーケティ
 ング×デザイン」についてのトークセッションを行い
 ます。\n登壇者紹介\n上野山光雄 (株式会社バリューエ
 ージェント)\n\n株式会社バリューエージェント　代表
 取締役WEBマーケッター/WEBコンサルタント上野山光雄\n
 専門学校を卒業後、店頭公開のITシステム会社にSEとし
 て就職。その後建築会社の営業で活躍し売上げ100億円
 超の企業で取締役を3年間経験。2005年に株式会社バリ
 ューエージェント設立。マーケティングシステム、店
 舗集客、WEBマーケティング事業で中小企業を中心に500
 社を超える集客サービスの導入実績あり。得意分野は
 、戦略作り、サイト改善、SEO。\n矢野まさつぐ氏 (株式
 会社レンズアソシエイツ)\n\n株式会社レンズアソシエ
 イツ 代表取締役CEO／クリエイティブディレクター矢野
  まさつぐ\n2014年1月6日（色の日）デザイン事務所３社
 を合体させる形でクリエイティブ集団、株式会社レン
 ズアソシエイツ設立。自社が手がける全てのブランデ
 ィング案件のクリエイティブディレクションを担当。
 想像・発想・決断・段取り・実行・改善のサイクルを
 圧倒的スピードで回転させることを意識したブランデ
 ィングを得意としている。代表を務めるレンズアソシ
 エイツは、カンヌライオンズ 国際クリエイティビティ
 ・フェスティバルでのグランプリ受賞など、国内外の
 多数の受賞歴があるブランディング専門のデザインフ
 ァーム。\n\n当日の流れ\n\n1.バリューエージェントおよ
 び上野山の紹介・実績\n2.レンズアソシエイツおよび矢
 野氏の紹介・実績\n3.トークセッション\n4.質疑応答\n
LOCATION:オンライン
URL:https://techplay.jp/event/898954?utm_medium=referral&utm_source=ics&utm
 _campaign=ics
END:VEVENT
END:VCALENDAR
