BEGIN:VCALENDAR
VERSION:2.0
PRODID:-//https://techplay.jp//JP
CALSCALE:GREGORIAN
METHOD:PUBLISH
X-WR-CALDESC:4/20(木)開催【大阪開催】中小企業のWEBマーケ
 ティングセミナー
X-WR-CALNAME:4/20(木)開催【大阪開催】中小企業のWEBマーケ
 ティングセミナー
X-WR-TIMEZONE:Asia/Tokyo
BEGIN:VTIMEZONE
TZID:Asia/Tokyo
BEGIN:STANDARD
DTSTART:19700101T000000
TZOFFSETFROM:+0900
TZOFFSETTO:+0900
TZNAME:JST
END:STANDARD
END:VTIMEZONE
BEGIN:VEVENT
UID:899105@techplay.jp
SUMMARY:4/20(木)開催【大阪開催】中小企業のWEBマーケティ
 ングセミナー
DTSTART;TZID=Asia/Tokyo:20230420T160000
DTEND;TZID=Asia/Tokyo:20230420T170000
DTSTAMP:20260424T162314Z
CREATED:20230406T010136Z
DESCRIPTION:イベント詳細はこちら\nhttps://techplay.jp/event/89910
 5?utm_medium=referral&utm_source=ics&utm_campaign=ics\n\n【大阪開催
 】中小企業のWEBマーケティングセミナー\n2020年にコロ
 ナ禍に入って以降、それまでより一層Webマーケティン
 グに力を入れ出したという企業は少なくありません。\
 nしかし、Webマーケティングは「予算や社内のリソース
 を使ったから」という理由で簡単に成果が出せる訳で
 もない、というのが現状です。\nそんな中、弊社バリ
 ューエージェントでは「まだ知名度が低い会社」や「
 月額予算が10~30万円程度の会社」で多くの実績を出し
 てきました。\nバリューエージェントの成功事例一覧\n
 \nそこで、今回は\n\n中小企業や知名度が少ない会社が
 どのようにWEBマーケティングを行っていくのか？\n知
 名度のない会社がWEBマーケティングを成功させるコツ\
 n実際の事例の詳細\n\nをご紹介します。\nなぜ、そのよ
 うな施策をとったのか、また何を行って、どのような
 結果になったのかをお伝えします。\n\n\n\n今から本格
 的にWEBマーケティングに力を入れたい\n\n\nWEB集客のセ
 オリーを学びたい\n\n\n制作会社・広告代理店が良い提
 案をしてくれない\n\n\n上記のような方は、ぜひセミナ
 ーにお越しください。\n\nセミナー講師について\n株式
 会社バリューエージェント　代表取締役\n上野山 光雄
 （WEBマーケッター/WEBコンサルタント）\n\n専門学校を
 卒業後、店頭公開のITシステム会社にSEとして就職、そ
 の後建築会社の営業で活躍。\n売上げ100億円超の企業
 で取締役を3年間経験。2005年に株式会社バリューエー
 ジェント設立。\nマーケティングシステム、店舗集客
 、WEBマーケティング事業で中小企業を中心に500社を超
 える集客サービスの導入実績。\n\nYouTube出演実績\n自社
 のYouTubeチャンネル「バリューチャンネル」では、合計
 500本以上の動画でWeb集客について解説を行っている。\
 n過去のセミナー・研修実績\n\nGoogleアナリティクスの
 使い方・分析方法研修\nWebマーケティングの基礎とSEO
 対策講座\n売れるホームページの作り方 12のポイント
 　吹田商工会議所\n集客と成約するホームページ作成
 セミナー　北大阪商工会議所主催\nＷeb販路開拓セミナ
 ー「有効なＷeb広告の出し方」豊中商工会議所\nWebで販
 路開拓を目指すセミナー　和歌山商工会議所\n自社開
 催＆クライアント先での研修\n売れるホームページ12の
 ポイントセミナー\n売れるランディングページ作成研
 修\nSEOに強いライティング研修\nGoogleアナリティクスを
 使って改善点を見つけ出す方法研修\n有効なツイッタ
 ー運用研修\n\n\nセミナー概要・お申込み\nセミナー名
 【大阪開催】中小企業のWEBマーケティングセミナー\n
 対象・経営者・Web担当者・バリューエージェントにつ
 いて、詳しく知りたい方\n日時2023年4月20日(木)　16:00～
 17:00（15:50受付開始）\n場所大阪市淀川区西中島３丁目9
 -12 空研ビル5F  バリューエージェント セミナールーム
 ※出席の確認もございますので、10分前にはご入室頂
 きますようお願いいたします。\n参加料3\,000円（当日
 現地払い）\n定員10名
LOCATION:バリューエージェント セミナールーム 大阪市淀
 川区 西中島３丁目9-12  空研ビル5F
URL:https://techplay.jp/event/899105?utm_medium=referral&utm_source=ics&utm
 _campaign=ics
END:VEVENT
END:VCALENDAR
