BEGIN:VCALENDAR
VERSION:2.0
PRODID:-//https://techplay.jp//JP
CALSCALE:GREGORIAN
METHOD:PUBLISH
X-WR-CALDESC:中部Tableauわいわい会 #15　テーマは「Tableauの
 学習について！」
X-WR-CALNAME:中部Tableauわいわい会 #15　テーマは「Tableauの
 学習について！」
X-WR-TIMEZONE:Asia/Tokyo
BEGIN:VTIMEZONE
TZID:Asia/Tokyo
BEGIN:STANDARD
DTSTART:19700101T000000
TZOFFSETFROM:+0900
TZOFFSETTO:+0900
TZNAME:JST
END:STANDARD
END:VTIMEZONE
BEGIN:VEVENT
UID:899253@techplay.jp
SUMMARY:中部Tableauわいわい会 #15　テーマは「Tableauの学習
 について！」
DTSTART;TZID=Asia/Tokyo:20230519T193000
DTEND;TZID=Asia/Tokyo:20230519T210000
DTSTAMP:20260419T193907Z
CREATED:20230407T020825Z
DESCRIPTION:イベント詳細はこちら\nhttps://techplay.jp/event/89925
 3?utm_medium=referral&utm_source=ics&utm_campaign=ics\n\n「中部Tableau
 わいわい会」開催します！\n\nテーマ\n今回は「Tableauの
 学習」に焦点を当てたわいわい会とします。当日の自
 己紹介では、「私のTableau学習方法」と題してコメント
 を頂く予定です。　※勉強方法に悩んでいる、こんな
 風に勉強している、ここで知識を仕入れてる　等\nま
 た、新たな企画「DATA Saber 中部コネクト」について幹
 事メンバーからご紹介します。\nDATA Saber 中部コネクト
 \n中部地区でDATA Saberを目指すための新しい取り組みで
 す。詳しい取り組み内容は同日から公開し、DATA Saberを
 目指す仲間を募集する予定です。また、中部地区のDATA
  Saberの交流の場ともなります。今回のわいわい会では
 、その初お披露目も兼ねています。\n開催日時\n2023年5
 月19日（金） 19:30開始（19時20分受付開始）～21:00終了
 予定\n※お申し込み完了後、本ページのお知らせ欄に
 てZOOMのURLが表示されます。\nタイムスケジュール\n\n\n\
 n時間\n内容\n\n\n\n\n19:20～19:30\n受付\n\n\n19:30～19:40\nはじ
 めに\n\n\n19:40～19:50\nDATA Saber 中部コネクトについて\n\n\
 n19:50～19:55\n仮名）Snowflake×Tableauハンズオン予告\n\n\n19:
 55～21:00\n自由にわいわい　※人数に応じてブレイクア
 ウトルームを作ります　最初に自己紹介（学習方法話
 してね）お願いします\n\n\n21:00\n解散\n\n\n\n参加対象\n\n
 Tableauについてみんなでワイワイしたい人\nTableauを触っ
 てる人、触りたい人、興味がある人\n\n中部圏以外の方
 の参加も大歓迎です！\n参加費\n無料\n参加者へのお願
 い\n・zoomの最新版をインストールの上ご参加ください
 。   (ブレイクアウトルームを使用するため、バージ
 ョン5.3以上が必須となります。)\n・当日は参加者の方
 の名前がわかるようzoom表示名を設定お願いいたします
 。\n・オフライン開催の雰囲気に近づけるため、参加
 中のカメラONを推奨いたします。   (開催中のカメラON
 は強制ではありません)\n・Tableauの特性上、社外秘デー
 タを取り扱っている場合も多くあるかと思いますので
 、社外の方に見せる場合にはテストデータを用意する
 等、ご注意願います。\n・エントリー時にアンケート
 にご協力ください。   ※個人情報利用についてのお
 断り      申込時にご提供いただいた情報は、主催
 者・JTUG・サポート企業にて、イベント受付管理や各種
 ご案内(サービス・イベント等)に利用させていただき
 ます。\n・イベント終了後にアンケートへのご協力を
 お願いいたします。\n・イベント当日の録画及び録音
 はご遠慮ください。
LOCATION:オンライン
URL:https://techplay.jp/event/899253?utm_medium=referral&utm_source=ics&utm
 _campaign=ics
END:VEVENT
END:VCALENDAR
