BEGIN:VCALENDAR
VERSION:2.0
PRODID:-//https://techplay.jp//JP
CALSCALE:GREGORIAN
METHOD:PUBLISH
X-WR-CALDESC:IBM九州DXセンター パートナー共創会議
X-WR-CALNAME:IBM九州DXセンター パートナー共創会議
X-WR-TIMEZONE:Asia/Tokyo
BEGIN:VTIMEZONE
TZID:Asia/Tokyo
BEGIN:STANDARD
DTSTART:19700101T000000
TZOFFSETFROM:+0900
TZOFFSETTO:+0900
TZNAME:JST
END:STANDARD
END:VTIMEZONE
BEGIN:VEVENT
UID:899276@techplay.jp
SUMMARY:IBM九州DXセンター パートナー共創会議
DTSTART;TZID=Asia/Tokyo:20230427T160000
DTEND;TZID=Asia/Tokyo:20230427T173000
DTSTAMP:20260420T105120Z
CREATED:20230407T041645Z
DESCRIPTION:イベント詳細はこちら\nhttps://techplay.jp/event/89927
 6?utm_medium=referral&utm_source=ics&utm_campaign=ics\n\nIBM九州DXセ
 ンターパートナー共創会議\n開催概要\n日本アイ・ビー
 ・エム株式会社（日本IBM）および日本アイ・ビー・エ
 ムデジタルサービス株式会社（IJDS）は、2022年11月に「
 IBM地域DXセンター」を福岡県北九州市に開設いたしま
 した。IBM地域DXセンターは、お客さまや地域の協力会
 社さま、地方自治体さまと共創しDXを推進する拠点と
 して展開しております。\nこの度、北九州市小倉の会
 場にてパートナー企業の皆さまをお招きし、IBM九州DX
 センターの概況についてのご報告や、パートナー企業
 の皆さまとの共創モデルについて共有・ディスカッシ
 ョンする会を開催する運びとなりました。年度始めの
 お忙しい時期かと存じますが、お繰り合わせの上、ご
 参加いただけますと幸甚です。\n【日時】2023年4月27日(
 木) 16:00-17:30 (懇親会* 17:40-18:30)【会場】COMPASS 小倉北九
 州市小倉北区浅野3丁目8番1号 AIM（アジア太平洋インポ
 ートマート）ビル6階JR小倉駅より徒歩5分\n＊会場の都
 合上1社様からの参加人数をご相談する場合がございま
 す。予めご了承お願いいたします。＊懇親会は任意参
 加、会費制を予定しております。\nスケジュール\n\n\n\n
 \n時間\n内容\n\n\n\n\n15:30〜\n受付開始\n\n\n16:00〜17:30\nIBM
 九州DXセンターパートナー共創会議・IBM九州DXセンター
 概況・パートナー共創モデルの推進\n\n\n17:40〜18:30\n懇
 親会*会費制にて懇親会予定\n\n\n\n登壇者\n\n山越 峰正\n
 日本アイ・ビー・エム株式会社IBMコンサルティング事
 業本部　顧問\n\n\n長川 智雪\n日本アイ・ビー・エムデ
 ジタルサービス株式会社取締役 地域DXセンター 事業部
 長\n\n\n古長 由里子\n日本アイ・ビー・エムデジタルサ
 ービス株式会社地域DXセンター 事業部 九州DXセンター
 長\n\n\n植原 健介\n日本アイ・ビー・エムデジタルサー
 ビス株式会社九州DXセンター 開発サービス本部 本部長
 \n\n参加対象\nシステム開発企業の営業/協業推進ご担当
 \n参加費\n無料\n注意事項\n\nリクルーティング、勧誘な
 ど、採用目的でのイベント参加はお断りしております
 。\n欠席される場合は、お手数ですが速やかにキャン
 セル処理をお願い致します。\n
LOCATION:COMPASS 小倉 北九州市小倉北区浅野3丁目8番1号 AIM
 （アジア太平洋インポートマート）ビル6階
URL:https://techplay.jp/event/899276?utm_medium=referral&utm_source=ics&utm
 _campaign=ics
END:VEVENT
END:VCALENDAR
