BEGIN:VCALENDAR
VERSION:2.0
PRODID:-//https://techplay.jp//JP
CALSCALE:GREGORIAN
METHOD:PUBLISH
X-WR-CALDESC:４/27（木）経営者/DX担当必見！ChatGPTがもたら
 すDX変革 ～今何がおきている？～ 12:00-13:30
X-WR-CALNAME:４/27（木）経営者/DX担当必見！ChatGPTがもたら
 すDX変革 ～今何がおきている？～ 12:00-13:30
X-WR-TIMEZONE:Asia/Tokyo
BEGIN:VTIMEZONE
TZID:Asia/Tokyo
BEGIN:STANDARD
DTSTART:19700101T000000
TZOFFSETFROM:+0900
TZOFFSETTO:+0900
TZNAME:JST
END:STANDARD
END:VTIMEZONE
BEGIN:VEVENT
UID:899429@techplay.jp
SUMMARY:４/27（木）経営者/DX担当必見！ChatGPTがもたらすDX
 変革 ～今何がおきている？～ 12:00-13:30
DTSTART;TZID=Asia/Tokyo:20230427T120000
DTEND;TZID=Asia/Tokyo:20230427T133000
DTSTAMP:20260419T211927Z
CREATED:20230408T101206Z
DESCRIPTION:イベント詳細はこちら\nhttps://techplay.jp/event/89942
 9?utm_medium=referral&utm_source=ics&utm_campaign=ics\n\n経営者/DX担
 当必見！ChatGPTがもたらすDX変革 ～今何がおきている
 ？～\n概要\n経営者・DX担当者必見！世界が注目するAI
 技術「ChatGPT」が、企業のDX変革を加速させる最前線を
 解説！今回のオンラインセミナーでは、ChatGPTを活用す
 ることで起こる業界横断的なイノベーションを、事例
 を交えて詳しく解説します。聞いておかないと、競合
 に遅れをとることは確実。参加して、業界リーダーと
 しての地位を築くための情報を得ましょう。\n本セミ
 ナーに参加することで、次世代のDX変革をリードする
 ための戦略や、市場環境における競争力を高めるヒン
 トを手に入れることができます。今、世界が注目するC
 hatGPTの最前線。あなたの経営戦略にどのように取り入
 れるかが、企業の成長を左右する鍵となります。この
 貴重な機会をお見逃しなく！お申し込みはお早めに！\
 nトピックス\n\n\nChatGPTとは？ChatGPTの概要と特徴\n\nChatGP
 Tの歴史と進化\nChatGPTアーキテクチャの特徴\n浮かび上
 がってきている問題\n\nデータセキュリティとプライバ
 シーの問題\n偏見や不正確さの問題\n倫理的な問題に基
 づいたChatGPTの利用\n\n\nOpenAI社から公開されているChatGP
 Tの今後の展望\n巷であふれるChatGPTのTopic\n\n\n\nデータ
 サイエンティストから見たChatGPTがDX業界に与えた衝撃\
 n\nDX業界にもたらした激震\n自然言語処理の可能性の拡
 大\n\n\n\nChatGPTを活用した例\n\n こんな使い方がされて
 いるよChatGPT\nChatGPTを活用したチャットボットの開発事
 例\nChatGPTを積極的に導入する企業\nChatGPTを禁止する動
 き\nサムアルトマンCEO、岸田首相に会う\n\n\n\nChatGPTが
 もたらす未来予想\n\n企業がChatGPTを導入していく可能
 性\nChatGPTが浸透していくことで考えられる懸念事項と
 は\n\n\n\n登壇者\n\n大城 信晃　Twitter\nNOB DATA株式会社 代
 表取締役社長\nNOB DATA株式会社代表取締役社長、データ
 サイエンティスト。2017年の東京から福岡への移住をき
 っかけにLINE Fukuoka(株)を経て起業。現在は福岡に拠点
 を置きつつもリモート環境を活用し、福岡のみならず
 東京・大阪・広島などのべ25社のデータサイエンスプ
 ロジェクトに参画。また本業と並行し、地方のデータ
 活用を盛り上げるべく2019年2月にデータサイエンティ
 スト協会九州支部委員会の立ち上げを行い、データサ
 イエンスの啓蒙活動を精力的に行っている。本イベン
 トの主催及び本書の企画・監修を務める。\n\n参加対象
 \n\n経営者・役員：企業のDX戦略を牽引し、競争力を高
 めるための最新情報を求める方。\nDX・IT担当者：企業
 内でデジタル変革を推進する役割を持ち、革新的な技
 術や事例を取り入れたい方。\nマーケティング・営業
 責任者：ChatGPTを活用した新たなビジネスモデルや顧客
 体験の向上を目指す方。\n研究開発・技術者：AI技術を
 活用した製品開発やサービス創出に関心がある方。\n
 スタートアップ経営者：革新的なビジネスアイデアを
 生み出すためのヒントを求める方。\n\nChatGPTの活用に
 興味があり、企業の成長と競争力向上に繋げたいと考
 えるあらゆる業界・職種の方々が対象です。\n参加費\n
 5\,000円/人\n※NOB DATAのメルマガ会員の方は無料です。
 「招待枠」からチケットを取得されてください。\n注
 意事項\n\nリクルーティング、勧誘など、採用目的での
 イベント参加はお断りしております。\nキャンセル待
 ち・補欠・落選の方はご参加いただくことが出来ませ
 んのでご了承ください。\n欠席される場合は、お手数
 ですが速やかにキャンセル処理をお願い致します。\n
 無断キャンセルや欠席が続く場合、次回以降の参加を
 お断りさせていただく場合がございます。\n
LOCATION:オンライン
URL:https://techplay.jp/event/899429?utm_medium=referral&utm_source=ics&utm
 _campaign=ics
END:VEVENT
END:VCALENDAR
