BEGIN:VCALENDAR
VERSION:2.0
PRODID:-//https://techplay.jp//JP
CALSCALE:GREGORIAN
METHOD:PUBLISH
X-WR-CALDESC:【4/19(水)15:00～無料ウェビナー】 「最近よく
 聞くけど実際どうなの？今からでも間に合うマーケテ
 ィングオートメーション入門編」
X-WR-CALNAME:【4/19(水)15:00～無料ウェビナー】 「最近よく
 聞くけど実際どうなの？今からでも間に合うマーケテ
 ィングオートメーション入門編」
X-WR-TIMEZONE:Asia/Tokyo
BEGIN:VTIMEZONE
TZID:Asia/Tokyo
BEGIN:STANDARD
DTSTART:19700101T000000
TZOFFSETFROM:+0900
TZOFFSETTO:+0900
TZNAME:JST
END:STANDARD
END:VTIMEZONE
BEGIN:VEVENT
UID:899549@techplay.jp
SUMMARY:【4/19(水)15:00～無料ウェビナー】 「最近よく聞く
 けど実際どうなの？今からでも間に合うマーケティン
 グオートメーション入門編」
DTSTART;TZID=Asia/Tokyo:20230419T150000
DTEND;TZID=Asia/Tokyo:20230419T154500
DTSTAMP:20260419T175748Z
CREATED:20230410T015754Z
DESCRIPTION:イベント詳細はこちら\nhttps://techplay.jp/event/89954
 9?utm_medium=referral&utm_source=ics&utm_campaign=ics\n\n概要\n加賀
 ソルネット株式会社（本社：東京都中央区、代表取締
 役社長：熊部 光洋）は4月19日（水）15時よりウェビナ
 ーを行います。アドビ株式会社 パートナーマネージ
 ャー後藤南斗様よりマーケティングオートメーション
 「Adobe Marketo Engage」のご紹介や基礎知識、導入成功事
 例をご紹介いただきます。\nウェビナー内容\n近年、イ
 ンターネットの発達によりお客様が自ら欲しい情報を
 得られるようになったことから、担当の営業へ直接連
 絡する機会も減ってきております。また、リモートワ
 ークが主流となりつつあることから訪問してもオフィ
 スにいない、対面でのコミュニケーションを制限され
 てしまうなど、これまでの手法ではお客様とのコミュ
 ニケーションを取ることが難しくなっています。こう
 した背景から、デジタル技術を駆使したマーケティン
 グ、営業に注力する企業が増えています。\n今回アド
 ビ様のご協力をいただき、マーケティングオートメー
 ションの基礎から、Adobe Marketo Engageを活用した『どの
 ようなマーケティング活動、営業活動が実現できるの
 か？』『対面での会話なくお客様と良好な関係をどの
 ようにして築くのか？』などをご紹介させていただき
 ます。\n初めてふれる方も概要がつかめるよう、基礎
 知識や成功事例などもご紹介します。ぜひご参加くだ
 さい。\n講師\n\n後藤南斗様\nアドビ株式会社 パートナ
 ーマネージャー\n新卒でアドビ株式会社に入社。 顧客
 体験基盤であるAdobe Experience Cloudを構成するアプリケー
 ションの一つであるAdobe Marketo Engageのパートナービジ
 ネスを統括。パートナービジネスの戦略立案から実際
 に現場での提案活動まで幅広く業務を手掛ける。Adobe M
 arketo Engageのウェビナー登壇の実績も多数あり。\n\n\nウ
 ェビナー概要\n●開催日時：2023年4月19日（水）15 : 00～
 15 : 45 （アクセス時間 14 : 45～）●会場：オンライン
 開催（zoom）※本セミナーはオンライン配信のみ（会場
 開催なし）で実施いたします。※お申込みいただいた
 後視聴用URLをお送りします。【ウェビナーサイトURL】h
 ttps://www.kgem.co.jp/adobe-marketo-engageweb20230419_seminar/adobe-marke
 to-engageweb20230419_seminar.html\n●アジェンダⅠ．  MAはなぜ
 必要なのかⅡ． Adobe Marketo Engageとは？Ⅲ．BtoB企業の
 先行導入事例\n参加費\n無料（どなたでもご参加いただ
 けます。）\n加賀ソルネット株式会社 EMカンパニーに
 ついて\nhttps://www.kgem.co.jp/\n教育機関向けにBYOD(個人PC販
 売)販売支援やApple・Adobe製品などの導入提案を行い、
 最適な製品選定からキッティング、納入、サポートま
 でワンストップサービスを提供しています。また同時
 に法人企業向けにも導入・販売を行い、常にお客様の
 ニーズに合った最適なITソリューションを提供してい
 ます。【Adobe Solution Partner】Adobe Solution Partnerの認定を
 受け、文教マーケットでの豊富な経験とノウハウを生
 かし、Adobe製品の導入ご支援からサポートまで、クオ
 リティの高いサービスをご提供いたします。【Apple VAR
 】Appleの正規販売代理店としてMacやiPadなどをただ納品
 するだけにとどまらず、お客様のご要望に合わせたキ
 ッティングを行ってからの出荷も行っております。
LOCATION:オンライン
URL:https://techplay.jp/event/899549?utm_medium=referral&utm_source=ics&utm
 _campaign=ics
END:VEVENT
END:VCALENDAR
