BEGIN:VCALENDAR
VERSION:2.0
PRODID:-//https://techplay.jp//JP
CALSCALE:GREGORIAN
METHOD:PUBLISH
X-WR-CALDESC:ChatGPTライトニングトーク！ちょっとChatGPT使っ
 てみた小話～NRIネットコム TECH AND DESIGN STUDY #6～
X-WR-CALNAME:ChatGPTライトニングトーク！ちょっとChatGPT使っ
 てみた小話～NRIネットコム TECH AND DESIGN STUDY #6～
X-WR-TIMEZONE:Asia/Tokyo
BEGIN:VTIMEZONE
TZID:Asia/Tokyo
BEGIN:STANDARD
DTSTART:19700101T000000
TZOFFSETFROM:+0900
TZOFFSETTO:+0900
TZNAME:JST
END:STANDARD
END:VTIMEZONE
BEGIN:VEVENT
UID:899776@techplay.jp
SUMMARY:ChatGPTライトニングトーク！ちょっとChatGPT使って
 みた小話～NRIネットコム TECH AND DESIGN STUDY #6～
DTSTART;TZID=Asia/Tokyo:20230427T123000
DTEND;TZID=Asia/Tokyo:20230427T130000
DTSTAMP:20260424T015316Z
CREATED:20230411T064932Z
DESCRIPTION:イベント詳細はこちら\nhttps://techplay.jp/event/89977
 6?utm_medium=referral&utm_source=ics&utm_campaign=ics\n\n概要\n今回
 のTECH & DESIGN STUDYのテーマは「ChatGPT」！今話題のChatGPT
 を活用している当社エンジニアによるライトニングト
 ークを2本お届けいたします。\n【1本目】ChatGPTに専門
 知識を与える！独自データを使ってChatGPTに回答しても
 らう方法\nChatGPTが最新データや独自データを読み込み
 、より適切な回答を導き出す手順について解説します
 。ChatGPTは学習に使用されたデータしか持っていないた
 め、最新の情報や独自の情報には対応できません。Chat
 GPTが最新データや独自データを利用できるようにする
 仕組みについて関心のある方は是非お聞きください！\
 n▼登壇者堤拓哉\n社会人2年目のインフラエンジニア。
 業務ではAWSを中心としたデータ分析基盤の構築や運用
 を担当。\nこれまで執筆したChatGPT関連ブログはこちら\
 nChatGPT APIとStreamlitを使って超簡単にAIアプリを作って
 みたhttps://tech.nri-net.com/entry/create_app_using_chatgpt\nChatGPTの
 機能を拡張するLangChainを試してみたhttps://tech.nri-net.com/
 entry/tried_langchain_to_extend_chatgpt\n▼こんな方におすすめ
 ・ChatGPTに興味がある方・ChatGPTを使いこなしたい方・Ch
 atGPTが正しい回答をしてくれなくて困っている方\n【2
 本目】ChatGPTを使ったCDKコーディングの強みと弱み、そ
 してその乗り越え方\nChatGPTが開発者のコーディング手
 法を変革しており、CDKのコーディングも例外ではあり
 ません。本テーマでは、ChatGPTを活用したCDKコーディン
 グの様々な側面を検討し、それらの利点と制約につい
 て解説します。また、これらの制約を克服するための
 方法を探ります。\n▼登壇者志水友輔\nAWS Top Engineer(2021
 )、APN ALL AWS Certifications Engineers (2021/2022)IaCが大好きなク
 ラウドアーキテクト\n▼こんな方におすすめ・IaCを利
 用している、利用を検討している方・ChatGPTとCDKの組み
 合わせに興味がある方・CDKの話で白ごはんが進む人\n
 ▼タイムスケジュール4/27（木）\n\n\n\n時間\n内容\n\n\n\n
 \n12:30～12:33\nオープニング\n\n\n12:35～12:55\n本編\n\n\n12:55
 ～13:00\nクロージング\n\n\n\n\n\n\n\n参加費\n無料\n注意事
 項\n\nイベントの内容やスケジュールは予告なく変更と
 なる場合があります。予めご了承下さい。\n映像や音
 声は参加者様の通信環境に依存します。なるべく通信
 環境の良い状態で視聴ください\n配信サービス側での
 トラブル発生時は予告なく中断されるおそれがありま
 す。予めご了承下さい。\n
LOCATION:オンライン
URL:https://techplay.jp/event/899776?utm_medium=referral&utm_source=ics&utm
 _campaign=ics
END:VEVENT
END:VCALENDAR
