BEGIN:VCALENDAR
VERSION:2.0
PRODID:-//https://techplay.jp//JP
CALSCALE:GREGORIAN
METHOD:PUBLISH
X-WR-CALDESC:SNS最新キャンペーン成功&失敗事例を超深掘り
 解説！【4月のピックアップ！】
X-WR-CALNAME:SNS最新キャンペーン成功&失敗事例を超深掘り
 解説！【4月のピックアップ！】
X-WR-TIMEZONE:Asia/Tokyo
BEGIN:VTIMEZONE
TZID:Asia/Tokyo
BEGIN:STANDARD
DTSTART:19700101T000000
TZOFFSETFROM:+0900
TZOFFSETTO:+0900
TZNAME:JST
END:STANDARD
END:VTIMEZONE
BEGIN:VEVENT
UID:900035@techplay.jp
SUMMARY:SNS最新キャンペーン成功&失敗事例を超深掘り解説
 ！【4月のピックアップ！】
DTSTART;TZID=Asia/Tokyo:20230426T120000
DTEND;TZID=Asia/Tokyo:20230426T130000
DTSTAMP:20260423T150747Z
CREATED:20230413T064525Z
DESCRIPTION:イベント詳細はこちら\nhttps://techplay.jp/event/90003
 5?utm_medium=referral&utm_source=ics&utm_campaign=ics\n\nお昼時間の
 お供に、最新のデジタルプロモーション知識を身につ
 けませんか‍♀️？キャンペーン提案や企画に欠かせ
 ない、トレンド事例をまるっと解説！今年の3月に行わ
 れたプロモーションを、キャンペーンづくりのプロが
 解説いたします！\n✅イベント概要\nNONAME Produceは、SNS/
 WEBプロモーションに強い制作会社です。これまで200以
 上の企画・制作を行なって参りました経験を活かし、
 世の中のプロモーション事例を日々研究することで常
 に最新の知識を発信し続けています。今回のYouTubeLIVE
 では、3月に行われた選りすぐりのキャンペーン事例を
 ピックアップし、どこよりも詳しく解説いたします！\
 n▼1月開催の様子はこちらhttps://www.youtube.com/watch?v=mupky9
 bV3aI\n配信中に、コメント欄からのご質問にお答えする
 ことも予定しております。休憩時間のお供に、お気軽
 にご参加ください！\n✏️解説予定の事例\n\n鬼ほめマ
 ッチョムービーメーカー｜JIMBEAM\nキャプテン翼｜ボー
 ルはともだちプロジェクト\n薬屋のひとりごと “猫猫
 のAR宝探し”キャンペーン｜大塚製薬\n隠れ節目祝い｜
 よなよなエール\nLINE応募 SAKURA SPECIAL EXPERIENCE｜スター
 バックス® チルドカップ\n佐賀を、遊びつくせ。佐賀
 ゲー｜サガプライズ！\nタイガー魔法瓶創立100周年特
 設サイト｜タイガー魔法瓶\n学研教室×らいよんチャン
  ダンスコンテスト｜Gakken\n\nこんな方におすすめ\n\nWeb&
 SNSキャンペーンのトレンドを知りたい方\nWeb&SNSキャン
 ペーン提案/企画をされている方\n広告代理店勤務の方\
 n自社のWeb&SNSキャンペーンに課題を感じている方\n\n日
 時\n2023年4月26日(水)12:00-\n 会場\n当日はYouTube Liveでの配
 信を予定しております。お申し込みいただきますと、
 配信がご覧いただけるようになります。\n\n 登壇者\n株
 式会社NONAME Produce 代表　村上烈早稲田大学在学中デザ
 インやWEB・イベントに関して独学で学び、在学中に株
 式会社NONAME Produceを設立。デジタルプロモーション領
 域におけるクリエイティブおよび広告制作を行ってき
 ました。その中でもコミュニケーション戦略や、キャ
 ンペーンシステムの設計を得意とし、 クリエイティブ
 ディレクターとしてキャンペーンの企画・制作進行を
 おこなっています。「どうしたら伝わるのか」「説得
 力ある伝わり方」などを整理整頓と想像力を使いなが
 ら形にしております。お酒とマンガとプロレスが好き
 。\nお気軽にご参加くださいませ！
LOCATION:オンライン
URL:https://techplay.jp/event/900035?utm_medium=referral&utm_source=ics&utm
 _campaign=ics
END:VEVENT
END:VCALENDAR
