BEGIN:VCALENDAR
VERSION:2.0
PRODID:-//https://techplay.jp//JP
CALSCALE:GREGORIAN
METHOD:PUBLISH
X-WR-CALDESC:量子コンピュータ時代のプログラミングセミ
 ナー ～Fixstars Amplifyで実装する 生産計画最適化～
X-WR-CALNAME:量子コンピュータ時代のプログラミングセミ
 ナー ～Fixstars Amplifyで実装する 生産計画最適化～
X-WR-TIMEZONE:Asia/Tokyo
BEGIN:VTIMEZONE
TZID:Asia/Tokyo
BEGIN:STANDARD
DTSTART:19700101T000000
TZOFFSETFROM:+0900
TZOFFSETTO:+0900
TZNAME:JST
END:STANDARD
END:VTIMEZONE
BEGIN:VEVENT
UID:900932@techplay.jp
SUMMARY:量子コンピュータ時代のプログラミングセミナー 
 ～Fixstars Amplifyで実装する 生産計画最適化～
DTSTART;TZID=Asia/Tokyo:20230518T140000
DTEND;TZID=Asia/Tokyo:20230518T160000
DTSTAMP:20260423T042945Z
CREATED:20230420T054132Z
DESCRIPTION:イベント詳細はこちら\nhttps://techplay.jp/event/90093
 2?utm_medium=referral&utm_source=ics&utm_campaign=ics\n\n量子コンピ
 ュータ時代のプログラミングセミナー\nFixstars Amplify で
 実装する 生産計画最適化\n概要\n量子コンピュータ時
 代を見据え、株式会社Fixstars Amplifyでは、量子アニーリ
 ング・イジングマシン向けクラウド基盤「Fixstars Amplify
 」を活用した、社会課題の解決と実業務への適用を進
 めています。\n本セミナーはワークショップの形式で
 、量子アニーリング・イジングマシンの力を無料版「F
 ixstars Amplify」を通じて体験していただきます。今回は
 生産計画作成の最適化をテーマとして取り扱います。
 量子アニーリング・イジングマシンに興味があるエン
 ジニアの方におすすめの内容となっております。\nぜ
 ひお気軽にご参加ください。\nタイムスケジュール\n\n\
 n\n時間\n内容\n\n\n\n\n14:00〜14:45\nフィックスターズの紹
 介組合せ最適化問題・イジングマシンの紹介Fixstars Ampl
 ifyの紹介\n\n\n14:45〜16:00\nFixstars Amplifyを用いた生産計画
 最適化ワークショップQ&A\n\n\n\n登壇者\n小林 隆之株式
 会社 Fixstars Amplifyシニアディレクター\n源 勇気株式会
 社 Fixstars Amplifyディレクター\n参加対象\nPythonの基本的
 な知識があるエンジニア、学生\n参加費\n無料\n参加方
 法\nオンライン（Zoomによる配信）\n※ 当日は予告なく
 時間配分・内容等が変更になる可能性があります。※ 
 途中入退室は可能です。※ Zoomの表示名はセミナーの
 申し込み時のお名前としてください。\n注意事項\n\nリ
 クルーティング、勧誘など、採用目的でのイベント参
 加はお断りしております。\n欠席される場合は、お手
 数ですが速やかにキャンセル処理をお願い致します。\
 n無断キャンセルや欠席が続く場合、次回以降の参加を
 お断りさせていただく場合がございます。\n同業者の
 方の参加はお断りする場合がございます。\n
LOCATION:オンライン
URL:https://techplay.jp/event/900932?utm_medium=referral&utm_source=ics&utm
 _campaign=ics
END:VEVENT
END:VCALENDAR
