BEGIN:VCALENDAR
VERSION:2.0
PRODID:-//https://techplay.jp//JP
CALSCALE:GREGORIAN
METHOD:PUBLISH
X-WR-CALDESC:【小売業様向け】「データ活用」の前にまず
 やるべきこと・選ぶべき基盤とは？～小売業のDX推進
 に向けた戦略的アプローチ～
X-WR-CALNAME:【小売業様向け】「データ活用」の前にまず
 やるべきこと・選ぶべき基盤とは？～小売業のDX推進
 に向けた戦略的アプローチ～
X-WR-TIMEZONE:Asia/Tokyo
BEGIN:VTIMEZONE
TZID:Asia/Tokyo
BEGIN:STANDARD
DTSTART:19700101T000000
TZOFFSETFROM:+0900
TZOFFSETTO:+0900
TZNAME:JST
END:STANDARD
END:VTIMEZONE
BEGIN:VEVENT
UID:900997@techplay.jp
SUMMARY:【小売業様向け】「データ活用」の前にまずやる
 べきこと・選ぶべき基盤とは？～小売業のDX推進に向
 けた戦略的アプローチ～
DTSTART;TZID=Asia/Tokyo:20230509T110000
DTEND;TZID=Asia/Tokyo:20230509T120000
DTSTAMP:20260423T215530Z
CREATED:20230420T073258Z
DESCRIPTION:イベント詳細はこちら\nhttps://techplay.jp/event/90099
 7?utm_medium=referral&utm_source=ics&utm_campaign=ics\n\n【小売業様
 向け】「データ活用」の前にまずやるべきこと・選ぶ
 べき基盤とは？～小売業のDX推進に向けた戦略的アプ
 ローチ～\n概要\n企業が扱うデータの急増に伴い、“ビ
 ッグデータ”の活用が企業競争力を大きく左右する時
 代になっています。具体的には「様々な店舗データ（P
 OS/在庫/気象 etc.）を使った需要予測/在庫最適化」「デ
 ータを活用した人材不足への対応」「データ活用人材
 の育成」など、データにまつわる施策が多くの企業様
 で検討・実行されています。\n一方、実際に施策を進
 める担当部署では、「対象となるデータをどのように
 準備/整理すべきか？」「既存のシステム構成で対応で
 きるのか？」といった課題をお持ちの方も多いのでは
 ないでしょうか？\n本セミナーでは、①データ活用の
 前にやるべきこと ②活用を実現するデータ基盤選定で
 考えるべきこと の2つをテーマに、小売業界における
 これまでのデータ活用トレンドや、これから求められ
 る「データ」へのアプローチ方法について、実際のユ
 ースケースを交えてご説明します。\nデータ処理に関
 する問題解決のスペシャリストであるノーチラス・テ
 クノロジーズと、「ビッグデータ+AI」の切り口で国内
 外の先端商材を発掘・提供するマクニカより、データ
 活用を実行に移すために必要な準備・データ基盤の検
 討方法を具体的に解説しますので、小売業のデジタル
 変革に向けた戦略的アプローチを知る機会としてぜひ
 ご参加ください。\nタイムスケジュール\n\n\n\n時間\n内
 容\n\n\n\n\n第1部\nノーチラス・テクノロジーズセッショ
 ン\n\n\n11:00～11:15\n小売業界のデータ活用での課題と成
 功のポイント\n\n\n11:15～11:25\n事例紹介\n\n\n11:25～11:30\nQ
 A\n\n\n第2部\nマクニカ セッション\n\n\n11:30～11:40\n小売
 業界におけるこれまでのデータ分析基盤の課題\n\n\n11:4
 0～11:50\n現代版データ分析基盤“データレイクハウス
 ”でできること\n\n\n11:50～11:55\n実際の移行ステップ/移
 行事例\n\n\n11:55～\nQA\n\n\n\n※ 当日予告なく時間配分・
 内容が変更になる可能性がございます。\n登壇者\n\n芳
 賀 荘鑑（はが しげみ）氏\n株式会社ノーチラス･テク
 ノロジーズ営業部\n約20年間 サン・マイクロシステム
 ズ、及びオラクルのサーバー部門でアカウント営業と
 して従事。その後仮想化ソフトウェアベンダー等を経
 て2017年より現職。\n\n\n\n山本 ありさ（やまもと あり
 さ）\n株式会社マクニカ　ネットワークス カンパニー
 データ＆アプリケーション事業部 1課\n小売・製造のお
 客様を中心に、ビッグデータ・AI活用におけるデータ
 処理基盤の選定、導入、運用までのご提案・営業支援
 に従事。\n\n参加対象\n\n小売業界で以下の領域をご担
 当の方\n\n社内のDX推進・ビッグデータ活用施策の検討\
 n基盤/インフラ管理部門におけるビッグデータ基盤導
 入・リプレースの検討\n生産技術・生産管理部門にお
 けるビッグデータ活用施策の検討\nAI開発部門における
 ビッグデータ基盤・モデル開発基盤の導入の検討\n\n\n\
 n参加費\n無料\n注意事項\n\n本ページ上部の「お申し込
 みはこちら」から必要情報をご登録ください。\n開催
 前日18時までに、オンラインセミナーへのログインURL
 をメールでご案内します。※\n開催当日、お時間とな
 りましたらログインURLよりアクセスいただき、ご聴講
 ください。\n\n※セキュリティポリシーなどの関係で届
 かない可能性がございます。届いていない場合は、data
 bricks-sales@macnica.co.jpまでご連絡ください。※ご聴講に
 はお申し込みが必須となります。ログインURLの共有は
 お控えください。\nお問い合わせ\n株式会社マクニカ　
 データブリックス担当\n\nメールでのお問い合わせ：dat
 abricks-sales@macnica.co.jp\n\n
LOCATION:オンライン
URL:https://techplay.jp/event/900997?utm_medium=referral&utm_source=ics&utm
 _campaign=ics
END:VEVENT
END:VCALENDAR
