BEGIN:VCALENDAR
VERSION:2.0
PRODID:-//https://techplay.jp//JP
CALSCALE:GREGORIAN
METHOD:PUBLISH
X-WR-CALDESC:データの効率的な操作方法を身につける 　全5
 回で学ぶSQL入門（1）～SQLとは～
X-WR-CALNAME:データの効率的な操作方法を身につける 　全5
 回で学ぶSQL入門（1）～SQLとは～
X-WR-TIMEZONE:Asia/Tokyo
BEGIN:VTIMEZONE
TZID:Asia/Tokyo
BEGIN:STANDARD
DTSTART:19700101T000000
TZOFFSETFROM:+0900
TZOFFSETTO:+0900
TZNAME:JST
END:STANDARD
END:VTIMEZONE
BEGIN:VEVENT
UID:901436@techplay.jp
SUMMARY:データの効率的な操作方法を身につける 　全5回
 で学ぶSQL入門（1）～SQLとは～
DTSTART;TZID=Asia/Tokyo:20230517T190000
DTEND;TZID=Asia/Tokyo:20230517T200000
DTSTAMP:20260423T003125Z
CREATED:20230423T073932Z
DESCRIPTION:イベント詳細はこちら\nhttps://techplay.jp/event/90143
 6?utm_medium=referral&utm_source=ics&utm_campaign=ics\n\nデータの効
 率的な操作方法を身につける 　全5回で学ぶSQL入門（1
 ）～SQLとは～\nクリーク･アンド･リバー社（C&R社）
 は、５月17日（水）に、データの効率的な操作方法に
 ついて全5回で学ぶSQL入門の1回目「SQLとは」を実施し
 ます。\nSQL（Structured Query Language）は、データベースの
 操作やデータ分析、ウェブサイトやアプリケーション
 との連携など、様々な用途に使われるプログラミング
 言語です。\n全5回で学ぶSQL入門ウェビナーシリーズで
 は、SQLとはなにか、基本的な命令文、データベースの
 構造、データベースからデータを取り出すための構文
 の使い方など、後半は演習をしながらSQLの操作方法の
 基礎を身につけて行きます。\n今回の「SQL入門（1）～S
 QLとは～」では、SQLでなにかできるのか、SQLが必要な
 データベースについてお話をさせていただきます。2回
 目以降に実施する内容についてもご説明させていただ
 きますので、是非継続してご参加ください。\n▼こん
 なことをお話します！\n\nSQLとは？\nSQLで何ができるか
 ？（Excelとの違い、メリット/デメリット）\nSQLが必要
 なデータベース\n今後のSQL入門ウェビナーの内容につ
 いて\n\n\n▼こんな方にオススメ！\n\nSQLについて理解を
 深めたい方\nWeb広告に携わっている方や企画担当の方\n
 Webディレクター、マーケッターからデジタル領域に仕
 事の幅を広げたいとお考えの方\nメルマガの運用や、
 エクセルでのデータ集計などに携わっていらっしゃる
 オペレーターの方\n事務職からのスキルアップ・転職
 を目指している方\n\n\n▼今後の予定\n6月実施予定：SQL
 の基礎知識7月実施予定：Select文を使ってみよう（演習
 を予定しています）8月実施予定：Insert、Update、Deleteを
 使ってみよう（演習を予定しています）9月実施予定：
 VBAでSQLを使ってみよう（演習を予定しています）\nタ
 イムスケジュール\n\n\n\n時間\n内容\nspeaker\n\n\n\n\n19：00
 ～19：05\nオープニング\nC&R社\n\n\n19：05～19：50\n講演\n
 黒田文彦 氏\n\n\n19：50～20：00\n質疑応答\n\n\n\n20：00～\n
 クロージング\n\n\n\n\n※ 当日予告なく時間配分・内容
 が変更になる可能性がございます。\n登壇者\n黒田　文
 彦（くろだ・ふみひこ）氏\nシステムエンジニア、中
 小企業診断士（埼玉県中小企業診断協会）。\nシステ
 ムエンジニアとして、官公庁、自動車、住宅、半導体
 、金融など20社以上のシステムの開発・運用案件に従
 事。\n販売管理、在庫管理、生産管理、検収など、担
 当したシステムも多岐に渡る。\n得意言語はJava、Visual 
 Basic .net、PL/SQLなど\n\n参加対象\n・Webディレクター、マ
 ーケッター Webの運用担当者、など、Webにかかわる仕事
 をされているクリエイターの方々　でデジマ領域に転
 職を考えている方。・事務職として、エクセルを使っ
 たデータ集計などのオペレーション業務からのキャリ
 アアップをご検討中の方\n参加費\n無料\n当ウェビナー
 について\n\n\nこちらのサイト からもお申込みいただ
 くことができます。\n\n▼C&R社で実施しているオンライ
 ン講座・ウェビナー　一覧ページhttps://www.c-place.ne.jp/
LOCATION:オンライン
URL:https://techplay.jp/event/901436?utm_medium=referral&utm_source=ics&utm
 _campaign=ics
END:VEVENT
END:VCALENDAR
