BEGIN:VCALENDAR
VERSION:2.0
PRODID:-//https://techplay.jp//JP
CALSCALE:GREGORIAN
METHOD:PUBLISH
X-WR-CALDESC:〜〜30分でわかる！～【大企業向け】 新人教
 育をAI分析で改善しませんか？
X-WR-CALNAME:〜〜30分でわかる！～【大企業向け】 新人教
 育をAI分析で改善しませんか？
X-WR-TIMEZONE:Asia/Tokyo
BEGIN:VTIMEZONE
TZID:Asia/Tokyo
BEGIN:STANDARD
DTSTART:19700101T000000
TZOFFSETFROM:+0900
TZOFFSETTO:+0900
TZNAME:JST
END:STANDARD
END:VTIMEZONE
BEGIN:VEVENT
UID:901691@techplay.jp
SUMMARY:〜〜30分でわかる！～【大企業向け】 新人教育をA
 I分析で改善しませんか？
DTSTART;TZID=Asia/Tokyo:20230501T000000
DTEND;TZID=Asia/Tokyo:20230531T230000
DTSTAMP:20260420T222352Z
CREATED:20230425T062326Z
DESCRIPTION:イベント詳細はこちら\nhttps://techplay.jp/event/90169
 1?utm_medium=referral&utm_source=ics&utm_campaign=ics\n\n『それぞれ
 の現場でどのように指導されているのか本部からわか
 らない』\n『せっかく取った新人の進捗率がわからな
 い』\nなどのお悩みをお持ちの会社様はいらっしゃい
 ませんか？\nそのお悩みをAI分析で解決します！\n今回
 は約70人の新人社員がいる会社様の導入事例も合わせ
 て紹介いたしますので、新人を多く抱える大規模な会
 社様必見のウェビナーとなっております！\n～AI分析か
 らわかること～\n新入社員の現場配属前に指導現場が
 直面する問題に\nそれぞれ上司によって指導方法が違
 う【指導のばらつき】\n練習のためのロープレだけで
 はスキルの定着率がわかりにくい【スキルが測れない
 】\nなどがあげられます。\nそこでぜひ弊社のAI分析を
 活用していただきたいです！\n今まで250社4万人以上に
 ご利用いただいたCOG-SALESではこれまで曖昧で暗黙知だ
 った営業トークを12の観点、25の分析でそれぞれ細かく
 トークの【中身】を分析します！\n～会社様の規模別
 の導入事例～\nCOG-SALESの導入、活用方法も会社様の規
 模によって異なります。それぞれの会社様に一番適切
 な形で分析を入れさせて頂いております。\n一例では
 ありますが、大規模な会社様にはまず、指導者側の分
 析から始めていただいております。始めに既存の社内
 の『型』を分析することが指導の定量化に繋がり、新
 人指導のばらつきを減らすことができます。\n\n新年度
 になった今、社内の『型』をぜひ一度分析してみませ
 んか？\n【開催概要】\n＜日時＞【再配信】・5月10日（
 水）10:00-10:30\n・5月11日（木）13:00-13:30\n・5月18日（木
 ）17:00-17:30\n・5月22日（月）12:30-13:00\n・5月23日（火）16
 :00-16:30\n・5月26日（金）19:00-19:30\n各回30分を予定して
 おります。日程が変更になる場合もございますので、
 最新情報は、弊社お申込みフォームよりご確認くださ
 い。\n＜費用＞無料\n＜場所＞Zoom※申し込み完了メー
 ルにて、URLをご連絡します。\n＜お申し込み方法＞当
 サイトよりお申込みいただけます。弊社googleフォーム
 によるエントリーも可能です。開催前日〜当日のお申
 込みは、開催情報通知が間に合わない可能性があるた
 め、上記フォームからお申し込みいただきますようお
 願いいたします。\n＜登壇者＞河野 理愛   コグニテ
 ィ株式会社　代表取締役\n＜プログラム＞1. AIトーク分
 析で営業部門の新人ケア！？2.沢山の新人を対象とし
 たAI分析の使い方\n\n【注意事項】\n・企業向けのセミ
 ナーですので、なるべく会社でのメールアドレスでご
 登録ください。\n・ウェビナー前日にURLメールが届か
 ない場合はメールアドレスが誤って登録されている可
 能性がございますので、お手数ですが、こちらのフォ
 ーム（https://cognitee.com/contact）よりお問い合わせをお願
 いいたします。\n・メール指定受信を設定されている
 場合は、＜@cognitee.com＞のドメイン設定を各自でお願い
 します。\n・ご登録いただいた個人情報は、Webinarに関
 するご連絡の他、製品資料の送付、新製品・サービス
 、イベントに関する情報提供のために利用させていた
 だく場合がございます。また、共同開催者への情報提
 供もございます。ご登録いただいた時点でご同意いた
 だく形になりますことをご了承ください。プライバシ
 ーポリシー：https://cognitee.com/about/5014\n\n★コグニティ
 は「ＨＲアワード2022」人材開発・育成部門にて最優秀
 賞受賞★\n詳細はこちら：https://cognitee.com/news/11236\n日
 本の人事部「HRアワード2022」（後援：厚生労働省）で
 、コグニティのAI分析サービス「COG-COACH」が「人材開
 発・育成部門」にて最優秀賞を受賞しました！「COG-COA
 CH（コグ・コーチ）」は1on1スキルをAI分析で可視化、
 上司の指導力を強化します。\n受賞を記念して、コー
 チングに関するプロ企業3社とのコラボ回をまとめたウ
 ェビナーを配信いたします。反響が良かった過去回、4
 時間分の重要なトピックをぎゅっと1時間に凝縮してお
 ります。詳しくはこちらから\n\n10月13日（水）赤坂イ
 ンターシティコンファレンスにて開催された表彰式
LOCATION:オンライン（ZOOM）
URL:https://techplay.jp/event/901691?utm_medium=referral&utm_source=ics&utm
 _campaign=ics
END:VEVENT
END:VCALENDAR
