BEGIN:VCALENDAR
VERSION:2.0
PRODID:-//https://techplay.jp//JP
CALSCALE:GREGORIAN
METHOD:PUBLISH
X-WR-CALDESC:導入した業務支援システムをより効率的に生
 かす！ 〜AIトーク分析機能と連携した強化事例をご紹
 介〜
X-WR-CALNAME:導入した業務支援システムをより効率的に生
 かす！ 〜AIトーク分析機能と連携した強化事例をご紹
 介〜
X-WR-TIMEZONE:Asia/Tokyo
BEGIN:VTIMEZONE
TZID:Asia/Tokyo
BEGIN:STANDARD
DTSTART:19700101T000000
TZOFFSETFROM:+0900
TZOFFSETTO:+0900
TZNAME:JST
END:STANDARD
END:VTIMEZONE
BEGIN:VEVENT
UID:901746@techplay.jp
SUMMARY:導入した業務支援システムをより効率的に生かす
 ！ 〜AIトーク分析機能と連携した強化事例をご紹介〜
DTSTART;TZID=Asia/Tokyo:20230501T000000
DTEND;TZID=Asia/Tokyo:20230531T230000
DTSTAMP:20260421T045648Z
CREATED:20230425T084610Z
DESCRIPTION:イベント詳細はこちら\nhttps://techplay.jp/event/90174
 6?utm_medium=referral&utm_source=ics&utm_campaign=ics\n\nマーケティ
 ング活動、顧客管理、人材育成を手助けするツールの
 導入は広く浸透しました。\nしかしそれらの業務ツー
 ルは社内でしっかり活用されていますか？\n従業員の
 活動量を記録するだけのツールになってしまっている
 企業様も多いのではないでしょうか？\nAIトーク分析機
 能と連携することで、\nそれらのツールは、記録係だ
 けに止まらない、\n営業力強化に役立つ情報をもたら
 すソリューションになります！\nこれからの施策を練
 る際に、参考にしていただける情報をお届けします。
 ぜひご参加ください！\n＜日時＞\n【再配信】\n・5月10
 日（水）14:00-15:00\n・5月16日（火）17:00-18:00\n・5月19日
 （金）09:30-10:30\n・5月23日（火）19:00-20:00\n・5月25日（
 木）12:30-13:30\n・5月29日（月）17:00-18:00\n・5月30日（火
 ）14:30-15:30\n各回１時間を予定しております。詳しい日
 程は、弊社お申込みフォームをご確認ください。\n＜
 場所＞\nZoom※申し込み完了メールにて、URLをご連絡し
 ます。\n＜お申し込み方法＞\n当サイトからお申込みい
 ただけます。弊社googleフォームによるエントリーも可
 能です。開催前日〜当日のお申込みは、開催情報通知
 が間に合わない可能性があるため、上記フォームから
 お申し込みいただきますようお願いいたします。\nプ
 ログラム\n1. 営業サポートソリューションの広がりと
 既存アプローチの限界2. 既存ソリューション範囲”外
 ”の数値化3. パフォーマンス管理と業績向上施策：事
 例4. 質疑応答・お知らせ\n登壇者\n河野　理愛　コグニ
 ティ株式会社　代表取締役\n料金\n無料\n注意事項\n・
 本ウェビナーはお申込みいただくことで無料でご視聴
 いただけます。視聴の際の通信料につきましては、各
 個人のご負担となります。\n・ウェビナー前日にURLメ
 ールが届かない場合はメールアドレスが誤って登録さ
 れている可能性がございますので、お手数ですが、こ
 ちらのフォーム（https://cognitee.com/contact）よりお問い合
 わせをお願いいたします。\n・メール指定受信を設定
 されている場合は、＜@cognitee.com＞のドメイン設定を各
 自でお願いします。\n・ご登録いただいた個人情報は
 、Webinarに関するご連絡の他、製品資料の送付、新製品
 ・サービス、イベントに関する情報提供のために利用
 させていただく場合がございます。また、共同開催者
 への情報提供もございます。ご登録いただいた時点で
 ご同意いただく形になりますことをご了承ください。
 プライバシーポリシー：https://cognitee.com/about/5014\n\n★
 コグニティは「ＨＲアワード2022」人材開発・育成部門
 にて最優秀賞受賞★\n詳細はこちら：https://cognitee.com/ne
 ws/11236\n日本の人事部「HRアワード2022」（後援：厚生労
 働省）で、コグニティのAI分析サービス「COG-COACH」が
 「人材開発・育成部門」にて最優秀賞を受賞しました
 ！「COG-COACH（コグ・コーチ）」は1on1スキルをAI分析で
 可視化、上司の指導力を強化します。\n受賞を記念し
 て、コーチングに関するプロ企業3社とのコラボ回をま
 とめたウェビナーを配信いたします。反響が良かった
 過去回、4時間分の重要なトピックをぎゅっと1時間に
 凝縮しております。詳しくはこちらから\n\n10月13日（
 水）赤坂インターシティコンファレンスにて開催され
 た表彰式
LOCATION:オンライン（ZOOM）
URL:https://techplay.jp/event/901746?utm_medium=referral&utm_source=ics&utm
 _campaign=ics
END:VEVENT
END:VCALENDAR
