BEGIN:VCALENDAR
VERSION:2.0
PRODID:-//https://techplay.jp//JP
CALSCALE:GREGORIAN
METHOD:PUBLISH
X-WR-CALDESC:【オーガニック×広告】SNSで認知獲得を最大化
 させるWEBマーケティング戦略をご紹介！
X-WR-CALNAME:【オーガニック×広告】SNSで認知獲得を最大化
 させるWEBマーケティング戦略をご紹介！
X-WR-TIMEZONE:Asia/Tokyo
BEGIN:VTIMEZONE
TZID:Asia/Tokyo
BEGIN:STANDARD
DTSTART:19700101T000000
TZOFFSETFROM:+0900
TZOFFSETTO:+0900
TZNAME:JST
END:STANDARD
END:VTIMEZONE
BEGIN:VEVENT
UID:901896@techplay.jp
SUMMARY:【オーガニック×広告】SNSで認知獲得を最大化さ
 せるWEBマーケティング戦略をご紹介！
DTSTART;TZID=Asia/Tokyo:20230510T140000
DTEND;TZID=Asia/Tokyo:20230510T150000
DTSTAMP:20260419T220655Z
CREATED:20230426T130355Z
DESCRIPTION:イベント詳細はこちら\nhttps://techplay.jp/event/90189
 6?utm_medium=referral&utm_source=ics&utm_campaign=ics\n\n【オーガニ
 ック×広告】SNSで認知獲得を最大化させるWEBマーケテ
 ィング戦略をご紹介！\n– 当日のプログラム–\n第一
 部（14:00-14:25）（仮）:株式会社BESW\nSNS戦略に最適なオ
 ーガニックマーケティングの必勝法とは\nSNS広告の種
 類が多様化してきた現在、ローコストで長期的な効果
 をあげられるオーガニックマーケティングに注目が集
 まっています。しかし、各SNSのアルゴリズムは異なっ
 た働きをするため、仕組みを理解することは簡単なこ
 とではありません。ここでは各SNSの特徴や運用方法を
 、最新事例も交えて解説しながら、認知獲得を最大化
 させる活用術をご紹介いたします！\n– こんな方にお
 すすめです –\n\n費用をかけずに集客・売上増加につ
 なげたい方\n今後、SNS集客を強化していきたい方\nSNSア
 カウントの戦略にお悩みの方\n集客にお困りのマーケ
 ティング担当者\nSNSを効果的に活用したい方 \n\n– こ
 んなことが学べます –\n\nSNSの運用戦略の立て方\nSNS(Tw
 itter/Instagram/TikTok)を活用した成功事例・SNS最新動向\n\n
 ー スピーカー ー\n田中 千晶（Tanaka Chiaki）株式会社BESW
  代表取締役2009年、大学在学中に会社を設立し、1年半
 で大手企業、中小企業50社と取引をする。Webプロモー
 ション支援を得意とし、特にSNS活用支援で多くの実績
 をもつ。2012年から全国各地でセミナーを精力的に実施
 。シリコンバレーのFacebook本社やTwitter本社へ毎年出向
 いて直接SNSの最先端情報を仕入れてきている。角川出
 版社、マイナビ社、技術評論社、翔泳社、インプレス
 社でマーケティング支援の書籍を6冊出版。連載も7社
 で行う。自身のラジオ番組、パーソナリティとしても
 活動し、SNSの最新情報を届けている\n\n第二部（14:25-14:
 50）（仮）:株式会社カルテットコミュニケーションズ\
 nSNS広告(Twitter・Facebook・Instagram・TikTok)を活用したWEB集
 客のすべて\nSNS広告(Twitter・Facebook・Instagram・TikTok)の広
 告運用の基礎から運用のコツまでお伝えします。媒体
 の選び方や運用のコツなどを知れば、自社のWEB集客の
 強い味方になります。ぜひ今回のセミナーで、SNS広告
 の活用方法を学んでください。\n– こんな方におすす
 めです –\n\n「SNS広告ってそもそもなに？」\n「SNS広告
 を運用する際のコツを知りたい」\n「SNS広告をやりた
 いけどどの媒体を選べば良いかわからない」\n\n– こ
 んなことが学べます –\n\nSNS広告とは？という基礎的
 な内容から、媒体の選び方や運用のコツなど、基礎か
 ら発展まで学べるセミナーです！\n\nー スピーカー ー\
 n柴田　卓真(Shibata Takuma)株式会社カルテットコミュニ
 ケーションズ経営企画部前職では広告代理店で、大手
 エンタメ企業の広告運用やSNS運用、SEOなど幅広く従事
 。カルテットへ中途入社してからは、コンサル部で毎
 月約40社のお客様の広告運用を担当。現在は経営企画
 部で自社のリード獲得や、カルテットのオウンドメデ
 ィアである「知っ得ブログ」を中心としたコンテンツ
 マーケティングなどを担当。ジャズが大好きで大学時
 代はビッグバンドで日本一も経験。\n– 詳細 –\n【日
 程】2023年5月10日(水)14:00~15:00\n【タイムスケジュール】
 ・14:00-14:25　第一部：BESW（仮）・14:25-14:50　第二部：
 株式会社カルテットコミュニケーションズ（仮）・14:5
 0-15:00　アンケート案内＆質疑応答（仮）\n【定員】100
 名\n【開催場所】オンライン配信(Zoom）\n【参加費】無
 料\n【注意事項】\n\nWEBのみの開催となりますので、ご
 了承ください。エントリーいただいた方に、前日まで
 にWEBセミナー開催のURLをお送りします。※WEBツール：Z
 oom\n競合、同業社様のご参加はお断りいたします。\nお
 申し込み後にやむを得ずご欠席される場合は、お手数
 ですが前日までに（info@bes-japan.jp　担当:笹本）宛にご
 連絡ください。\n\n\n\nリクルーティング、勧誘など、
 採用目的でのイベント参加はお断りしております。\n
 キャンセル待ち・補欠・落選の方はご参加いただくこ
 とが出来ませんのでご了承ください。\n欠席される場
 合は、お手数ですが速やかにキャンセル処理をお願い
 致します。\n無断キャンセルや欠席が続く場合、次回
 以降の参加をお断りさせていただく場合がございます
 。\n
LOCATION:オンライン
URL:https://techplay.jp/event/901896?utm_medium=referral&utm_source=ics&utm
 _campaign=ics
END:VEVENT
END:VCALENDAR
