BEGIN:VCALENDAR
VERSION:2.0
PRODID:-//https://techplay.jp//JP
CALSCALE:GREGORIAN
METHOD:PUBLISH
X-WR-CALDESC:EC×Instagram！効果最大化させるポイント解説セ
 ミナー 5/16
X-WR-CALNAME:EC×Instagram！効果最大化させるポイント解説セ
 ミナー 5/16
X-WR-TIMEZONE:Asia/Tokyo
BEGIN:VTIMEZONE
TZID:Asia/Tokyo
BEGIN:STANDARD
DTSTART:19700101T000000
TZOFFSETFROM:+0900
TZOFFSETTO:+0900
TZNAME:JST
END:STANDARD
END:VTIMEZONE
BEGIN:VEVENT
UID:902162@techplay.jp
SUMMARY:EC×Instagram！効果最大化させるポイント解説セミナ
 ー 5/16
DTSTART;TZID=Asia/Tokyo:20230516T140000
DTEND;TZID=Asia/Tokyo:20230516T150000
DTSTAMP:20260420T105930Z
CREATED:20230428T030157Z
DESCRIPTION:イベント詳細はこちら\nhttps://techplay.jp/event/90216
 2?utm_medium=referral&utm_source=ics&utm_campaign=ics\n\n概要\n近年SN
 Sの普及率が急激に高まり、ECサイトでの売上アップに
 おいても非常に重要な役割を担っています。\nしかし
 運用はしているが、なかなか成果に繋がらないとお悩
 みの企業様も多いのではないでしょうか。また、これ
 から始めようとしているが効果が出るか不安を抱えて
 いる企業様もいらっしゃるかと思います。\nそこで本
 セミナーでは、ECサイトとInstagramを活用して効果を最
 大化させる秘訣をお伝えします。InstagramとECサイトの
 正しい活用法を理解していただき、売上アップにお役
 立てください。\n以下に当てはまる企業の方にお勧め
 をしております。・ECサイトを立ち上げたい企業様・E
 Ｃサイトの売上にお悩みの企業様・Instagramの運用を始
 めたい企業様・Instagramを運用しているが効果的な活用
 が分からない企業様\n第1部：売上に繋がるECサイト構
 築における2つのポイント（株式会社ブリッジコーポレ
 ーション）第2部：今日からできる！Instagramで認知拡大
 する活用術（株式会社トリドリ）\n登壇者\n藤木 園実\n
 株式会社ブリッジコーポレーションマーケティング事
 業本部　プロデュースグループ\n前職のユニクロでは
 本部で海外の商品企画を担当。ブリッジコーポレーシ
 ョンではコンサルティング営業を経て、現在はマーケ
 ティングを担当し、WEB広告・ウェビナー・SNS等のリー
 ド施策を担当。\n\n白井 淳美\n株式会社トリドリプラッ
 トフォーム事業部　セールスチーム\n前職では飲食店
 で責任者を経験。外販のマーケティング領域を兼任す
 る中で、SNSの重要性やポテンシャルを再確認し、トリ
 ドリに転職。現在はセールスチームで人材育成・セミ
 ナー開催・クライアントサポート等に従事し、様々な
 業種のSNS周りのコンサルティングを行っている。\n参
 加対象\n販促・マーケティングご担当の方尚、競合他
 社の参加は、ご遠慮ください。\n参加費\n無料\n注意事
 項\n\nリクルーティング、勧誘など、採用目的でのイベ
 ント参加はお断りしております。\nキャンセル待ち・
 補欠・落選の方はご参加いただくことが出来ませんの
 でご了承ください。\n欠席される場合は、お手数です
 が速やかにキャンセル処理をお願い致します。\n無断
 キャンセルや欠席が続く場合、次回以降の参加をお断
 りさせていただく場合がございます。\n
LOCATION:オンライン
URL:https://techplay.jp/event/902162?utm_medium=referral&utm_source=ics&utm
 _campaign=ics
END:VEVENT
END:VCALENDAR
