BEGIN:VCALENDAR
VERSION:2.0
PRODID:-//https://techplay.jp//JP
CALSCALE:GREGORIAN
METHOD:PUBLISH
X-WR-CALDESC:【初心者向け】SEOを始めるにあたって抑えて
 おくべきポイントとは！？
X-WR-CALNAME:【初心者向け】SEOを始めるにあたって抑えて
 おくべきポイントとは！？
X-WR-TIMEZONE:Asia/Tokyo
BEGIN:VTIMEZONE
TZID:Asia/Tokyo
BEGIN:STANDARD
DTSTART:19700101T000000
TZOFFSETFROM:+0900
TZOFFSETTO:+0900
TZNAME:JST
END:STANDARD
END:VTIMEZONE
BEGIN:VEVENT
UID:902176@techplay.jp
SUMMARY:【初心者向け】SEOを始めるにあたって抑えておく
 べきポイントとは！？
DTSTART;TZID=Asia/Tokyo:20230512T140000
DTEND;TZID=Asia/Tokyo:20230512T150000
DTSTAMP:20260422T024746Z
CREATED:20230428T041646Z
DESCRIPTION:イベント詳細はこちら\nhttps://techplay.jp/event/90217
 6?utm_medium=referral&utm_source=ics&utm_campaign=ics\n\nこんな方に
 おすすめ\n\nサイト運営に関わって間もない方\nSEO対策
 を始めようと思っている方\nSEO対策をしているが、成
 果が出ず、基礎から見直したい方\n\n\n| 開催日 | 2023年5
 月12日(金) || 時間 | 14:00～14:30(15分前より入室可能) || 
 場所 | ウェビナー || 定員 | 30名 || 参加費 | 無料 || 登
 壇者 | 渡部　雄飛 |\n\nセミナー内容紹介\nSEO基礎～最
 新トレンドをカバーしたSEOの初心者の方向け解説セミ
 ナーです。\nSEO対策はタイトル・h1のテクニカル面の改
 善、でもやはりコンテンツマーケティングが重要など
 色々な意見があるけど、実際のところ何が大事なのか
 ？ネットで調査すると見ると様々な対策があるけど、
 本当に効果があるのだろうか？そもそもSEOってなんだ
 ろう...激しくトレンドが移り変わり、実態も見えづら
 いSEO。どう対策を図るか悩んでいる方も多いと思いま
 す。今回のセミナーでは、**創業以来、内部対策にこ
 だわり本質的なSEOを行ってきたipe(アイプ)**が基礎・概
 念的な部分から最新トレンドまで、SEOの全容をお話し
 します！（現場のコンサルタントが実際に提案してい
 る施策もお伝えさせていただきます。）**SEOを始めよ
 うとしている方から、SEOとは何か？を知りたい方まで
 必見のセミナーになっております。**是非この機会を
 お見逃しなく！！あなたのサイトの集客力を上げるヒ
 ントがきっと見つかるはずです。\n\n株式会社ipeについ
 て\n大規模サイトのSEOコンサルティングを中心に活動
 し、最先端のSEO技術を提供するをテーマに掲げサービ
 ス提供しています。\nTwitterはこちら↓Follow @info_ipe\nク
 ライアント実績一例\n\nウェビナー参加特典\nウェビナ
 ー参加頂いた方の中でご希望される方には下記の特典
 をプレゼントします。\n●【SEOスペシャリスト／オン
 ライン個別相談会】SEOに関する30分のオンライン相談
 ができます。\n●【無料分析レポート】弊社のSEOディ
 レクターが貴社サイトのSEO課題・改善の方向性、競合
 調査含め、無料で分析させていただきます。\n\nプログ
 ラム\n\n\n\n\n時間\n内容\n\n\n\n\n13:45~14:00\nZOOM入室可能\n\n
 \n14:00~14:30\nそもそもSEOとは？内部対策と外部対策って
 何が違うの？テクニカルSEOって？コンテンツSEOとは？U
 I/UXもSEOに関係するの？何から始めたらいいの？実際の
 施策例Q＆A\n\n\n\n株式会社ipe　セールスチーム 渡部　
 雄飛\n中央大学商学部経営学科卒。マーケティングを
 専攻し、在学中から地方自治体の新規事業創出に関す
 るフィールドワークを行っていた。小菅村にてプロモ
 ーション動画の製作と特産品開発（ソーセージ）に取
 り組んだ後、新規事業の傾向と改善について実地調査
 を行い論文にした経験から、より実践的な現場を経験
 するためipeへジョイン。地方ビジネスのマーケティン
 グに取り組んだ経験を活かし、第一線でSEOマーケティ
 ングの提案を行っている。
LOCATION:オンライン
URL:https://techplay.jp/event/902176?utm_medium=referral&utm_source=ics&utm
 _campaign=ics
END:VEVENT
END:VCALENDAR
