BEGIN:VCALENDAR
VERSION:2.0
PRODID:-//https://techplay.jp//JP
CALSCALE:GREGORIAN
METHOD:PUBLISH
X-WR-CALDESC:【5/30開催】デジタル人材育成事例を解説 〜DX
 白書2023で語られているDX人材とは？〜
X-WR-CALNAME:【5/30開催】デジタル人材育成事例を解説 〜DX
 白書2023で語られているDX人材とは？〜
X-WR-TIMEZONE:Asia/Tokyo
BEGIN:VTIMEZONE
TZID:Asia/Tokyo
BEGIN:STANDARD
DTSTART:19700101T000000
TZOFFSETFROM:+0900
TZOFFSETTO:+0900
TZNAME:JST
END:STANDARD
END:VTIMEZONE
BEGIN:VEVENT
UID:903049@techplay.jp
SUMMARY:【5/30開催】デジタル人材育成事例を解説 〜DX白書
 2023で語られているDX人材とは？〜
DTSTART;TZID=Asia/Tokyo:20230530T130000
DTEND;TZID=Asia/Tokyo:20230530T140000
DTSTAMP:20260421T001259Z
CREATED:20230507T111156Z
DESCRIPTION:イベント詳細はこちら\nhttps://techplay.jp/event/90304
 9?utm_medium=referral&utm_source=ics&utm_campaign=ics\n\n概要\n経済
 産業省の発表によると2030年にデジタル人材が79万人不
 足するといわれており、eラーニングやリスキリング支
 援などの「デジタル人材育成」を推進する企業が急増
 しています。\nしかし、実際に人材育成をしようと思
 っても、「自社に必要な人材・不足している人材がわ
 からない」「社員のDXリテラシーレベルの現在地がわ
 からない」「自社に最適な学習プログラムや育成方法
 がわからない」といった悩みを抱えているご担当者様
 も多いのではないでしょうか？\nそこで本セミナーで
 は、DX白書2023で語られているDX人材を紐解くとともに
 、デジタル人材育成の進め方を事例とともにご紹介し
 ます。\n【本セミナーの内容】①DX白書2023のサマリー
 ②DX推進に必要な人材③DX人材育成事例\n自社のDX推進
 ・デジタル人材育成にお悩みの方は、ぜひ本セミナー
 にご参加ください。\n開催情報\n\n日程：2023年5月30日（
 火）13:00 〜 14:00\n会場：Zoomウェビナー（オンライン）\
 n参加費：無料\n主催：株式会社AVILEN\n\n注意事項\n\n競
 合製品をお取り扱いされている企業様はご参加をお断
 りする場合がございます。\nその他、主催者の判断で
 参加に相応しくない方は、参加をお断りする場合がご
 ざいますので何卒ご了承ください。\nセミナーへお申
 し込みいただいた方へは、後日参加方法を記載したメ
 ールをお送り致しますので、1社から複数名様ご参加頂
 く場合でも1名様ずつお申込みください。\n\n株式会社AV
 ILEN\nAVILENは「最新のテクノロジーを、多くの人へ」を
 ビジョンに掲げ、より多くの人々が最先端のテクノロ
 ジーを理解・活用できる豊かな社会の実現を目指すス
 タートアップ企業です。現在、AI人材育成事業・AI開発
 事業の2つを軸に、顧客のビジネス課題解決に向けてAI
 のトータルソリューションを提供しています。
LOCATION:オンライン
URL:https://techplay.jp/event/903049?utm_medium=referral&utm_source=ics&utm
 _campaign=ics
END:VEVENT
END:VCALENDAR
