BEGIN:VCALENDAR
VERSION:2.0
PRODID:-//https://techplay.jp//JP
CALSCALE:GREGORIAN
METHOD:PUBLISH
X-WR-CALDESC:【マターポート社　解説】ビル・設備・工場
 管理DX担当者向け リモートワーク時代のファシリティ
 マネジメント
X-WR-CALNAME:【マターポート社　解説】ビル・設備・工場
 管理DX担当者向け リモートワーク時代のファシリティ
 マネジメント
X-WR-TIMEZONE:Asia/Tokyo
BEGIN:VTIMEZONE
TZID:Asia/Tokyo
BEGIN:STANDARD
DTSTART:19700101T000000
TZOFFSETFROM:+0900
TZOFFSETTO:+0900
TZNAME:JST
END:STANDARD
END:VTIMEZONE
BEGIN:VEVENT
UID:903269@techplay.jp
SUMMARY:【マターポート社　解説】ビル・設備・工場管理D
 X担当者向け リモートワーク時代のファシリティマネ
 ジメント
DTSTART;TZID=Asia/Tokyo:20230519T160000
DTEND;TZID=Asia/Tokyo:20230519T170000
DTSTAMP:20260421T020942Z
CREATED:20230509T004724Z
DESCRIPTION:イベント詳細はこちら\nhttps://techplay.jp/event/90326
 9?utm_medium=referral&utm_source=ics&utm_campaign=ics\n\n点群スキャ
 ンによるビル・設備・工場管理DX担当者向け リモート
 ワーク時代のファシリティマネジメントで効率的な管
 理をご提案します。\nコロナ禍以降リモートワークが
 推奨され、現場担当者には遠方のクライアントや関係
 者といかにスムーズなコミュニケーションを取るかと
 いう新たな課題が生まれています。マーターポートが
 提供するデジタルツインはアクセスした誰もが「そこ
 にいる感覚」をブラウザひとつで体験できるシンプル
 で高機能なプラットフォームです。本ウェビナーでは
 ビル・設備・工場のファシリティマネジメントに携わ
 る方々にマーターポートを使った効果的なファシリテ
 ィマネジメント手法をご紹介致します。\n\n講演者：\n
 マーターポート株式会社工藤信男　チャネルアカウン
 トマネージャー\nタイムスケジュール\n16:00－16:05    
 はじめに　リビングCG　関\n16:05－16:40 　ビル管理・工
 場設備管理DX担当者向け                          
 マターポートによるマネジメントについて　　　　　
 　　マーターポート株式会社チャネルアカウントマネ
 ージャー　工藤信男氏\n16:40－16:50　Matterport Pro2\,Pro3に
 ついて　　　　　　　　　　　　リビングCG　岡田\n16:
 50－17:00　質疑応答\nどのような方にお勧めか\n不動産
 の管理会社および工場敷地建物管理。設備機械等の点
 検保守整備業の御担当者。敷地等の警備会社。※ 当日
 予告なく時間配分・内容が変更になる可能性がござい
 ます。\n主催者\nリビングCG代表取締役社長　関良平\n
 有限会社リビングCGhttps://livingcg.jp/pointcab/3DBIMソフト販
 売および教育（ Lumion／Matterport／PointCab）\nサイト\nMatte
 rport正規販売代理店リビングCG\n参加対象\n・VR撮影機材
 のご購入をご検討の方・インターネット上で点群デー
 タを扱う方・建設設計監理で点群データ収集担当の方
 ・建築現場管理をご検討の方・BIM製品導入をご検討中
 の方\n参加費無料\nハッシュタグ\n#techplayjp#Matterport#VR\n
 注意事項\n\nキャンセル待ち・補欠・落選の方はご参加
 いただくことが出来ませんのでご了承ください。\n欠
 席される場合は、お手数ですが速やかにキャンセル処
 理をお願い致します。\n無断キャンセルや欠席が続く
 場合、次回以降の参加をお断りさせていただく場合が
 ございます。\n
LOCATION:オンライン
URL:https://techplay.jp/event/903269?utm_medium=referral&utm_source=ics&utm
 _campaign=ics
END:VEVENT
END:VCALENDAR
