BEGIN:VCALENDAR
VERSION:2.0
PRODID:-//https://techplay.jp//JP
CALSCALE:GREGORIAN
METHOD:PUBLISH
X-WR-CALDESC:Microsoft Azureの Azure OpenAI無料相談会
X-WR-CALNAME:Microsoft Azureの Azure OpenAI無料相談会
X-WR-TIMEZONE:Asia/Tokyo
BEGIN:VTIMEZONE
TZID:Asia/Tokyo
BEGIN:STANDARD
DTSTART:19700101T000000
TZOFFSETFROM:+0900
TZOFFSETTO:+0900
TZNAME:JST
END:STANDARD
END:VTIMEZONE
BEGIN:VEVENT
UID:903270@techplay.jp
SUMMARY:Microsoft Azureの Azure OpenAI無料相談会
DTSTART;TZID=Asia/Tokyo:20230526T120000
DTEND;TZID=Asia/Tokyo:20230607T193000
DTSTAMP:20260425T222144Z
CREATED:20230509T005708Z
DESCRIPTION:イベント詳細はこちら\nhttps://techplay.jp/event/90327
 0?utm_medium=referral&utm_source=ics&utm_campaign=ics\n\nMicrosoft Azure
 の Azure OpenAI無料相談会\n概要\nChatGPTなど大規模言語モ
 デル（LLM）が急速に注目を集め、多くの企業で導入が
 進んでいます。このような背景を受け、弊社ではAzure O
 penAIサービスの活用方法について、導入方法やユース
 ケースなどのご相談にお応えする相談会を開催いたし
 ます。\n近年、ChatGPTなど大規模言語モデル（LLM）が急
 速に注目を集め、多くの企業で導入が進んでいます。
 このような技術トレンドの中で、Azure OpenAIサービスは
 、高いセキュリティが支持され、弊社にも沢山のお問
 い合わせをいただいております。特に、使い方やセキ
 ュリティ面で考慮すべき事などについてのご相談を多
 くお受けします。\nこのような背景を受けて、弊社で
 はAzure OpenAIサービスの活用について、導入方法や検討
 観点などのご相談にお応えする相談会を開催いたしま
 す。弊社の専門家がAzure OpenAIサービスの最新情報や実
 際の活用事例などをご紹介したり、頂いたお悩みに対
 して具体的にアドバイスいたします。\nこのような方
 におすすめの相談会となっています。\n\nAzure OpenAIサー
 ビスの社内導入を進めたい\nAzure OpenAIを使ったアプリ
 開発を検討している\nAzure Cognitive Servicesを使ってみた
 い\n\n開催日程と定員\n\n2023 年 5月 26日 (金曜日)　12:00-1
 2:30 / 12:30-13:00 / 14:00-14:30 / 14:30-15:00\n2023 年 5月 29日 (月
 曜日)　14:00-14:30 / 14:30-15:00 / 18:30-19:00 / 19:00-19:30\n2023年
   6月 7日 (水曜日) 　12:00-12:30 / 12:30-13:00 / 18:30-19:00 / 19:
 00-19:30\n\n各回1企業様（個社別）となり先着順です。お
 申込みに重複あった場合は調整させていただきます。\
 n参加費\n無料/事前申し込み制※同業の方の参加はご遠
 慮いただいております。予めご了承ください。\n注意
 事項\n\n欠席される場合は、お手数ですが速やかにキャ
 ンセル処理をお願い致します。\n無断キャンセルや欠
 席が続く場合、次回以降の参加をお断りさせていただ
 く場合がございます。\n
LOCATION:オンライ
URL:https://techplay.jp/event/903270?utm_medium=referral&utm_source=ics&utm
 _campaign=ics
END:VEVENT
END:VCALENDAR
