BEGIN:VCALENDAR
VERSION:2.0
PRODID:-//https://techplay.jp//JP
CALSCALE:GREGORIAN
METHOD:PUBLISH
X-WR-CALDESC:CVRを最大化させる！！SEO×獲得コンテンツ×離
 脱防止対策
X-WR-CALNAME:CVRを最大化させる！！SEO×獲得コンテンツ×離
 脱防止対策
X-WR-TIMEZONE:Asia/Tokyo
BEGIN:VTIMEZONE
TZID:Asia/Tokyo
BEGIN:STANDARD
DTSTART:19700101T000000
TZOFFSETFROM:+0900
TZOFFSETTO:+0900
TZNAME:JST
END:STANDARD
END:VTIMEZONE
BEGIN:VEVENT
UID:903531@techplay.jp
SUMMARY:CVRを最大化させる！！SEO×獲得コンテンツ×離脱防
 止対策
DTSTART;TZID=Asia/Tokyo:20230518T140000
DTEND;TZID=Asia/Tokyo:20230518T151500
DTSTAMP:20260422T152734Z
CREATED:20230510T064914Z
DESCRIPTION:イベント詳細はこちら\nhttps://techplay.jp/event/90353
 1?utm_medium=referral&utm_source=ics&utm_campaign=ics\n\nCVRを最大化
 させる！！SEO×獲得コンテンツ×離脱防止対策\n概要\n
 いま話題のChatGPTを活用したコストをかけないSEO対策、
 流入したユーザーをコンバージョンさせるためのペー
 ジづくり、離脱を防止するための対策について各領域
 のプロが解説します。どれもサイトからのCVを最大化
 させるために欠かせないものです。CVを獲得したい、CP
 Aが見合っていないという方はぜひご参加ください。\n
 タイムスケジュール\n\n\n\n時間\n内容\n\n\n\n\n14:00〜14:20\
 nChatGPTをSEO記事制作に活用する際の落とし穴合同会社
 楽々EditChatGPTを活用して制作されたSEO記事は、検索エ
 ンジンで評価されるのか、どのように活用すれば記事
 制作の工数削減に繋がるかなどを、最新情報を元に徹
 底解説いたします。ChatGPTを活用すると、これまでより
 も低予算でSEO対策に取り組むことが可能です。費用面
 がネックだった、コスト削減したい方も必見です。\n\n
 \n14:20〜14:40\nCVR2倍に改善！ユーザー目線でLPの成果を
 最大化free web hope2ヶ月でCVRを40％上げるための着眼点と
 実現のための具体策を解説します。LPを1\,000本以上制
 作、運用してきた実績をもとに、CPAを下げてCVRを向上
 させるLP制作や改善のコツをお伝えします。\n\n\n14:40〜
 15:00\nサイトからのCVを最大化させる、離脱に対する予
 防と対策株式会社ジーニーWEBサイトに集客したにも関
 わらず、離脱してしまうユーザーは半数以上…サイト
 からの離脱を防ぐためにできること、効果があること
 に関して、多くの企業様を支援してきたツールベンダ
 ーの視点からお伝えします。CVをもっと獲得したい、CP
 Aが見合っていないというお悩みを持っている方はぜひ
 ご参加ください。\n\n\n15:00〜15:15\n質疑応答「自社の商
 材だとどうしたら良いの？」「こんな場合の対処方法
 は？」など、ご質問やご不明点がありましたらこちら
 の時間で対応させていただきます。\n\n\n\n※ 当日予告
 なく時間配分・内容が変更になる可能性がございます
 。\n登壇者\n\n山本 伸弥（やまもと しんや）\n合同会社
 楽々Edit 代表取締役\n新卒でITベンチャーに入社。SEOコ
 ンサルタントとして戦略立案から営業、コンテンツ制
 作まで従事。 インターン時代に大規模案件を3社成約
 して営業成績トップへ。東証一部上場企業や某時計メ
 ーカー等のプロジェクトに参画。インサイドセールス
 部門を立ち上げ、MAツール運用設計も実施。国内大手
 マーケ会社10社とデジタルマーケティングカンファレ
 ンスを開催・主催として運営。\n\n\n\n親川 太貴（おや
 かわ　たいき）\n株式会社free web hope コンサルタント兼
 インサイドセールスリーダー\n大学卒業後、新卒で総
 合人材サービス大手パーソルキャリア株式会社に入社
 。その後、株式会社free web hopeに入社しコンサルタント
 として100社以上のweb集客をサポート。toCでは人材系（
 会員募集）やスポーツジム、不動産関連の案件を多く
 手掛ける。現在はインサイドセールス部署の立ち上げ
 とリーダーも兼任。\n\n\n\n水野 敦紹（みずの　あつし
 ）\n株式会社free web hope コンサルタント兼インサイドセ
 ールスリーダー\n大学卒業後、新卒で総合人材サービ
 ス大手パーソルキャリア株式会社に入社。その後、株
 式会社free web hopeに入社しコンサルタントとして100社以
 上のweb集客をサポート。toCでは人材系（会員募集）や
 スポーツジム、不動産関連の案件を多く手掛ける。現
 在はインサイドセールス部署の立ち上げとリーダーも
 兼任。\n\n参加対象\n\n低コストでSEO対策に取り組みた
 い\nサイト集客をしているのにCVに繋がっていない\nCPA
 の高騰が課題\nWEBマーケティングに注力していきたい\n
 \n参加費\n無料\n注意事項\n\nリクルーティング、勧誘な
 ど、採用目的でのイベント参加はお断りしております
 。\nキャンセル待ち・補欠・落選の方はご参加いただ
 くことが出来ませんのでご了承ください。\n欠席され
 る場合は、お手数ですが速やかにキャンセル処理をお
 願い致します。\n無断キャンセルや欠席が続く場合、
 次回以降の参加をお断りさせていただく場合がござい
 ます。\n
LOCATION:オンライン
URL:https://techplay.jp/event/903531?utm_medium=referral&utm_source=ics&utm
 _campaign=ics
END:VEVENT
END:VCALENDAR
