BEGIN:VCALENDAR
VERSION:2.0
PRODID:-//https://techplay.jp//JP
CALSCALE:GREGORIAN
METHOD:PUBLISH
X-WR-CALDESC:6/14（水）導入検討者の方向け、AWS基礎知識・
 事例紹介ウェビナー
X-WR-CALNAME:6/14（水）導入検討者の方向け、AWS基礎知識・
 事例紹介ウェビナー
X-WR-TIMEZONE:Asia/Tokyo
BEGIN:VTIMEZONE
TZID:Asia/Tokyo
BEGIN:STANDARD
DTSTART:19700101T000000
TZOFFSETFROM:+0900
TZOFFSETTO:+0900
TZNAME:JST
END:STANDARD
END:VTIMEZONE
BEGIN:VEVENT
UID:903622@techplay.jp
SUMMARY:6/14（水）導入検討者の方向け、AWS基礎知識・事例
 紹介ウェビナー
DTSTART;TZID=Asia/Tokyo:20230614T150000
DTEND;TZID=Asia/Tokyo:20230614T155500
DTSTAMP:20260423T081515Z
CREATED:20230511T020103Z
DESCRIPTION:イベント詳細はこちら\nhttps://techplay.jp/event/90362
 2?utm_medium=referral&utm_source=ics&utm_campaign=ics\n\n6/14（水）導
 入検討者の方向け、AWS基礎知識・事例紹介ウェビナー\
 n概要\n株式会社TOKAIコミュニケーションズは、2023年6月
 14日(水)に、導入検討者の方向けAWS基礎知識・事例紹介
 ウェビナーを開催いたします。\n皆様の企業では、DX（
 デジタルトランスフォーメーション）はどれくらい進
 んでおりますでしょうか。「業務のクラウド化」を行
 う中で、オンプレミス環境で稼働しているシステムの
 クラウド移行は必須課題となりますが、実際のところ
 具体的な方法がよく分からず思うように進んでいない
 、という企業様も多いのではないでしょうか？\nそこ
 で、今回は導入検討者の方向けに、AWS基礎知識・事例
 紹介ウェビナーを開催します。今回のセミナーでは、A
 WSの基礎知識からDXの現状と課題、そして実際に基幹シ
 ステムをAWSに移行された実績を持つ株式会社島精機製
 作所様による、移行事例をご紹介します。\nシステム
 のクラウド移行を検討中の方、AWSやDXについて基礎か
 ら知識を学びたい方、実際の移行事例を聞いてい見た
 いという方に是非ご参加頂きたいセミナーです。\n<こ
 んな方にオススメです>　・基幹システムをクラウドに
 移行したいがどうすればいいのかわからない　・シス
 テムのクラウド移行を実際に行ったユーザーの声が聞
 きたい　・AWSについて基礎から知りたい　・DXについ
 て基礎から知りたい\n皆様のご参加を心よりお待ちし
 ております。\nセミナー名称\n今年こそ、オンプレミス
 からAWSへシステム移行を進めよう！～業務システムの
 クラウド化で得られるメリットとユーザー事例をご紹
 介～\nタイムスケジュール\n\n\n\n時間\n内容\n\n\n\n\n14:45
 ～15:00\n受付開始\n\n\n15:00～15:05\n講演開始のご案内\n\n\n
 15:05～15:30\nクラウドを導入する価値　クラウドの特性
 を理解して有効活用！講師：アマゾン ウェブ サービ
 ス ジャパン合同会社\n\n\n15:30～15:50\n島精機製作所での
 AWS利用遷移とオンプレからクラウドへの移行講師：株
 式会社島精機製作所\n\n\n15:50～15:55\n講演終了のご案内\
 n\n\n\n参加費\n無料\n参加方法\n申込ページからお申込み
 をお願いします。※お申込み期限　開催日当日の14:30
 までZoomウェビナーを使用し、開催します。事前にZoom
 ウェビナーにアクセスできるブラウザ環境（Google Chrome
 、MozillFirefox）を準備いただき、環境チェックをお願い
 します。（環境チェックURL　 https://zoom.us/test）\n※同
 業他社の方のお申込み/ご参加はお断りしております。
 \n共催\n株式会社TOKAIコミュニケーションズアマゾン ウ
 ェブサービス 合同会社\n注意事項\n\nリクルーティング
 、勧誘など、採用目的でのイベント参加はお断りして
 おります。\nキャンセル待ち・補欠・落選の方はご参
 加いただくことが出来ませんのでご了承ください。\n
 欠席される場合は、お手数ですが速やかにキャンセル
 処理をお願い致します。\n無断キャンセルや欠席が続
 く場合、次回以降の参加をお断りさせていただく場合
 がございます。\n申込時アンケートを正確に回答頂け
 ていない場合、個別にご連絡させていただく場合がご
 ざいます。\n
LOCATION:オンライン
URL:https://techplay.jp/event/903622?utm_medium=referral&utm_source=ics&utm
 _campaign=ics
END:VEVENT
END:VCALENDAR
