BEGIN:VCALENDAR
VERSION:2.0
PRODID:-//https://techplay.jp//JP
CALSCALE:GREGORIAN
METHOD:PUBLISH
X-WR-CALDESC:Microsoft365の活用で、企業の生産性を最大化す
 る方法セミナー
X-WR-CALNAME:Microsoft365の活用で、企業の生産性を最大化す
 る方法セミナー
X-WR-TIMEZONE:Asia/Tokyo
BEGIN:VTIMEZONE
TZID:Asia/Tokyo
BEGIN:STANDARD
DTSTART:19700101T000000
TZOFFSETFROM:+0900
TZOFFSETTO:+0900
TZNAME:JST
END:STANDARD
END:VTIMEZONE
BEGIN:VEVENT
UID:903706@techplay.jp
SUMMARY:Microsoft365の活用で、企業の生産性を最大化する方
 法セミナー
DTSTART;TZID=Asia/Tokyo:20230624T140000
DTEND;TZID=Asia/Tokyo:20230624T150000
DTSTAMP:20260422T182423Z
CREATED:20230511T103718Z
DESCRIPTION:イベント詳細はこちら\nhttps://techplay.jp/event/90370
 6?utm_medium=referral&utm_source=ics&utm_campaign=ics\n\nこのような
 企業様にオススメです\n\n\n社内のTeamsをはじめとするMi
 crosoft365の利活用が進まない\n\n\nTeamsの使い方のトレー
 ニングをしてほしいが、会社の環境が特殊なため、ト
 レーナーが見つからない\n\n\nMicrosoft365の活用事例が欲
 しい\n\n\n\n\n\n\n\n\n\n\n\n開催場所\nオンライン（Zoom）＊T
 eamsの画面をご覧いただくためにZoomで開催をいたしま
 す。\n\n\n日時\n2023/6/24(土)14-15\n\n\n定員\n5社様\n\n\nお申
 し込み方法\n当ページの予約ボタンよりお申し込みく
 ださい\n\n\n\nタイムスケジュール\n※ 当日予告なく時
 間配分・内容が変更になる可能性がございます。\n1.は
 じめに\n企業の生産性向上に欠かせないのが、コミュ
 ニケーションとコラボレーションです。そこで、中堅
 企業のICT導入担当者向けに、Microsoft Teamsの基本的な機
 能と活用法をご紹介します。\n2. コミュニケーション\n
 リモートワークが当たり前の現代。チャット機能の活
 用法を知ることは、コミュニケーションの改善に繋が
 ります。Teamsのチャット機能を使いこなし、スムーズ
 なコミュニケーションを実現しましょう。\n3. コラボ
 レーション\n企業内でのチーム作りは大切ですが、ど
 のようにチームを構成すればよいのでしょうか。また
 、Teamsを使ったドキュメント共有（Share PointやOne Drive）
 についても、ご紹介します。チームメンバーとの協力
 や情報共有を円滑にする方法をお届けします。\n4. Micro
 soft 365アプリの活用\nMicrosoft 365アプリの中でも、Teamsと
 Planner、Formsの連携は効率的な業務プロセス改善に繋が
 ります。また、Power Automateを使用した自動化によって
 、生産性を大幅に向上させることができます。\n5. 企
 業内利活用の成功事例をご紹介\n企業内でのMicrosoft 365
 活用事例を通じて、Teamsの利用方法をご紹介します。
 具体的な事例を通して、中堅企業で実践可能な活用法
 をご紹介します。\n6.当方のサービスのご紹介\n企業様
 のニーズに合わせたカスタマイズセミナーの詳細をご
 紹介します。\n質疑応答\nどうしたら利活用が促進され
 るのか？などのご質問を承ります。\n終了後　個社様
 無料コンサル\n各社様30分を上限として、無料コンサル
 ティングを承ります。詳細はセミナー内でお話をさせ
 ていただきます。\n登壇者\n\n澤田　明季\nelwit代表\n1995
 年：ベンチャー企業にてOAインストラクターとして社
 会人デビュー\n1996年：パナソニック系の人材会社に転
 職　IT講師を担当\n2001年：母の介護のため退職／フリ
 ーランスのIT講師・テクニカルライターとして活動\n200
 2年：喜劇ミュージカル劇団「レインボープロジェクト
 」旗揚げ\n2007年：大阪から東京へ単身上京。人材アウ
 トソーシング最大手企業にて研修課チーフ職\n2009年：
 富士通系企業へ転職　テクニカルライター／IT講師／
 企画を担当\n2011年：東日本大震災の影響により帰阪。
 パナソニック系の人材会社で再びIT講師\n2015年：人材
 派遣会社最大手に転職のため、再び東京へ\n2019年：独
 立。IT（Microsoft365)利活用のトレーナー兼コンサルタン
 トを行っている\n\n\n参加費\n無料\n対象者\nすでにMicroso
 ft365を導入されている中堅企業様のICT/IT利活用のご担
 当者様\n注意事項\n\nリクルーティング、勧誘など、採
 用目的でのイベント参加はお断りしております。\nキ
 ャンセル待ち・補欠・落選の方はご参加いただくこと
 が出来ませんのでご了承ください。\n欠席される場合
 は、お手数ですが速やかにキャンセル処理をお願い致
 します。\n無断キャンセルや欠席が続く場合、次回以
 降の参加をお断りさせていただく場合がございます。\
 n\n＊数秒でもご遅刻の方はご参加いただくことができ
 ません。＊お顔出し、お声出し必須です。Zoomのインス
 トールと事前にカメラとマイクのご確認をお願いいた
 します。＊すでにMicrosoft365を導入されている企業のIT
 利活用推進のご担当者様向けの内容です。未導入の企
 業様、個人様やIT利活用を推進するお立場ではない方
 のご参加はキャンセルとさせていただきます。
LOCATION:オンライン
URL:https://techplay.jp/event/903706?utm_medium=referral&utm_source=ics&utm
 _campaign=ics
END:VEVENT
END:VCALENDAR
