BEGIN:VCALENDAR
VERSION:2.0
PRODID:-//https://techplay.jp//JP
CALSCALE:GREGORIAN
METHOD:PUBLISH
X-WR-CALDESC:※募集終了【2023年6月開講】ハイレベルAIエン
 ジニア育成講座 （eラーニング・対面講座）
X-WR-CALNAME:※募集終了【2023年6月開講】ハイレベルAIエン
 ジニア育成講座 （eラーニング・対面講座）
X-WR-TIMEZONE:Asia/Tokyo
BEGIN:VTIMEZONE
TZID:Asia/Tokyo
BEGIN:STANDARD
DTSTART:19700101T000000
TZOFFSETFROM:+0900
TZOFFSETTO:+0900
TZNAME:JST
END:STANDARD
END:VTIMEZONE
BEGIN:VEVENT
UID:903849@techplay.jp
SUMMARY:※募集終了【2023年6月開講】ハイレベルAIエンジニ
 ア育成講座 （eラーニング・対面講座）
DTSTART;TZID=Asia/Tokyo:20230622T190000
DTEND;TZID=Asia/Tokyo:20240331T235900
DTSTAMP:20260425T124922Z
CREATED:20230512T100833Z
DESCRIPTION:イベント詳細はこちら\nhttps://techplay.jp/event/90384
 9?utm_medium=referral&utm_source=ics&utm_campaign=ics\n\n実践的なス
 キルを身につけ、これからの社会で活躍できるAI人材
 に\n2023年6月、プログラミング初心者の方でも、Pythonに
 よるディープラーニングの実装スキルを身につけるこ
 とができる「ハイレベルAIエンジニア育成講座」を開
 講します。全4講座・10ヶ月のeラーニング受講によって
 理論を理解し、E資格の受験挑戦レベルに到達可能です
 。また理解をより深めてくれる対面講座は、昨年でき
 たばかりの港区立産業振興センターにて開催します。\
 nプログラム詳細・申込ページ　https://minato-sansin.com/mina
 to-ai港区立産業振興センターHP　https://minato-sansin.com/\n
 概要\n\n学習の進め方\neラーニングによるインプット・
 演習やテストによるアウトプットを繰り返し、知識の
 定着を図ります。また、わからない点については、1000
 項目以上あるFAQ・いつでも質問可能なチャットサポー
 トで解決できます。\n受講スケジュール\n\n10ヶ月にわ
 たって、「Python入門講座」・「基礎数学講座」・「機
 械学習・データ分析基礎講座」・「ディープラーニン
 グ基礎講座」を受講いただきます。\nまた年間を通し
 て6回の対面・オンライン講座を予定しています。\n①
 　KICK OFF　（対面）　　2023年　6/22（木） 19:00-20:00　　
 　キックオフとして1時間の説明会及び交流会を行いま
 す。\n②　質問会＜Python・基礎数学＞（オンライン）
 　　2023年　8/18（金）　13:00-15:00　　③④ディープラー
 ニング基礎講座（対面）　　2023年  10/3（火）　13:00-17
 :00　　2023年  11/1（水）　13:00-17:00\n⑤⑥ディープラー
 ニング基礎講座（対面）　　2024年　1/19（金）　13:00-17
 :00　　2024年　3/22（金）　13:00-17:00\n対面講座　開催場
 所：　港区立産業振興センター　研修室１・２〒108-001
 4　東京都港区芝5丁目36番4号札の辻スクエア10F\n各プロ
 グラムのカリキュラムについては、申込みサイトをご
 確認ください。https://minato-sansin.com/minato-ai\nプログラム
 提供会社\n\nスキルアップAI株式会社\n企業向けのAI研修
 でトップレベルの実績を有し、AI人材育成のための教
 育事業やAIに関わるコンサルティング、システム開発
 ・運用やAI人材の採用支援サービスを提供しています
 。所在地：東京都千代田区神田三崎町３丁目３−２０
 代表者：代表取締役　田原 眞一（たはら　しんいち）
 資本金：300万円設立：2018年5月1日URL: https://www.skillupai.c
 om/導入事例：https://www.skillupai.com/private-training/success_stor
 ies/\n参加対象\n個人・法人※AI/機械学習の基礎知識を
 お持ちであることが推奨です。※港区外の方でも申込
 みいただけます。※勤務先の事業所・住所について、
 港区内外は問いません。\nまた、以下の項目全てに該
 当している方\n①機械学習・AIのスキル習得に意欲的に
 取り組めること②対面講座含む全プログラムに参加可
 能であること③対面講座においてノートPC等を持参で
 きること\n受講料・定員\nおひとりさま　66\,000円（税
 込み）　　　　　※受講開始前のお⽀払いとなり、受
 講開始後の返金は承れませんのでご了承ください。　
 ※お振込先等につきましては、お申し込み後、ご案内
 メールにて詳細をお送りいたします。\nお申し込み方
 法\n申込みサイトにある、申込みフォームから必要事
 項を入力して送信してください。https://minato-sansin.com/mi
 nato-aiお申込み確認後、料金のお支払い・講座開始まで
 の事前準備に関するご案内メールをお送りします。\n
 お申し込み〆切\n2023年6月8日（木）※お申し込み多数
 の場合、抽選とさせていただきますのでご了承くださ
 い。\n\n港区立産業振興センターとは\n産業振興センタ
 ーは「企業・人・地域の力」を一つに結び付け、最新
 の情報や技術を提供する「未来発展型の産業振興拠点
 」となる施設です。9Fにはコワーキングスペースとビ
 ジネスサポートファクトリーがあり、スタートアップ
 ・起業家・フリーランスの方や、テレワークで活動さ
 れる方、オープンイノベーションに取組まれる方の活
 動拠点としてご活用いただけます。利用者同士の交流
 ・連携によるオープンイノベーションを促進するとと
 もに、最新のビジネス支援情報を収集できる環境を提
 供いたします。\n詳しいご紹介はこちらhttps://minato-sansi
 n.com/\n注意事項\n・新型コロナウイルスの感染拡大の状
 況次第で、対面講座内容に変更を加えてオンラインで
 の実施に切り替えることがあります。\n・この講座で
 は、対面講座の場合写真の撮影を行う可能性がござい
 ます。撮影した写真や映像等は、広報用にHPやSNS、刊
 行物等に掲載することがあります。\nお問い合わせ\n主
 催株式会社キャンパスクリエイト　　　（港区立産業
 振興センター指定管理者：みなと・キャンパス・リロ
 グループ内）\n研修委託先スキルアップAI株式会社\n問
 合せ先：運営事務局：港区立産業振興センター　総合
 受付TEL: 03-6435-0601E-Mail: minato-ai@campuscreate.com
LOCATION:オンライン・港区立産業振興センター（対面講座
 ）
URL:https://techplay.jp/event/903849?utm_medium=referral&utm_source=ics&utm
 _campaign=ics
END:VEVENT
END:VCALENDAR
