BEGIN:VCALENDAR
VERSION:2.0
PRODID:-//https://techplay.jp//JP
CALSCALE:GREGORIAN
METHOD:PUBLISH
X-WR-CALDESC:【EC業界向け】ECサイト運営会社のRPA活用法と
 業務効率化の成功事例大公開
X-WR-CALNAME:【EC業界向け】ECサイト運営会社のRPA活用法と
 業務効率化の成功事例大公開
X-WR-TIMEZONE:Asia/Tokyo
BEGIN:VTIMEZONE
TZID:Asia/Tokyo
BEGIN:STANDARD
DTSTART:19700101T000000
TZOFFSETFROM:+0900
TZOFFSETTO:+0900
TZNAME:JST
END:STANDARD
END:VTIMEZONE
BEGIN:VEVENT
UID:904099@techplay.jp
SUMMARY:【EC業界向け】ECサイト運営会社のRPA活用法と業務
 効率化の成功事例大公開
DTSTART;TZID=Asia/Tokyo:20230621T140000
DTEND;TZID=Asia/Tokyo:20230621T150000
DTSTAMP:20260424T222840Z
CREATED:20230515T064412Z
DESCRIPTION:イベント詳細はこちら\nhttps://techplay.jp/event/90409
 9?utm_medium=referral&utm_source=ics&utm_campaign=ics\n\nこんな方に
 オススメ\n\nEC部門の業務を効率化したい方\nRPAの活用
 事例を知りたい方\n単純作業や定型業務を自動化した
 い方\n本来行うべき業務に時間を割けていないECご担当
 者\n\nこのセミナーでわかること\n\nEC運営の効率化方法
 \nRPAで自動化できるEC業務\n実際にEC部門で活用されて
 いるRPA事例\n\nセミナー概要\n近年オンラインショップ
 の利用者が急増し、EC需要が高まっている中、通販・EC
 業界の現場の課題として「運用リソース不足」や「残
 業時間による従業員への負担」が挙げられます。その
 解決策として、RPAを導入される企業様が増加していい
 ます。\n本セミナーでは、EC業務の効率化を実現するRPA
 活用方法や、実際にRPAを導入した企業の成功事例をご
 紹介します。みなさまの生産性向上のヒントになる情
 報をお届けいたしますので、 ご興味ある方はぜひお気
 軽にご参加ください。\n分からないことや気になるこ
 とがございましたらセミナー中、セミナー後いつでも
 ご質問ください。\n講師紹介\nスターティアレイズ株式
 会社　業務自動化ソリューション部　テクニカルコン
 サルティンググループリーダー　玉木 望美\n■経歴2015
 年に放送業界の企業に入社後、セキュリティ対策ソフ
 トの検証などテクニカルサポートとして従事。2020年に
 スターティアレイズに営業として入社後、さまざまな
 業界へRPA活用のソリューション提案を行う。その後Robo
 TANGOのテクニカルサポートチームとして従事し、顧客
 への操作レクチャーをはじめ、アプリケーションツー
 ルとの連動検証や活用方法の提案など営業支援を実施
 。今まで100社以上のRPA導入を支援。\nセミナー詳細\n\n\
 n\n\n\n\n\n\n\nタイトル\n【EC業界向け】ECサイト運営会社
 のRPA活用法と業務効率化の成功事例大公開\n\n\n日時\n20
 23年6月21日(水)14:00～15:00\n\n\n受講料\n無料\n\n\n主催\nス
 ターティアレイズ株式会社\n\n\n\n・お申込みいただい
 た際に、Zoom登録用URLをご登録いただいたメールアドレ
 スに送付致します。・セミナー当日のご参加も可能で
 す。・プログラムは、都合により予告無く変更する場
 合がございます。・ユーザー企業様向けのセミナーの
 為、同業者様のご参加はお断りさせていただく場合が
 ございます。\nセミナープログラム\n01　会社概要＆自
 己紹介02　RPAとは03　EC業界の活用方法　　┗　【部門
 別】EC業界のRPA活用方法・活用シーン　　┗　EC×RoboTAN
 GOのよくある使い方04　EC業界導入事例紹介05　まとめ
LOCATION:オンライン
URL:https://techplay.jp/event/904099?utm_medium=referral&utm_source=ics&utm
 _campaign=ics
END:VEVENT
END:VCALENDAR
