BEGIN:VCALENDAR
VERSION:2.0
PRODID:-//https://techplay.jp//JP
CALSCALE:GREGORIAN
METHOD:PUBLISH
X-WR-CALDESC:＜5月31日13時〜 / オンラインウェビナー＞【現
 役の人気TikTokerが語る!!】SNSの最新トレンド＆バズるコ
 ンテンツの作り方を徹底解説セミナー！
X-WR-CALNAME:＜5月31日13時〜 / オンラインウェビナー＞【現
 役の人気TikTokerが語る!!】SNSの最新トレンド＆バズるコ
 ンテンツの作り方を徹底解説セミナー！
X-WR-TIMEZONE:Asia/Tokyo
BEGIN:VTIMEZONE
TZID:Asia/Tokyo
BEGIN:STANDARD
DTSTART:19700101T000000
TZOFFSETFROM:+0900
TZOFFSETTO:+0900
TZNAME:JST
END:STANDARD
END:VTIMEZONE
BEGIN:VEVENT
UID:904603@techplay.jp
SUMMARY:＜5月31日13時〜 / オンラインウェビナー＞【現役
 の人気TikTokerが語る!!】SNSの最新トレンド＆バズるコン
 テンツの作り方を徹底解説セミナー！
DTSTART;TZID=Asia/Tokyo:20230531T130000
DTEND;TZID=Asia/Tokyo:20230531T140000
DTSTAMP:20260420T220323Z
CREATED:20230518T045738Z
DESCRIPTION:イベント詳細はこちら\nhttps://techplay.jp/event/90460
 3?utm_medium=referral&utm_source=ics&utm_campaign=ics\n\nSNSやTikTok活
 用を考えている企業担当者さま必見！\n現役で活躍す
 る人気の美容系TikTokerが、インフルエンサーならでは
 の目線でSNSの最新のトレンドや、企業でもできるバズ
 るコンテンツの作り方を徹底解説！2023年最新情報に基
 づいた、いま企業がTikTokを活用すべき理由と、成功す
 るアカウントに共通する運用の法則まで大公開！\nこ
 んな方にオススメ\n・これからTikTokを活用してみたい
 んだけど、何をどうすればいいか分からない…・TikTok
 の企業アカウントを始めてみたけれど、なかなか伸び
 ない…・2023年のTikTokの最新アルゴリズムを理解したい
 ・TikTok運用でどんな投稿/運用をすれば、アカウントを
 伸ばせるのか基礎から知りたい…・アカウントを伸ば
 していくために、何を指標・目標にすべきか分からな
 い…・フォロワーはそこそこ増えるんだけど、なかな
 か売上や効果に繋がらない…\n→こんなお悩みにぴっ
 たりなのが、株式会社Grillが手がけるSNS制作・運用サ
 ービスです！このセミナーを通して、これまでGrillが
 培ってきたノウハウを共有させていただきます！\n開
 催概要\n株式会社Grillは、情報キュレーションサービス
 を提供する 株式会社Gunosy と、マーケティングコミュ
 ニケーション会社である 株式会社SUNNY SIDE UPのジョイ
 ントベンチャーとして立ち上がり、独立したベンチャ
 ー企業です。\nこれまで大企業からスタートアップ企
 業まで、様々な会社のSNS/動画マーケティングをご支援
 させていただいてきました。\n今回のセミナーでは、
 現役で活躍する人気の美容系TikTokerが、インフルエン
 サーならではの目線で、TikTok運用の新手法についてご
 紹介いたします。\nまた、本セミナーはウェビナー（
 ライブ配信形式）で実施いたします。そのため、ご来
 場は不要で、ご自身のPCおよびスマートフォンなどか
 らご参加いただけます。\nこのセミナーで学べること\n
 ・最新のTikTokアルゴリズムを踏まえた運用方法・急成
 長するTikTokというプラットフォームにおける自社のフ
 ァン/顧客の作り方・TikTokでアカウントを成長させてい
 く秘訣・フォロワーを惹きつけ、商品の購買に転換さ
 せていく手法など。\n参加対象\n\nマーケティング担当
 者\nSNS運用担当者\nその他、TikTokに関してお悩みを抱え
 ている方\n\n参加費\n無料※お申し込み後、弊社担当者
 よりウェビナーURLをお送りさせていただきます。\n注
 意事項\n\n競合企業様・個人事業主の方につきましては
 、参加不可とさせていただきます。\n個人事業主の方
 など、法人格をお持ちのでない方の参加はご遠慮いた
 だいております。お申し込みフォームにて正しい法人
 格名をご記載ください。\nGメールやYahooメールなどの
 フリーメールアドレスでのお申し込みはお断りさせて
 いただいております。法人格にて利用しているメール
 アドレスのご記載をお願いいたします。\nその他一部
 の方に関しましても、弊社の判断で参加不可とさせて
 いただく可能性がございますこと予めご了承ください
 。\nキャンセル待ち・補欠・落選の方はご参加いただ
 くことが出来ませんのでご了承ください。\n欠席され
 る場合は、お手数ですが速やかにキャンセル処理をお
 願い致します。\n無断キャンセルや欠席が続く場合、
 次回以降の参加をお断りさせていただく場合がござい
 ます。\n
LOCATION:オンライン
URL:https://techplay.jp/event/904603?utm_medium=referral&utm_source=ics&utm
 _campaign=ics
END:VEVENT
END:VCALENDAR
