BEGIN:VCALENDAR
VERSION:2.0
PRODID:-//https://techplay.jp//JP
CALSCALE:GREGORIAN
METHOD:PUBLISH
X-WR-CALDESC:【BeeX社共催】ニアリアルタイム連携でのSAPとS
 alesforceデータの統合活用術！【Qlik Replicate】
X-WR-CALNAME:【BeeX社共催】ニアリアルタイム連携でのSAPとS
 alesforceデータの統合活用術！【Qlik Replicate】
X-WR-TIMEZONE:Asia/Tokyo
BEGIN:VTIMEZONE
TZID:Asia/Tokyo
BEGIN:STANDARD
DTSTART:19700101T000000
TZOFFSETFROM:+0900
TZOFFSETTO:+0900
TZNAME:JST
END:STANDARD
END:VTIMEZONE
BEGIN:VEVENT
UID:904775@techplay.jp
SUMMARY:【BeeX社共催】ニアリアルタイム連携でのSAPとSalesf
 orceデータの統合活用術！【Qlik Replicate】
DTSTART;TZID=Asia/Tokyo:20230525T120000
DTEND;TZID=Asia/Tokyo:20230525T130000
DTSTAMP:20260425T121558Z
CREATED:20230519T035419Z
DESCRIPTION:イベント詳細はこちら\nhttps://techplay.jp/event/90477
 5?utm_medium=referral&utm_source=ics&utm_campaign=ics\n\nデジタルト
 ランスフォーメーション（DX）が急速に進展する中で
 、ビジネス価値を最大限に引き出すためには、膨大な
 データを収集・統合・活用することが不可欠です。し
 かし、SAPやSalesforceのような複数のシステムのデータを
 統合することは、高度な技術と多大な時間・コストが
 必要となり、多くの企業が苦戦しています。\n本セミ
 ナーでは、SAPやSalesforceのようなビジネス価値の高いデ
 ータの統合を目的とし、インテグレーションのコスト
 削減や迅速な運用開始に必要な手法を解説します。SAP
 のクラウド移行や運用に関する豊富な経験とノウハウ
 を持つBeeX社より、複雑なデータを簡単に可視化するテ
 クニックと実装モデルを紹介します。当社CTO宮地のセ
 ッションでは、SAPとSalesforceデータを、クラウドのDWH（
 Snowflakeなど）にニアリアルタイムでインテグレーショ
 ンする最新手法をご紹介します。これらを活用するこ
 とで、貴社のビジネス価値の最大化やビジネスプロセ
 スの最適化につなげていただければ幸いです。\n概要\n
 \n\n\n\n\n\n\n\n\n日時\n2023年5月25日（木）午後12:00 – 13:00\
 n\n\n形式\nオンラインセミナー\n\n\n参加費\n無料\n\n\n主
 催\n株式会社インサイトテクノロジー\n\n\n共催\n株式会
 社BeeX\n\n\n定員\n500名（zoom定員）\n\n\n申込締め切り\n2023
 年5月25日（木）午前11:30\n\n\n\nタイムスケジュール\n\n\n
 \n\n\n\n\n\n\n12:00〜12:25\nBeeX社 セッションSAPデータのニア
 リアルタイム分析を実現する実装モデル例のご紹介従
 来から存在するSAPデータ活用の仕組み「SAP BW」は、SAP
 データの分析基盤として強力なソリューションです。
 然しながら実装内容によってデータの鮮度、レスポン
 スや運用の難しさなど、様々な問題点を抱えてしまう
 といった側面も持っています。これら課題への対応と
 して、SAP Code Pushdownの考え方を用いた実装モデルをご
 紹介いたします。橋口 大 氏株式会社BeeX　バリューア
 ッドコンサルティング本部　シニア テクニカル コン
 サルタント\n\n\n12:25〜12:50\nインサイトテクノロジー セ
 ッション企業内データ利活用の扉を開け！SAPとSalesforce
 データを周辺システムとつないでニアリアルタイムデ
 ータ分析するための手法現在、製造業をはじめ多くの
 企業で導入されているSAP ERPと顧客管理システムSalesforc
 e。DX（デジタルトランスフォーメーション）を推進し
 継続的に企業価値を高めていくためにも、SAPとSalesforce
 に集約されているコアな業務データや顧客データを周
 辺システムのデータと統合して、ニアリアルタイムか
 つシームレスにつないで利活用することが不可欠です
 。しかしながら、SAPとSalesforceの世界に閉じられたデー
 タを他システムと連携するには多くの課題があります
 。本セッションでは、このデータ連携の課題を「Qlik Re
 plicate」＋「パブリッククラウド」を活用して解決する
 方法のひとつをご紹介します。宮地 敬史株式会社イン
 サイトテクノロジーCTO\n\n\n12:50〜13:00\nQ&A\n\n\n\n\n\n\n\n参
 加費\n無料
LOCATION:オンライン
URL:https://techplay.jp/event/904775?utm_medium=referral&utm_source=ics&utm
 _campaign=ics
END:VEVENT
END:VCALENDAR
