BEGIN:VCALENDAR
VERSION:2.0
PRODID:-//https://techplay.jp//JP
CALSCALE:GREGORIAN
METHOD:PUBLISH
X-WR-CALDESC:【Webセミナー】ChatGPT・メタバース・web3を活用
 ！ ファンマーケティングDX
X-WR-CALNAME:【Webセミナー】ChatGPT・メタバース・web3を活用
 ！ ファンマーケティングDX
X-WR-TIMEZONE:Asia/Tokyo
BEGIN:VTIMEZONE
TZID:Asia/Tokyo
BEGIN:STANDARD
DTSTART:19700101T000000
TZOFFSETFROM:+0900
TZOFFSETTO:+0900
TZNAME:JST
END:STANDARD
END:VTIMEZONE
BEGIN:VEVENT
UID:905711@techplay.jp
SUMMARY:【Webセミナー】ChatGPT・メタバース・web3を活用！ 
 ファンマーケティングDX
DTSTART;TZID=Asia/Tokyo:20230615T100000
DTEND;TZID=Asia/Tokyo:20230615T110000
DTSTAMP:20260420T013247Z
CREATED:20230525T072240Z
DESCRIPTION:イベント詳細はこちら\nhttps://techplay.jp/event/90571
 1?utm_medium=referral&utm_source=ics&utm_campaign=ics\n\n近年、メデ
 ィアの分散化が起きており、自社メディア構築の必要
 性が高まっています。\n例えば、YouTubeなどの一般的な
 プラットフォームで配信しているコンテンツを自社メ
 ディアに限定配信することで、エンゲージメントの向
 上や安定した売上に繋げることが可能になります。\n
 しかし、頻繁に自社メディアを見にきてくれるファン
 を生み出すことは容易ではありません。そのため、「
 沼落ち」して熱いファンになるお客様を増やすマーケ
 ティング活動に注目が集まっています。\n売上の8割は2
 割の熱狂的なファンが生み出していると言われており
 、ファンマーケティングは今やどの企業も取り入れた
 い手法です。そこで、今回はファンマーケティングを
 活用したい企業におすすめのセミナーを開催します。\
 n話題の、ChatGPT・メタバース・web3などを活用した最先
 端のファンマーケティングもご紹介！新たな時代のマ
 ーケティングについて、一緒に考えてみませんか？\n
 こんな方におすすめです！\n\n自社サービスの熱狂的な
 ファンを増やしたい方\n他社にはない新しい企画や、
 ユニークなオンライン配信・ライブ配信を考えたい方\
 nファンとのコミュニケーションの実現やファンエンゲ
 ージメントを向上させたい方\n\n\nタイムスケジュール
 ～プログラム～\n\n\n\n時間\n内容\n\n\n\n\n10:00〜11:00\n１. 
   ファンマーケティングの歴史と潮流２．新時代のメ
 ディアとエンゲージメント戦略３．ChatGPTを活用したフ
 ァンマーケティングの未来４．ライブ配信を活用した
 ファンマーケティングDX５．ブイキューブのソリュー
 ション紹介\n\n\n\n※講演内容は、予告なく変更になる
 場合がございます\n\n\n\n登壇者\n株式会社ブイキューブ
 \nVCP事業推進室 室長　菊地 類\nプロフィール：横浜国
 立大学卒業後、新卒でブイキューブに入社。企業にお
 ける働き方改革の他、教育・医療・エンタメ・地域創
 生といったテーマで、サービスの中に映像を組み込ん
 だモデルの企画を推進。現在は、VCP事業推進室 室長と
 して「V-CUBE Communication Platform」というプロダクトを中
 心に新規事業開発に従事。本事業では「日本の優れた
 文化・コンテンツのファン育成を応援する」をテーマ
 に、世界中で日本の文化・コンテンツが評価される未
 来を目指している。\n※講師は、予告なく変更になる
 場合がございます。\nセミナー概要\n日時：2023年6月15
 日(木)10:00～11:00費用：無料対象：・顧客とのエンゲー
 ジメントを高めたい方・食品/飲料など、日用品メーカ
 ーご担当者・マーケティング、販売促進ご担当者・代
 理店の方（広告代理店、イベント代理店、旅行代理店
 等）※競合他社様につきましては、お断りさせていた
 だくことがございますので、予めご了承ください。\n
 会場：オンライン開催（Zoom ウェビナー）持ち物：イ
 ンターネットに接続可能なPC・スマートフォンをご用
 意ください
LOCATION:オンライン開催（Zoom ウェビナー）
URL:https://techplay.jp/event/905711?utm_medium=referral&utm_source=ics&utm
 _campaign=ics
END:VEVENT
END:VCALENDAR
