BEGIN:VCALENDAR
VERSION:2.0
PRODID:-//https://techplay.jp//JP
CALSCALE:GREGORIAN
METHOD:PUBLISH
X-WR-CALDESC:6/17 OSCオンライン北海道 セミナー 現地聴講
X-WR-CALNAME:6/17 OSCオンライン北海道 セミナー 現地聴講
X-WR-TIMEZONE:Asia/Tokyo
BEGIN:VTIMEZONE
TZID:Asia/Tokyo
BEGIN:STANDARD
DTSTART:19700101T000000
TZOFFSETFROM:+0900
TZOFFSETTO:+0900
TZNAME:JST
END:STANDARD
END:VTIMEZONE
BEGIN:VEVENT
UID:905870@techplay.jp
SUMMARY:6/17 OSCオンライン北海道 セミナー 現地聴講
DTSTART;TZID=Asia/Tokyo:20230617T150000
DTEND;TZID=Asia/Tokyo:20230617T154500
DTSTAMP:20260420T163747Z
CREATED:20230526T142627Z
DESCRIPTION:イベント詳細はこちら\nhttps://techplay.jp/event/90587
 0?utm_medium=referral&utm_source=ics&utm_campaign=ics\n\nブラックハ
 ットジャパンのセミナー(15:00-15:45)のみ、現地聴講が可
 能です\nこちらのセミナーは、札幌市産業振興センタ
 ーのルームAからの講演＆配信を予定していますので、
 会場での聴講も可能です。\n\n\n現地配信セミナー\n時
 間：15:00-15:45\nセミナータイトル：「嗚呼！サイバーセ
 キュリティは何処へ向かうのか！」\n担当：ブラック
 ハットジャパン \n\n\n会場名：札幌市産業振興センター
 　セミナールームA\n\n入場可能時間：13:00-\n当該セッシ
 ョン以外の発表、配信の視聴は予定しておりません。\
 n\n 参加者数の把握のためオフラインで聴講をご希望の
 方は登録をお願いいたします。\nOSCオンライン北海道
 について\nOSCオンライン北海道は、すべてのセッショ
 ンがオンラインでご聴講可能です。\n2023年6月17日(土) 1
 0:00～18:00 \nタイムテーブル \nhttps://register.ospn.jp/osc2023-o
 nline-do/modules/eventrsv/1.html\nオンライン参加登録はこちら
 から\nhttps://ospn.connpass.com/event/281181/
LOCATION:札幌市産業振興センター 北海道札幌市白石区東
 札幌5条1丁目1-1
URL:https://techplay.jp/event/905870?utm_medium=referral&utm_source=ics&utm
 _campaign=ics
END:VEVENT
END:VCALENDAR
