BEGIN:VCALENDAR
VERSION:2.0
PRODID:-//https://techplay.jp//JP
CALSCALE:GREGORIAN
METHOD:PUBLISH
X-WR-CALDESC:【SNS×マンガでリーチ最大化！】興味喚起・認
 知拡大を狙うためのSNS戦略セミナー
X-WR-CALNAME:【SNS×マンガでリーチ最大化！】興味喚起・認
 知拡大を狙うためのSNS戦略セミナー
X-WR-TIMEZONE:Asia/Tokyo
BEGIN:VTIMEZONE
TZID:Asia/Tokyo
BEGIN:STANDARD
DTSTART:19700101T000000
TZOFFSETFROM:+0900
TZOFFSETTO:+0900
TZNAME:JST
END:STANDARD
END:VTIMEZONE
BEGIN:VEVENT
UID:906060@techplay.jp
SUMMARY:【SNS×マンガでリーチ最大化！】興味喚起・認知
 拡大を狙うためのSNS戦略セミナー
DTSTART;TZID=Asia/Tokyo:20230623T150000
DTEND;TZID=Asia/Tokyo:20230623T160000
DTSTAMP:20260421T052637Z
CREATED:20230529T040051Z
DESCRIPTION:イベント詳細はこちら\nhttps://techplay.jp/event/90606
 0?utm_medium=referral&utm_source=ics&utm_campaign=ics\n\n【SNS×マン
 ガでリーチ最大化！】興味喚起・認知拡大を狙うため
 のSNS戦略セミナー\n– 当日のプログラム–\n第一部（15
 :00-15:25）：株式会社BESW\n\n《SNS集客で新規リーチ最大
 化！！》\nSNSでの認知拡大が成功する方法を大公開！
 ～投稿ノウハウから運用体制まで～\n昨今の新型コロ
 ナウイルス感染症拡⼤からアフターコロナへと向かう
 状況下で、「オンライン」営業活動にデジタルシフト
 が加速し、これまでWEBマーケティングに予算を投じて
 いない企業もデジタルに注目する時代になりました。 
 SNSを運用したマーケティングを成功させることにおい
 て必要なことは何でしょうか？お洒落な写真を投稿す
 る？流行りのダンス動画をだす？それらも確かに1つの
 「バズ」るコンテンツかもしれません。しかし、「バ
 ズ」で終わらせることが皆様のゴールでしょうか。い
 いえ、違うはずです。「バズ」らせたその先に、認知
 拡大・発注・成約など本来のSNSを活用すべき目的があ
 るはずです。それを達成するためには、お洒落な写真
 でもダンス動画でもなく、KGI・KPI設定の管理、「デー
 タ」をもとにしたPDCAサイクルを継続的にまわす仕組み
 が必要不可欠です。戦略・戦術部分に分け、戦略パー
 トでは業種に合わせたSNS選定とその活用事例、リンク
 先のクリック率UPへ繋げるアカウント設計等、戦術パ
 ートでは効果的なハッシュタグ選定方法、基礎的なマ
 ーケティング分析思考、顧客育成へ繋ぐメッセージ術
 等ご紹介いたします！ぜひこの機会にご参加ください
 ！\n– こんな方におすすめです –・今後、SNS集客を強
 化していきたい方・SNSアカウントの戦略にお悩みの方
 ・集客にお困りのマーケティング担当者・SNSを効果的
 に活用したい方\n– こんなことが学べます –\n\nSNS最
 新動向\nSNS集客におけるユーザーコミュニケーション
 の必要性\nSNSの運用戦略の立て方\n\nー スピーカー ー\n
 田中 千晶（Tanaka Chiaki）株式会社BESW 代表取締役2009年
 、大学在学中に会社を設立し、1年半で大手企業、中小
 企業50社と取引をする。Webプロモーション支援を得意
 とし、特にSNS活用支援で多くの実績をもつ。2012年から
 全国各地でセミナーを精力的に実施。シリコンバレー
 のFacebook本社やTwitter本社へ毎年出向いて直接SNSの最先
 端情報を仕入れてきている。角川出版社、マイナビ社
 、技術評論社、翔泳社、インプレス社でマーケティン
 グ支援の書籍を6冊出版。連載も7社で行う。自身のラ
 ジオ番組、パーソナリティとしても活動し、SNSの最新
 情報を届けている\n\n第二部（15:25-15:50）：株式会社フ
 ーモア\n«認知拡大・興味喚起に最適なマンガ»\n活用
 のメリットから具体的な活用方法・他社事例を一挙に
 紹介\n漫画は多くの人にとって馴染みあるコンテンツ
 であり、テキストだと説明が難しいことも分かりやす
 く伝えることができるという特徴があります。正しく
 活用することを学ぶことで、認知拡大・コンバージョ
 ン数の増加など、あらゆる場面で成果につなげること
 が可能です。\n本ウェビナーでは漫画クリエイティブ
 の活用方法全般から他社の活用事例や成功事例を一挙
 公開いたします。まだ聞いたことが無い方やこれから
 新しいクリエイティブ施策をお考えの方は必見です。
 是非ご参加ください。\n– こんな方におすすめです –
 ・クリエイティブの選択肢に困っている方・なかなか
 クリエイティブがクリックされない。・まだ漫画クリ
 エイティブを試したことが無い方\n– こんなことが学
 べます –・SNSで漫画を活用するメリット・他社の活用
 事例と成功事例\nー スピーカー ー\n三浦 有\n株式会社
 フーモア2022年、株式会社フーモアへ入社。金融業界で
 の経験を活かし、前職ではIoT技術の新規事業立ち上げ
 メンバーとして従事。現在は培ってきた専門的な知識
 と得意なエンタメ領域を組み合わせた企画や提案を行
 っている。\n\n– 詳細 –\n【日程】 6月23日(金)　15:00
 ～16:00\n**【開催形式】**オンライン\n【タイムスケジュ
 ール】15:00~15:25 第一部：株式会社BESW15:25~15:50 第二部：
 株式会社フーモア様15:50~16:00 質疑応答\n【注意事項】WE
 Bのみの開催となりますので、ご了承ください。エント
 リーいただいた方に、前日までにWEBセミナー開催のURL
 をお送りします。※WEBツール：Zoom ・競合、同業社様
 のご参加はお断りいたします。お申し込み後にやむを
 得ずご欠席される場合は、お手数ですが前日までに（i
 nfo@bes-japan.jp）にご連絡ください。
LOCATION:オンライン
URL:https://techplay.jp/event/906060?utm_medium=referral&utm_source=ics&utm
 _campaign=ics
END:VEVENT
END:VCALENDAR
