BEGIN:VCALENDAR
VERSION:2.0
PRODID:-//https://techplay.jp//JP
CALSCALE:GREGORIAN
METHOD:PUBLISH
X-WR-CALDESC:デモで解説！異なるデータソース間のデータ
 を簡単に抽出・加工・連携する方法 ≪Salesforce→BigQuery
 データ連携編≫
X-WR-CALNAME:デモで解説！異なるデータソース間のデータ
 を簡単に抽出・加工・連携する方法 ≪Salesforce→BigQuery
 データ連携編≫
X-WR-TIMEZONE:Asia/Tokyo
BEGIN:VTIMEZONE
TZID:Asia/Tokyo
BEGIN:STANDARD
DTSTART:19700101T000000
TZOFFSETFROM:+0900
TZOFFSETTO:+0900
TZNAME:JST
END:STANDARD
END:VTIMEZONE
BEGIN:VEVENT
UID:906069@techplay.jp
SUMMARY:デモで解説！異なるデータソース間のデータを簡
 単に抽出・加工・連携する方法 ≪Salesforce→BigQueryデー
 タ連携編≫
DTSTART;TZID=Asia/Tokyo:20230622T110000
DTEND;TZID=Asia/Tokyo:20230622T120000
DTSTAMP:20260424T095002Z
CREATED:20230529T044603Z
DESCRIPTION:イベント詳細はこちら\nhttps://techplay.jp/event/90606
 9?utm_medium=referral&utm_source=ics&utm_campaign=ics\n\nデモで解説
 ！異なるデータソース間のデータを簡単に抽出・加工
 ・連携する方法 ≪Salesforce→BigQueryデータ連携編≫\nセ
 ミナー概要\n日々の業務の中で、複数のツールやサー
 ビス間のデータ連携を簡単に行いたいと感じることは
 ありませんか？\nごく簡単な連携であれば手作業で済
 みますが、膨大な量のデータを各連携先のそれぞれの
 様式に合わせて加工する作業はミスや漏れも発生しや
 すく、かといって都度エンジニアに依頼してもすぐに
 対応できない可能性もありあまり効率的ではありませ
 ん。\nそこで今回は、Salesforce内のデータを抽出・加工
 してBigQueryへ連携するという、実際の使われ方として
 も多いケースをデータ加工・連携ツールのReckonerを使
 ってデモで再現し、作業をどのように効率化できるか
 を実際の画面でお見せいたします。\n※SalesforceやBigQuer
 y以外でも同様の使い方となりますので、それ以外のツ
 ールやサービスを使われている方も是非お気軽にご参
 加ください。\nこんな方におすすめ\n\n異なるデータソ
 ース間のデータ連携に課題をお持ちの方\nETLツールの
 導入を検討している方\nReckonerを使って何ができるのか
 知りたい方\n情報システム、セールス、マーケティン
 グなどデータを取り扱う方\n\n注意事項\n\n本セミナー
 は法人のお客様限定となります。また、同業者様のお
 申込みはお断りさせていただく場合がございます。\n
 視聴用URLは開催前日・当日のリマインドメールにてお
 知らせいたします。\n
LOCATION:オンライン（Zoom）
URL:https://techplay.jp/event/906069?utm_medium=referral&utm_source=ics&utm
 _campaign=ics
END:VEVENT
END:VCALENDAR
