BEGIN:VCALENDAR
VERSION:2.0
PRODID:-//https://techplay.jp//JP
CALSCALE:GREGORIAN
METHOD:PUBLISH
X-WR-CALDESC:SAPデータでリアルタイムデータ分析を実現す
 る最新手法を紹介するセミナー（参加無料）
X-WR-CALNAME:SAPデータでリアルタイムデータ分析を実現す
 る最新手法を紹介するセミナー（参加無料）
X-WR-TIMEZONE:Asia/Tokyo
BEGIN:VTIMEZONE
TZID:Asia/Tokyo
BEGIN:STANDARD
DTSTART:19700101T000000
TZOFFSETFROM:+0900
TZOFFSETTO:+0900
TZNAME:JST
END:STANDARD
END:VTIMEZONE
BEGIN:VEVENT
UID:906511@techplay.jp
SUMMARY:SAPデータでリアルタイムデータ分析を実現する最
 新手法を紹介するセミナー（参加無料）
DTSTART;TZID=Asia/Tokyo:20230609T124000
DTEND;TZID=Asia/Tokyo:20230609T132000
DTSTAMP:20260425T160216Z
CREATED:20230531T071309Z
DESCRIPTION:イベント詳細はこちら\nhttps://techplay.jp/event/90651
 1?utm_medium=referral&utm_source=ics&utm_campaign=ics\n\nインサイト
 テクノロジーは、2023年6月8日（木）〜6月9日（金）に
 開催される「日経クロステックNEXT 関西2023」にQlik社と
 の共同ブースにて出展し、弊社CTO宮地より6/9 （金）12:
 40～13:20のセミナーで登壇いたします。\nイベント概要\
 n【登壇セッション】企業内データ利活用の扉を開け！
 SAPデータでリアルタイムデータ分析を実現する最新手
 法を紹介するセミナー（参加無料）\n製造業をはじめ
 多くの企業に導入されているSAP ERP。本セッションでは
 、「Qlikクラウドデータ統合」＋「パブリッククラウド
 」で、SAPの世界に閉じられたコアな業務データと周辺
 システムのデータをリアルタイムに連携して利活用す
 る最新の手法をご紹介します。\n▼事前登録はこちら
 （無料）https://events.nikkeibp.co.jp/xtechnext/2023kan/info/\n▼セ
 ミナー申込はこちら（無料）https://ers.nikkeibp.co.jp/user/co
 ntents/2023x0608xtno/index.html#E_E-22D\n\n\n\n\n\n\n\n\n\n日時\n2023
 年6月8日（木）～9日（金）展示会　10：30～17：00セミ
 ナー　10：00～16：40（予定）\n\n\n会場\nグランフロント
 大阪 コングレコンベンションセンターhttp://www.congre-cc.
 jp/access/\n\n\n弊社ブース小間番号\n204\n\n\n開催形態\nリ
 アル開催\n\n\n主催\n日経BP\n\n\n入場料\n事前登録制（登
 録無料）\n\n\n\n出展ブース概要\n弊社ブースでは、◆「
 Qlik Replicate」&「Qlikクラウドデータ統合」SAPやSalesforce
 、各種DBのデータをバッチ処理ではなくニアリアルタ
 イムで利用可能にするデータ統合ソリューション。◆
 「Insight Data Masking」安全なデータ利活用のためにAIで個
 人情報を自動検出し、高速・高精度に匿名化するマス
 キング製品◆「Insight Governor」データを安全に統合・可
 視化し、迅速な意思決定を支援するためのDXインフラ
 整備ソリューション\n以上4点をグランフロント大阪 コ
 ングレコンベンションセンター「小間番号：204」にて
 出展いたします。\nご入場には事前登録が必要となり
 ますので、以下URLより事前登録をした上でご来場くだ
 さい。皆様のご来場を心よりお待ちしております。\n
 ▼事前登録はこちら（無料）https://events.nikkeibp.co.jp/xtec
 hnext/2023kan/info/\n▼セミナー申込はこちら（無料）https:/
 /ers.nikkeibp.co.jp/user/contents/2023x0608xtno/index.html#E_E-22D\n日
 経クロステックNEXT について\n「日経クロステックNEXT
 」は2022年までに開催してきたイベント「デジタルイノ
 ベーション」から改称した日経クロステック主催の新
 型イベントです。本イベントでは、日経クロステック
 編集長陣が注目技術の動向や本質、メリット、リスク
 を解説。DX先進企業の経営幹部や変革リーダーが、DX成
 功の法則を明かします。さらに、GX（グリーントラン
 スフォーメーション）や次世代自動車／MaaS、量子コン
 ピューター、Web3、メタバースなど話題のテーマについ
 ては、有識者・著名人による講演を通じて、旬の情報
 が入手いただけます。
LOCATION:グランフロント大阪 コングレコンベンションセ
 ンター 大阪府大阪市北区大深町３−１ グランフロン
 ト大阪北館 弊社ブース小間番号 204
URL:https://techplay.jp/event/906511?utm_medium=referral&utm_source=ics&utm
 _campaign=ics
END:VEVENT
END:VCALENDAR
