BEGIN:VCALENDAR
VERSION:2.0
PRODID:-//https://techplay.jp//JP
CALSCALE:GREGORIAN
METHOD:PUBLISH
X-WR-CALDESC:自分が作りたい物が実現できる『サッポロ電
 子クラフト部』
X-WR-CALNAME:自分が作りたい物が実現できる『サッポロ電
 子クラフト部』
X-WR-TIMEZONE:Asia/Tokyo
BEGIN:VTIMEZONE
TZID:Asia/Tokyo
BEGIN:STANDARD
DTSTART:19700101T000000
TZOFFSETFROM:+0900
TZOFFSETTO:+0900
TZNAME:JST
END:STANDARD
END:VTIMEZONE
BEGIN:VEVENT
UID:907035@techplay.jp
SUMMARY:自分が作りたい物が実現できる『サッポロ電子ク
 ラフト部』
DTSTART;TZID=Asia/Tokyo:20230624T093000
DTEND;TZID=Asia/Tokyo:20230624T120000
DTSTAMP:20260420T205320Z
CREATED:20230603T141440Z
DESCRIPTION:イベント詳細はこちら\nhttps://techplay.jp/event/90703
 5?utm_medium=referral&utm_source=ics&utm_campaign=ics\n\n『札幌で仲
 間と一緒にものづくりをしませんか？』\nものづくり
 をしたいけど、自分の技術だけでは足りない、アイデ
 アがない、時間が取れないなどであきらめていません
 か？\n一人でできないことでも、仲間と一緒ならばも
 のづくりを実現できます。\n「サッポロ電子クラフト
 部」では、定期的に集まり、仲間と共同でものづくり
 を進めてゆく活動です。作製するだけでなく、活動を
 通して、部活のメンバーとの交流や技術の向上できま
 す。今まで10期間で活動をして、70点以上の作品製作を
 しています。また、一般公開イベントに参加し、製作
 した作品を様々な人に見てもらい、交流するようにし
 ています。\n2019年7月～12月まで活動したシーズン9では
 、25名が参加し、約20もの作品ができあがりました（シ
 ーズン10は新型コロナウイルス蔓延のため中止してま
 す）。\n新たなシーズンとなる「シーズン11」では、5
 月から12月の期間でそれぞれのアイデアを作品として
 実現します。できあがった作品は最後にイベントに出
 展！たくさんの人々に作品を見てもらいます。\n新規
 部員を募集！\nサッポロ電子クラフト部では継続して
 参加するメンバーがおります。シーズン11では、第2回
 までの活動で18名が参加しております。いままでの18名
 に加え、新たに5名の新規会員を募集いたします。定員
 に達し次第、シーズン11の募集は終了となりますので
 ご注意ください。\n【こんな人に向いている活動です
 】\n\n仲間と一緒に何かを作りたい\nものづくりに興味
 がある\nRaspberry PiやArduino、3Dプリンタ、レーザーカッ
 ターなどを使ってみたい\n持っているスキルと他の人
 のスキルを合わせたものづくりをしたい\n持っている
 スキルを広げたい\n電子工作やプログラムを初めてみ
 たい \n作った作品をイベントで発表したい\n\n◆◆◆ 
 ここが注目点！！ ◆◆◆\n\nグループで一緒に楽しん
 で作るのも良し！個人でマイペースに作るのも良し！
 それぞれの合った参加方法を選べます。\n工作初心者
 でもベテランが作り方をアドバイス。電子工作などわ
 からなくても、作りたい作品の完成を目指して部員の
 アドバイスをもらいながら進められます。\n独自の学
 習用コンテンツを用意しています。電子工作初心者の
 場合は、まず学習用コンテンツで基本を学びましょう
 。\nシーズンの最後に作品を展示し、一般来場者に見
 てもらいます。\n開催日は有識者からものづくりに関
 する「プチセミナー」をします（15分程度）。例えば
 、3Dプリンタやラズパイの活用法、電子部品の使い方
 などです。\n\n【活動内容】\n\nサッポロ電子クラフト
 部は、参加者が合同または個人で作品を作る活動をし
 ます。\n初回に出題テーマに沿った制作作品を決め、
 グループまたは個人で制作を開始します。\nおおよそ
 隔週で集まり、製作作業を進めます。\n\n【セミナー】
 \n部活では作品作りのほか、ものづくりに関連するセ
 ミナーを開催します。\n今回のセミナーは以下の通り
 です。\n『楽しい楽しいはんだ付け』\n電子工作には、
 はんだ付けが付きものです。しかし、実際にはんだ付
 けしてみるとうまくいかないこともあるのではないで
 しょうか。そこで、今回のセミナーでははんだ付けに
 必要な道具やはんだ付けのノウハウなどを実演を交え
 て紹介します。\n【開催日時】\n初回の開催日時は以下
 の通りです。\n\n2023年6月24日（土）　9時30分～12時00分\
 n\n9時15分より開場いたします。\n【開催場所】\n「札幌
 市産業振興センター」\n　セミナールームD（産業振興
 棟 2階）\n札幌市白石区東札幌5条1丁目1-1\nWebサイト ： 
 https://www.sapporosansin.jp/\n【持ち物】\n\n筆記用具\n\n【参
 加方法】\nこのイベントページにある「このイベント
 に申し込む」を押して「新規参加」で参加表明をして
 ください。\n参加表明後は、開始日時に直接開催場所
 へおいでください。\n【参加費】\n「500円」\n参加費は
 、施設の使用料、機器レンタル費、最終発表のスペー
 ス利用料等に使います。\n【開催日】\nシーズン11は基
 本的に3週間間隔で開催します。\n最終開催日は12月上
 旬を予定しています。できあがった作品はイベントに
 出展して来場者に見てもらいます。\n日程の詳細は次
 のサイトを参照ください。\nhttps://sapporo-elec.com/season11-r
 equest/\n【注意事項】\n\n本イベントは、5月から12月まで
 の中期間での活動となります。一日限りでの参加を希
 望の方には向きません。ただし、すべての開催日に参
 加する必要はありません。ご予定が合うときにご参加
 ください。\n製作に利用する材料費等は、制作者の負
 担となります。\n作品を製作することが目的のイベン
 トです。作品を作る意欲が無い方には向きません。\n
 よくある質問については「FAQ」にまとめてあります。\
 n
LOCATION:札幌市産業振興センター 北海道札幌市白石区東
 札幌５条１丁目１−１
URL:https://techplay.jp/event/907035?utm_medium=referral&utm_source=ics&utm
 _campaign=ics
END:VEVENT
END:VCALENDAR
