BEGIN:VCALENDAR
VERSION:2.0
PRODID:-//https://techplay.jp//JP
CALSCALE:GREGORIAN
METHOD:PUBLISH
X-WR-CALDESC:ネットワーク自動化を実現させた4つの秘訣と
 事例　[ 経営者・管理職向け ]
X-WR-CALNAME:ネットワーク自動化を実現させた4つの秘訣と
 事例　[ 経営者・管理職向け ]
X-WR-TIMEZONE:Asia/Tokyo
BEGIN:VTIMEZONE
TZID:Asia/Tokyo
BEGIN:STANDARD
DTSTART:19700101T000000
TZOFFSETFROM:+0900
TZOFFSETTO:+0900
TZNAME:JST
END:STANDARD
END:VTIMEZONE
BEGIN:VEVENT
UID:907145@techplay.jp
SUMMARY:ネットワーク自動化を実現させた4つの秘訣と事例
 　[ 経営者・管理職向け ]
DTSTART;TZID=Asia/Tokyo:20230621T130000
DTEND;TZID=Asia/Tokyo:20230621T140000
DTSTAMP:20260425T164741Z
CREATED:20230605T043028Z
DESCRIPTION:イベント詳細はこちら\nhttps://techplay.jp/event/90714
 5?utm_medium=referral&utm_source=ics&utm_campaign=ics\n\n\nネットワ
 ーク自動化を実現させた4つの秘訣と事例\n概要\n人材
 不足や肥大するシステム運用コスト、属人化にシステ
 ムのブラックボックスなどの諸課題を解決し、市場全
 体に生まれてきている「企業の新しい価値創出」を行
 う流れに早々に乗りたいという経営者、管理職の方向
 けのウェビナーです。\n下記の様な課題をお持ちの経
 営者・管理職を対象としております。\n\n停滞している
 自動化プロジェクトを進めたい\nエンジニアのエンゲ
 ージメントを向上させて離職率を下げたい\n手を付け
 られていなかった本質的な課題を解決したい\n企業と
 して新しい価値創造に取り組みたい\nバラけてしまっ
 ている社内の言語を統一したい\n\nIT業界で深刻化しつ
 つある人材の問題やシステムの運用コスト、システム
 のブラックボックス化、大規模・複雑化していくシス
 テムなどなど頭を悩ませる経営課題は尽きない時代で
 す。\nそれらの課題を一手に解決することが出来る手
 法がネットワークの自動化ですが、「日々の業務に追
 われて着手する時間が取れない」「知識を持ったエン
 ジニアが揃わずに進められない」というお声が多く寄
 せられます。\nそんなネットワーク自動化の実現させ
 た４つ秘訣と事例を40分に濃縮してお伝えいたします
 。\n開催日時\n5月24日（水）13:10～13:50（待合室への入
 室開始は13:00～）\n定員\n20名　※定員を超えた場合は
 次回以降のウェビナーにご案内致します。\n参加費\n無
 料\n会場\nZoomにてオンライン開催
LOCATION:オンライン（zoom）
URL:https://techplay.jp/event/907145?utm_medium=referral&utm_source=ics&utm
 _campaign=ics
END:VEVENT
END:VCALENDAR
