BEGIN:VCALENDAR
VERSION:2.0
PRODID:-//https://techplay.jp//JP
CALSCALE:GREGORIAN
METHOD:PUBLISH
X-WR-CALDESC:今更聞けない！時代に乗り遅れないためのイ
 ンバウンド施策
X-WR-CALNAME:今更聞けない！時代に乗り遅れないためのイ
 ンバウンド施策
X-WR-TIMEZONE:Asia/Tokyo
BEGIN:VTIMEZONE
TZID:Asia/Tokyo
BEGIN:STANDARD
DTSTART:19700101T000000
TZOFFSETFROM:+0900
TZOFFSETTO:+0900
TZNAME:JST
END:STANDARD
END:VTIMEZONE
BEGIN:VEVENT
UID:907738@techplay.jp
SUMMARY:今更聞けない！時代に乗り遅れないためのインバ
 ウンド施策
DTSTART;TZID=Asia/Tokyo:20230719T133000
DTEND;TZID=Asia/Tokyo:20230725T150000
DTSTAMP:20260426T005655Z
CREATED:20230608T105556Z
DESCRIPTION:イベント詳細はこちら\nhttps://techplay.jp/event/90773
 8?utm_medium=referral&utm_source=ics&utm_campaign=ics\n\n『今更聞け
 ない!時代に乗り遅れないためのインバウンド施策』\n
 登壇テーマ\n 昨今、日本全体の外国人観光客は増加傾
 向にあり、街を歩けば多くの海外観光客を目にする機
 会が増えてきました。\nそこで今回は、インバウンド
 需要の回復に伴い必要不可欠なインバウンド施策のい
 ろはをお話しします。\n導入店舗数30\,000店舗以上の実
 店舗向け決済サービス『UnivaPay』を提供する「株式会
 社ユニヴァ・ペイキャスト」、複数の販売サイト管理
 をする宿泊予約サイトコントローラー『手間いらず』
 を宿泊施設向けに提供する「手間いらず株式会社」、I
 nstagramを中心としたマーケティングのサポートを行な
 い、アカウント運用や広告、インフルエンサー施策な
 ど幅広く対応する「グリーライフスタイル株式会社」
 、そして月間約1\,600万人のユーザー数を誇る国内最大
 級のおでかけサイト『aumo』を運用する「アウモ株式会
 社」で共催ウェビナーを開催します。\n インバウンド
 需要の回復はさらに加速することが予想される今だか
 らこそ、情報収集はとてもおすすめです！\nインバウ
 ンド施策を検討されている方はもちろん、まだ検討を
 していない方やこれから検討しようと思っていたが何
 から始めればいいのかわからない方にもわかりやすく
 解説いたします。\nタイムスケジュール\n＼お好きな時
 間で気になる内容だけを確認することも大歓迎です！
 ／オープニング：13:30~13:35\n①「アウモ株式会社」：13:
 35~13:55\n▶︎データで見るインバウンド回復傾向とコン
 テンツマーケティング \n②「手間いらず株式会社」：
 13:55~14:15\n▶︎インバウンド獲得に向けた新しい販路と
 販売戦略\n③「株式会社ユニヴァ・ペイキャスト」：14
 :15~14:35\n▶︎旅ナカのインバウンドを支える決済イン
 フラについて\n④「グリーライフスタイル株式会社」
 ：14:35~14:55\n▶︎インバウンド対策に向けた最新SNSの活
 用術\n エンディング：14:55~15:00\n参加対象\n\n経営者、
 事業者様\n\n開催日時\n\n7/19（水）13時半-15時｜リアル
 配信\n7/20（木）13時半-15時｜録画配信\n7/25（火）13時半
 -15時｜録画配信\n\n開催場所\n\nオンライン\n\n参加費\n\n
 無料\n\n登壇者\n阿部 敏明\nアウモ株式会社SaaSマーケテ
 ィング部 / シニアマネージャー\n2018年よりインターン
 として、グリー株式会社に入社。ライターとしてキャ
 リアをスタート。\n2020年よりグリー株式会社に入社、G
 lossom株式会社にて、SEOコンサルティングに従事した後
 、2021年にアウモ株式会社に出向。\nWebディレクターと
 して、SEO/コンテンツ、カスタマーサクセスグループと
 してデータ分析や、toB向けメディア運用など幅広い業
 務を担当。\n\n高部 琢\n手間いらず株式会社営業部\n2002
 年JTBに入社後、旅行営業を経験し、2008年より渡豪。\n
 現地旅行会社にて、企画・営業を中心にマネージメン
 ト職の経験を経て、\n2015年同社、日本支社立ち上げに
 伴い、帰国。\n部長職として、インバウンド事業を軌
 道に乗せ、\nネットと旅行業の融合の重要性を鑑み、20
 19年より『手間いらず』入社。\n営業職を務めています
 。\n\n小野塚 悟\n株式会社ユニヴァ・ペイキャスト営業
 推進部/部長\n2016年にOA機器販売を主業務とした事業会
 社にてコピー機等を販売する法人営業に従事。\n2017年
 より株式会社ユニヴァ・ペイキャストに入社。\nイン
 バウンド対応を主軸として、アジア地域のQR決済やク
 レジット決済システム販売に従事。\n\n吉田 博明\nグリ
 ーライフスタイル株式会社カスタマーサクセス部 / 事
 業企画グループ シニアマネージャー\n2013年にグリーに
 入社し、ゲームのコンサルティングや人事、広告運営
 を経て現状事業企画全般を管轄、SaasシステムであるSoc
 ialPittの責任者も兼任\n\n【ウェビナーご参加にあたっ
 てのお願い・注意事項】\n◆事前準備①聴講に必要な
 機器の準備聴講に必要となる端末（PC、タブレット端
 末や携帯電話等）やイヤフォン等をご準備ください。
 ②アプリのインストール＊お申し込み前に下記 Zoom テ
 ストサイト（https://zoom.us/test）で Zoom 会議に参加可能
 かご確認下さい。なお、Zoom アプリまたはブラウザか
 らご参加いただけます。＊初めて Zoom をご利⽤になる
 場合は、Zoom のダウンロードおよびインストールが必
 要になります。◆ウェビナー参加⽅法開講時間の1⽇前
 までにご登録いただきましたメールアドレス宛にウェ
 ビナー参加⽤URLを送信いたします。そちらに記載され
 た内容に従い、ウェビナーのサイトへアクセスしてく
 ださい。◆参加上の注意事項①ご参加頂ける⽅＊お申
 し込みいただいた⽅のみご参加頂けます。なお、別途
 ウェビナーのご案内に記載いたしました参加資格を満
 たさない場合、ご参加をお断りする場合がございます
 。＊参加⽤ URL へのアクセスは、お申込みされた⽅に
 限らせていただきます。招待メールやURL の第三者への
 転送はご遠慮ください。＊複数端末から同時に視聴す
 ることや、同⼀／複数端末から複数⼈での視聴はご遠
 慮ください。②ウェビナー開催中のご発⾔・ご質問に
 ついて＊ウェビナー開催中、参加者全員の⾳声は事務
 局にてミュート設定させていただきますので、参加者
 が⼝頭でご発⾔をしていただくことはできません。予
 めご了承いただきますようお願い申し上げます。＊質
 疑応答は、Zoom の Q&A 機能を使⽤いたします。質問の内
 容及びお時間によっては回答できない場合がございま
 すので、あらかじめご了承いただきますようお願い申
 し上げます。③録画・録⾳等の禁⽌＊参加者による録
 画、録⾳、配布いたしました資料の全部または⼀部の
 転載、改変、第三者への配布、ウェブサイトへのアッ
 プロード、SNS への投稿等はご遠いただきますようお願
 い申し上げます。\n
LOCATION:オンライン
URL:https://techplay.jp/event/907738?utm_medium=referral&utm_source=ics&utm
 _campaign=ics
END:VEVENT
END:VCALENDAR
