BEGIN:VCALENDAR
VERSION:2.0
PRODID:-//https://techplay.jp//JP
CALSCALE:GREGORIAN
METHOD:PUBLISH
X-WR-CALDESC:6/28(水) 17:00- PoCで終わらせない AI開発を成功に
 導くための課題分析のポイント
X-WR-CALNAME:6/28(水) 17:00- PoCで終わらせない AI開発を成功に
 導くための課題分析のポイント
X-WR-TIMEZONE:Asia/Tokyo
BEGIN:VTIMEZONE
TZID:Asia/Tokyo
BEGIN:STANDARD
DTSTART:19700101T000000
TZOFFSETFROM:+0900
TZOFFSETTO:+0900
TZNAME:JST
END:STANDARD
END:VTIMEZONE
BEGIN:VEVENT
UID:907895@techplay.jp
SUMMARY:6/28(水) 17:00- PoCで終わらせない AI開発を成功に導
 くための課題分析のポイント
DTSTART;TZID=Asia/Tokyo:20230628T170000
DTEND;TZID=Asia/Tokyo:20230628T180000
DTSTAMP:20260420T015244Z
CREATED:20230609T081914Z
DESCRIPTION:イベント詳細はこちら\nhttps://techplay.jp/event/90789
 5?utm_medium=referral&utm_source=ics&utm_campaign=ics\n\n■ プログラ
 ム概要\n社会のデジタル化が進み、企業のAI活用も加速
 度的に広がっています。その流れの中で、AIエンジニ
 アを社内に育成し、AI開発に取り組む企業も増えてい
 ます。しかし、AI開発の企画を立案しても途中で頓挫
 してしまう、PoCを実践しているがなかなか本開発につ
 ながらないなどの課題にぶつかり、成果につながらな
 いケースも多くあります。こうしたケースを回避する
 ためには、PoC実施前の現状や期待される成果や効果を
 明確にする課題分析が重要です。\nそこで本セミナー
 では、これまで製造業を中心としたさまざまな企業のA
 I開発を伴走支援してきたAI開発のエキスパートであるc
 onnectome.design株式会社の代表取締役 佐藤 聡氏にご登壇
 いただき、取り組むべき課題の分析方法や課題の技術
 的性質に応じた検討ポイント、扱うデータや解析種別
 に応じた適切な分析手法の選定方法等、AI開発を成果
 につなげるために必要な開発企画の設計方法を解説い
 ただきます。\n\n■ このような方におすすめ\n自社内AI
 開発に取り組んでいきたい、事業部門責任者、開発部
 門責任者、情報システム部門\n\n社内でAI開発を進めて
 いきたいがどのように進めればよいのか分からない\nPo
 Cを実施し始めているが、どのようにして本開発に繋げ
 ていけばよいのか分からない\n自社でAI開発に取り組も
 うとしているが成果が出ていない\n\n\n■ タイムスケジ
 ュール\n17:00-17:05　冒頭挨拶\n17:05-17:35　講演\n17:35-17:45
 　パネルディスカッション\n17:45-17:55　質疑応答\n17:55-1
 8:00　告知、アンケート\n\n■ スピーカー\nメインスピ
 ーカーconnectome.design株式会社 代表取締役 / 佐藤 聡氏\n1
 989年、東京理科大学工学部機械工学科ロボット研究室
 で初めてニューラルネットに触れる、電子楽器メーカ
 勤務後、ソフトウエア会社を起業し、20年弱システム
 開発。2011年、人工知能技術開発に特化したAIベンチャ
 ーに創業メンバーとして参加。主に製造業におけるAI
 活用案件に携わる。2017年、「一般社団法人日本ディー
 プラーニング協会(JDLA)」の理事、同協会の「産業活用
 促進委員会」の委員長を務め、DLの産業活用促進のた
 めの活動を行う。2018年5月末、起業したAIベンチャーを
 退職。同6月、新たにconnectome.design株式会社を設立し代
 表取締役社長に就任。日本ディープラーニング協会正
 会員日本ディープラーニング協会創業理事・産業活用
 促進委員会委員長（代表：佐藤）内閣府「未来技術x地
 方創生検討会」検討委員（外部有識者）（代表：佐藤
 ）環境省「令和元年度2050年を見据えた地域の特性を活
 かした地域循環共生圏のあり方に関する検討」アドバ
 イザ（代表：佐藤）2019年度JST未来社会創造事業・研究
 開発運営会議委員（代表：佐藤）　　モデレータース
 キルアップAI株式会社 / 代表取締役 / 田原 眞一\n東京
 大学大学院新領域創成科学研究科修了。新卒でエンジ
 ニアとプロジェクトマネジャーを経験後、リクルート
 にて数多くのAI案件に携わる。2017年に『スキルアップA
 I』を開始し、企業へのAI教育サービスの提供、コンサ
 ルティングを実施。著書に「徹底攻略 ディープラーニ
 ングG検定 ジェネラリスト問題集」。JDLAの人材育成委
 員も務める。\n\n■ 日時\n6月28日(水)　17:00-18:00  ( 参加
 費：無料 )\n\n■ 開催場所\nZoom\n※参加URLは、開催前日
 迄にご連絡いたします。メールが届かない方は、当日1
 2時迄に info@skillupai.com へお問い合わせください。\n\n
 ■ 注意事項\n※本セミナーは企業様限定のセミナーと
 なります。\n※本セミナーの途中入退室は自由です。\n
 ※一部プログラムに変更が生じる場合がございます。\
 n※競合他社様からのお申込み、または所属する会社名
 や団体名の記載のない方（個人名のみ、フリーランス
 の方含む）のお申込みは、参加をお断りさせていただ
 いております。予めご了承ください。　【ご協力のお
 願い】\n・申込後のキャンセルについては、前日まで
 にご連絡ください。\n\n■ 個人情報の取扱いについて\n
 \n人材育成サービス利用規約\n\nスキルアップスキルア
 ップAI株式会社が実施するセミナーにご参加いただく
 際には、「人材育成サービス利用規約」を遵守いただ
 くことへの同意をお願いしております。利用規約はこ
 ちらからご確認ください。\n\nプライバシーポリシー\n\
 n本セミナーの開催にあたり、スキルアップAI株式会社
 （以下、「当社」といいます）が取得したお客様の個
 人情報については、当社の「個人情報保護方針」に基
 づき、適正に取り扱います。また、当社はconnectome.desig
 n株式会社（以下「共催社」といいます）との間で、下
 記の通り、お客様の個人情報を共同利用いたします。\
 n（１）共同して利用する個人情報　　　本セミナーの
 お申込み時にご提供いただいた、氏名・メールアドレ
 ス・電話番号・住所・所属先情報、 アンケートの回答
 内容等（２）共同利用するものの範囲　　　共催社（
 ３）共同利用する者の利用目的　　　１．本セミナー
 に関するご案内、お問い合わせ等への対応のため　　
 　２．共催社が提供するイベントやサービス・商品情
 報等の紹介や告知のため　　　３．本セミナーの品質
 向上のため（４）共同して利用する個人情報の管理責
 任者　　　スキルアップAI株式会社　　　東京都千代
 田区神田三崎町３丁目３−２０ VORT水道橋Ⅱ 5F　　　
 代表取締役　田原 眞一\n個人情報の取扱いについてご
 同意を頂いた上でお申し込みをお願いしております。
 プライバシーポリシーはこちらからご確認ください。\
 n\n■ 運営団体\nスキルアップAI株式会社\nhttps://www.skillu
 pai.com/
LOCATION:Zoom
URL:https://techplay.jp/event/907895?utm_medium=referral&utm_source=ics&utm
 _campaign=ics
END:VEVENT
END:VCALENDAR
