BEGIN:VCALENDAR
VERSION:2.0
PRODID:-//https://techplay.jp//JP
CALSCALE:GREGORIAN
METHOD:PUBLISH
X-WR-CALDESC:1年後、ChatGPTは企業にどのような影響を与える
 のか？ ～脆弱性診断の技術者が考えるAI活用と課題～
X-WR-CALNAME:1年後、ChatGPTは企業にどのような影響を与える
 のか？ ～脆弱性診断の技術者が考えるAI活用と課題～
X-WR-TIMEZONE:Asia/Tokyo
BEGIN:VTIMEZONE
TZID:Asia/Tokyo
BEGIN:STANDARD
DTSTART:19700101T000000
TZOFFSETFROM:+0900
TZOFFSETTO:+0900
TZNAME:JST
END:STANDARD
END:VTIMEZONE
BEGIN:VEVENT
UID:907901@techplay.jp
SUMMARY:1年後、ChatGPTは企業にどのような影響を与えるの
 か？ ～脆弱性診断の技術者が考えるAI活用と課題～
DTSTART;TZID=Asia/Tokyo:20230630T154500
DTEND;TZID=Asia/Tokyo:20230630T160500
DTSTAMP:20260420T110418Z
CREATED:20230609T102953Z
DESCRIPTION:イベント詳細はこちら\nhttps://techplay.jp/event/90790
 1?utm_medium=referral&utm_source=ics&utm_campaign=ics\n\n#1年後、ChatG
 PTは企業にどのような影響を与えるのか？\n注目を集め
 ている「ChatGPT」を始めとした生成AI。その進化と影響
 は計り知れません。\n現時点では、企業での利用につ
 いては、「積極的に利用すべき」「制限すべき」の賛
 否があるようです。しかし「1年後」は大きく状況が変
 わっていることは確実です。\nChatGPTは、企業の運営を
 どのように変革し、その進化は未来のビジネスをどう
 変えるのでしょうか？我々はこれらの問いを深堀りす
 るために、この特別なイベントを企画しました。\n業
 界の第一線で、実際にChatGPTなどの生成AIを活用してい
 る企業をゲストとしてお迎えし、マジセミ代表の寺田
 とともに、「1年後、ChatGPTは企業にどのような影響を
 与えるのか？」というテーマで対談を行います。\nま
 た、参加者から頂いた質問にリアルタイムに回答して
 いきます。\nChatGPTが変える、1年後の企業の風景につい
 て一緒に考えましょう。\n本セッションは「1年後、Chat
 GPTは企業にどのような影響を与えるのか？」というテ
 ーマで継続的に開催しているオンラインイベントの１
 セッションです。\n「1年後、ChatGPTは企業にどのような
 影響を与えるのか？」のイベント全体、及び他のセッ
 ションの情報については、以下のページから参照して
 下さい。\nまた、以下のページから、募集中の全ての
 セッションのお申し込みができます。\n脆弱性診断の
 技術者が考えるAI活用と課題\n人力や高価なツールを用
 いて行われている静的コード解析やペネトレーション
 テストなど、脆弱性診断の分野ではAIを活用するオー
 プンな動きが出てきています。そういった診断の現状
 と、弊社で考える未来の形を本セミナーでお話します
 。\n講演者\nサイエンスパーク株式会社プラットフォー
 ム部 バグダス検証課三浦 秀朗\nプロフィール\n長年、
 サイエンスパークにてドライバ開発などに従事。セキ
 ュリティソフトウェアの開発からデバイスドライバ開
 発まで幅広い実績あり。最近では、IoT機器、Webサイト
 の脆弱性診断などを担当している。\n本セッションの
 時間\n（５分前に別途ご連絡するURLからZoomにご参加下
 さい）\n15:45～15:55　脆弱性診断の技術者が考えるAI活
 用と課題\n15:55～16:05　質疑応答・ディスカッション\n16
 :05～　続けて他のセッションにもご参加下さい\n他の
 セッションも含めたお申込はこちら。
LOCATION:オンラインウェビナー参加用URL
URL:https://techplay.jp/event/907901?utm_medium=referral&utm_source=ics&utm
 _campaign=ics
END:VEVENT
END:VCALENDAR
