BEGIN:VCALENDAR
VERSION:2.0
PRODID:-//https://techplay.jp//JP
CALSCALE:GREGORIAN
METHOD:PUBLISH
X-WR-CALDESC:今のマーケティングで大丈夫？ SNS×サイト×マ
 ンガコンテンツ活用で成功に導くノウハウ大公開！
X-WR-CALNAME:今のマーケティングで大丈夫？ SNS×サイト×マ
 ンガコンテンツ活用で成功に導くノウハウ大公開！
X-WR-TIMEZONE:Asia/Tokyo
BEGIN:VTIMEZONE
TZID:Asia/Tokyo
BEGIN:STANDARD
DTSTART:19700101T000000
TZOFFSETFROM:+0900
TZOFFSETTO:+0900
TZNAME:JST
END:STANDARD
END:VTIMEZONE
BEGIN:VEVENT
UID:908311@techplay.jp
SUMMARY:今のマーケティングで大丈夫？ SNS×サイト×マン
 ガコンテンツ活用で成功に導くノウハウ大公開！
DTSTART;TZID=Asia/Tokyo:20230713T140000
DTEND;TZID=Asia/Tokyo:20230713T150000
DTSTAMP:20260420T014319Z
CREATED:20230613T043428Z
DESCRIPTION:イベント詳細はこちら\nhttps://techplay.jp/event/90831
 1?utm_medium=referral&utm_source=ics&utm_campaign=ics\n\n今のマーケ
 ティングで大丈夫？ SNS×サイト×マンガコンテンツ活
 用で成功に導くノウハウ大公開！\n\n– 当日のプログ
 ラム–\n第一部（14:00-14:20）:株式会社BESW\nSNSから新規
 リーチ増加！効率的にユーザー認知獲得とエンゲージ
 メントを高める戦略とは？\n本セミナーでは、SNSの拡
 散力を活かして費用効果的に認知向上・問い合わせを
 実現するために、SNS運用のKGI/KPIといった戦略の立案か
 ら、TwitterやInstagramなど 媒体の特徴やその活かし方ま
 で、事例を交えて具体的に幅広く解説いたします！\n
 – こんな方におすすめです –\n・今後、SNS集客を強化
 していきたい方・SNSアカウントの戦略にお悩みの方・
 集客にお困りのマーケティング担当者・SNSを効果的に
 活用したい方\n– こんなことが学べます –\n・SNS最新
 動向・SNS集客におけるユーザーコミュニケーションの
 必要性・SNSの運用戦略の立て方\nー スピーカー ー\n田
 中 千晶（Tanaka Chiaki）株式会社BESW 代表取締役2009年、
 大学在学中に会社を設立し、1年半で大手企業、中小企
 業50社と取引をする。Webプロモーション支援を得意と
 し、特にSNS活用支援で多くの実績をもつ。2012年から全
 国各地でセミナーを精力的に実施。シリコンバレーのF
 acebook本社やTwitter本社へ毎年出向いて直接SNSの最先端
 情報を仕入れてきている。角川出版社、マイナビ社、
 技術評論社、翔泳社、インプレス社でマーケティング
 支援の書籍を6冊出版。連載も7社で行う。自身のラジ
 オ番組、パーソナリティとしても活動し、SNSの最新情
 報を届けている\n\n第二部（14:20-14:40）株式会社インフ
 ォネット\n今こそWebサイトを最大限活用すべき～CMSを
 活用したサイト運用術～\n企業を取り巻く環境がめま
 ぐるしく変わる昨今において、Webサイトを使った情報
 発信やマーケティングの重要性が増してきています。
 しかしすでにWebサイトはあるものの「情報をタイムリ
 ーに更新できない」「更新作業が属人化してしまう」
 「自分たちで更新したいが、制作会社に依頼すると時
 間やコストがかかる」などのお悩みをお持ちの方も多
 いのではないでしょうか？Webサイトを最大限活用し情
 報発信を行っていくためには、まず「自社で更新・運
 用できる仕組みづくり」が欠かせません。本セミナー
 では、Webサイトの有効活用するための運用術や、それ
 をサポートする当社プロダクト「infoCMS」についてご紹
 介します。\n– こんな方におすすめです –\n・マーケ
 ティング/広報のご担当の方・サイト管理を行っている
 部署の担当者、役職者の方・Webサイトはあるが、サイ
 トの活用方法がわからない方・サイトの更新性を高め
 、最大限に活用していきたい方\n– こんなことが学べ
 ます –\n・Webサイトを更新する必要性・Webサイトの活
 用方法\nー スピーカー ー\n村岡 祐輔(Yusuke Muraoka）\n株
 式会社インフォネット　メディアプロデュース部大学
 卒業後、大手ハウスメーカーにて個人営業を経験した
 のち、中古車情報運営企業において、Webや紙媒体の広
 告企画の法人営業に従事。2021年、インフォネットへ入
 社。インフォネットでは主に関西の法人企業に対し、W
 ebサイトの企画・提案営業に従事している。「成果創
 出」の理念のもと、顧客のWebサイトの「あるべき姿」
 を想定し、本質的な課題を解決することを信条として
 いる。\n\n第三部（14:40-15:00）：株式会社シンフィール
 ド\nユーザー心理を掴む！SNSでマンガを活用した施策\n
 最近SNSで増えているマンガ広告。ついつい見てしまっ
 た経験はございませんか？今回はSNSでマンガを使った
 施策について解説していきます。また、併せてSNSでバ
 ズった４コマ漫画『100話で心折れるスタートアップ』
 から“バズる法則”も考えます。\n– こんな方におす
 すめです –\n・広告効果を最大限に発揮したい・Web戦
 略の施策をご検討の方・マンガを活用したコンテンツ
 に興味のある方\n– こんなことが学べます –\n・SNSで
 のマンガ広告活用について・自社のサービス・商品を
 訴求する戦略\nー スピーカー ー\n加藤 健太郎(Kentaro Kat
 o）\n株式会社シンフィールド　マンガクリエイティブ
 事業部サブマネージャー前職葬儀社から営業未経験で
 シンフィールドに転職。入社1年で半期目標達成と社内
 表彰で2部門受賞いたしました。現在はサブマネージャ
 ーとして、代理店向け営業チームの管理・仕組み化を
 行いながらクライアントのROIに貢献するためのマンガ
 提案を行っております！\n【注意事項】WEBのみの開催
 となりますので、ご了承ください。エントリーいただ
 いた方に、前日までにWEBセミナー開催のURLをお送りし
 ます。※WEBツール：Zoom ・競合、同業社様のご参加は
 お断りいたします。お申し込み後にやむを得ずご欠席
 される場合は、お手数ですが前日までに（info@bes-japan.j
 p）にご連絡ください。
LOCATION:オンライン
URL:https://techplay.jp/event/908311?utm_medium=referral&utm_source=ics&utm
 _campaign=ics
END:VEVENT
END:VCALENDAR
