BEGIN:VCALENDAR
VERSION:2.0
PRODID:-//https://techplay.jp//JP
CALSCALE:GREGORIAN
METHOD:PUBLISH
X-WR-CALDESC:観光スポットやイベントの人流が一目でわか
 る「人流アナリティクスツーリズム」サービス説明会
X-WR-CALNAME:観光スポットやイベントの人流が一目でわか
 る「人流アナリティクスツーリズム」サービス説明会
X-WR-TIMEZONE:Asia/Tokyo
BEGIN:VTIMEZONE
TZID:Asia/Tokyo
BEGIN:STANDARD
DTSTART:19700101T000000
TZOFFSETFROM:+0900
TZOFFSETTO:+0900
TZNAME:JST
END:STANDARD
END:VTIMEZONE
BEGIN:VEVENT
UID:908450@techplay.jp
SUMMARY:観光スポットやイベントの人流が一目でわかる「
 人流アナリティクスツーリズム」サービス説明会
DTSTART;TZID=Asia/Tokyo:20230622T160000
DTEND;TZID=Asia/Tokyo:20230622T163000
DTSTAMP:20260420T185601Z
CREATED:20230613T153824Z
DESCRIPTION:イベント詳細はこちら\nhttps://techplay.jp/event/90845
 0?utm_medium=referral&utm_source=ics&utm_campaign=ics\n\n〜全国各地
 の人流回復に対応。有名観光スポット22地点の人流動
 向を分析〜\n観光マーケティングに特化した新たな分
 析ツール「人流アナリティクスツーリズム」の発表に
 合わせて、サービス説明会を開催いたします。\nこれ
 からの観光地域づくりを行う担当者に求められている
 データに基づいたマーケティング。様々な分野でデジ
 タル化が進められる中、多くの企業や自治体における
 現場においてもデータ活用が積極的に取り組まれてい
 ます。そのような中、位置情報ビッグデータを活用し
 た人流データは今後の観光マーケティングや観光地の
 イベント分析に欠かせないデータとなっています。\n
 本セミナーでは、賑わいを取り戻した観光地の来訪者
 動向をわかりやすく把握できる新サービス「人流アナ
 リティクスツーリズム」を活用し、人気観光スポット
 の来訪者の人出がどのように変化したのか？また、そ
 の来訪者がどの都道府県や地域から訪れたのか？を誰
 でも把握できる方法をサービスを通してわかりやすく
 解説していきます。\n人流データを活用した観光地の
 分析にまだ取り組まれていない方でも安心して参加い
 ただける30分のショートセミナーです。\n\nこのような
 方におすすめ\n\nコロナ後の最新の観光地における観光
 客の行動分析に興味をお持ちの方\n観光マーケティン
 グやイベント分析について情報を探されている方ィン
 グ広告について詳しく知りたい方\n位置情報ビッグデ
 ータを活用した分析サービスに興味をお持ちの方*観光
 業界、地方自治体などで観光関係を担当されている方
 、イベント関係の業務に取り組まれている方\n\nトピッ
 ク\n\n人流アナリティクスツーリズムとは？\n観光マー
 ケティングにおける人流データの活用について\n人流
 アナリティクスツーリズムの機能と使い方のご紹介\n
 活用事例のご紹介\n\n無料でサービスアカウントを登録
 \n本セミナーで紹介する「人流アナリティクスツーリ
 ズム」は、無料でアカウント登録いただくことができ
 ます。\nセミナー当日は新サービスを通して解説して
 いきます。事前にアカウントを登録いただくことで人
 流データを活用した観光地の分析を体験いただくくこ
 とができますので事前にご登録ください。\n以下のサ
 イトからご登録ください。\n◆人流アナリティクスツ
 ーリズムを登録\n「人流アナリティクスツーリズム」
 の機能紹介\n\n高精度データをすぐに確認できる「5つ
 の人流速報機能」を搭載。これまで把握が難しかった
 「来訪者がどこから来ているか」の比率をデータを元
 に的確に把握することができます。観光マーケティン
 グの施策を進める上で、観光客の出発エリアを把握す
 ることはとても重要です。都道府県から市区町村のレ
 ベルまで把握できる機能を新たに搭載しました。\n\nSPE
 AKER\n\n吉永　倫久Sr. Marketing Managerクロスロケーション
 ズ株式会社\nSession. 観光スポットやイベント会場など
 の人流が一目でわかる「人流アナリティクスツーリズ
 ム」について解説します\n「人流」を見える化するク
 ラウドサービスのスペシャル版として新たに公開した
 「人流アナリティクスツーリズム」のサービスについ
 てわかりやすく解説いたします。\n\n開催概要\n日　時
 ： 2023年6月22日（木）　時　間　16：00 ～ 16：30定　員
 ： 30名参加費： 無料開催方法： オンライン（Zoomウェ
 ビナー）セミナー詳細ページ：https://www.x-locations.com/sem
 inar/20230622/※本セミナーご登録後に当日の視聴用のURL
 をご案内いたします。\n◆主催クロスロケーションズ
 株式会社\n◆参加費無料　※オンライン開催　 Zoomウェ
 ビナー\n◆注意事項お申し込みには貴社名・アドレス
 ・部署・電話番号が必須となります。リクルーティン
 グ、勧誘など、採用目的でのイベント参加はお断りし
 ております。参加を辞退する場合は、詳細ページより
 申込のキャンセルをお願いいたします。同業他社さま
 のご参加はお断りさせていただいております。ご理解
 のほどお願い申し上げます。\n【個人情報の取り扱い
 】個人情報保護管理者兼お問い合わせ窓口 ：〒150-0022
 　東京都渋谷区恵比寿南1丁目2-9　小林ビル6階クロス
 ロケーションズ株式会社　個人情報保護管理責任者　
 取締役CFOメールアドレス：privacy＠x-locations.com利用目的
  ：セミナーへの参加のご案内、当社のサービスに関す
 るご案内・営業およびマーケティング活動のため任意
 性：お客様からご提供頂ける個人情報はお客様の任意
 です。但し必要な項目をご提供頂けない場合は利用目
 的を達成できないことがあります。※ 本セミナーのお
 申込みをもって、上記内容に同意したものとみなしま
 す。
LOCATION:オンラインZoom
URL:https://techplay.jp/event/908450?utm_medium=referral&utm_source=ics&utm
 _campaign=ics
END:VEVENT
END:VCALENDAR
