BEGIN:VCALENDAR
VERSION:2.0
PRODID:-//https://techplay.jp//JP
CALSCALE:GREGORIAN
METHOD:PUBLISH
X-WR-CALDESC:大企業同士で生まれるオープンイノベーショ
 ンの最前線 ～大企業同士だから生み出される価値と、
 その実践方法～
X-WR-CALNAME:大企業同士で生まれるオープンイノベーショ
 ンの最前線 ～大企業同士だから生み出される価値と、
 その実践方法～
X-WR-TIMEZONE:Asia/Tokyo
BEGIN:VTIMEZONE
TZID:Asia/Tokyo
BEGIN:STANDARD
DTSTART:19700101T000000
TZOFFSETFROM:+0900
TZOFFSETTO:+0900
TZNAME:JST
END:STANDARD
END:VTIMEZONE
BEGIN:VEVENT
UID:908758@techplay.jp
SUMMARY:大企業同士で生まれるオープンイノベーションの
 最前線 ～大企業同士だから生み出される価値と、その
 実践方法～
DTSTART;TZID=Asia/Tokyo:20230706T160000
DTEND;TZID=Asia/Tokyo:20230706T170000
DTSTAMP:20260421T203031Z
CREATED:20230616T060237Z
DESCRIPTION:イベント詳細はこちら\nhttps://techplay.jp/event/90875
 8?utm_medium=referral&utm_source=ics&utm_campaign=ics\n\n大企業同士
 で生まれるオープンイノベーションの最前線\n～大企
 業同士だから生み出される価値と、その実践方法～\n
 概要\nこんにちは！\n今回のセミナーを担当するeiicon co
 nsultantの吉田翔です！\nオープンイノベーションを用い
 た事業創出が増え始めている昨今、オープンイノベー
 ション3.0といわれる1対多のイノベーション創出の形が
 増えています。そしてその中心にいるのは大企業です
 。\n大きなアセットを持つ大企業同士が手を組むから
 こそ、業界構造をも変える大きな変革のうねりをつく
 ることが可能であり、共創の輪を広げていく骨格とな
 ります。\nこれまで大企業×スタートアップの座組が多
 かったですが、大企業同士のオープンイノベーション
 も“当たり前”になってきている最前線をお届けしま
 す。\nそして、まさに自社が取り組んでいく初期ステ
 ップもお伝えしますので、実践型のセミナーとしてご
 期待ください。\n本セミナーは、昨年38社の事業創出プ
 ログラムをご支援し、累計26\,000社登録のオープンイノ
 ベーションプラットフォームAUBAをもつeiiconのノウハウ
 を生かした新規事業創出のための実践ノウハウをお伝
 えするものです。\nコンテンツ\n・大企業が主導となる
 オープンイノベーション3.0の潮流・大企業同士の共創
 がもたらすもの・大企業を取り巻くイノベーション環
 境の変化・大企業同士の共創事例・大企業同士の共創
 を進めるステップ・Q&A\nこんな方にオススメ！\n新規事
 業部/経営企画部の方など新規事業を推進している方ま
 たはこれから部署や組織を立ち上げて新規事業の取り
 組みを始める方\n・事業規模の大きい新規事業を会社
 から求められている。・スタートアップと事業創出に
 取り組んでいるがうまくいっていない。・新規事業に
 取り組んでいるが、有効な施策が実行できていない。
 ・部署や組織で新規事業の取り組みを検討しているが
 、なかなか前に進んでいない。\n登壇者\n\n吉田 翔\n新
 卒にて大手広告代理店に入社。顧客のマーケティング
 課題に対して、現状分析～企画立案～メディア設計ま
 でトータルした支援を行う。顧客は、飲食・通信・家
 電メーカー・インフラまで多岐に渡り、テレビ・新聞
 ・webといったメディアからイベント設計まであらゆる
 プロモーション駆使して課題解決に注力。\n現在はeiico
 nにてインキュベーションセールスとして大手企業様の
 新規事業創出・オープンイノベーションプログラム（
 アクセラレータープログラム）などの企画・実行支援
 に従事。\n\n■支援事例（一部抜粋）\n・大手自動車メ
 ーカー様オープンイノベーションプログラム\n・ITソフ
 トウェア企業様インキュベーションプログラム\n・鉄
 道企業様オープンイノベーションプログラム　　など
 の運営責任者\nその他、国立研究機関やスポーツ庁、
 三重県、ほか、\n自治体などのプログラムでのインキ
 ュベーション支援など多数。\n\n\n参加方法・参加費\n
 無料オンライン開催（参加方法は別途ご案内させてい
 ただきます）\n注意事項\n※参加を辞退する場合は、詳
 細ページより申込のキャンセルをお願いいたします。
 ※無断キャンセル・欠席が続く場合、次回以降の参加
 をお断りさせていただく場合がございますのでご了承
 ください
LOCATION:オンライン（参加方法は別途ご案内させていただ
 きます）
URL:https://techplay.jp/event/908758?utm_medium=referral&utm_source=ics&utm
 _campaign=ics
END:VEVENT
END:VCALENDAR
