BEGIN:VCALENDAR
VERSION:2.0
PRODID:-//https://techplay.jp//JP
CALSCALE:GREGORIAN
METHOD:PUBLISH
X-WR-CALDESC:【7/14無料セミナー】新たな広報戦略を先取り
 ！FORTNITEが生み出す企業PR効果
X-WR-CALNAME:【7/14無料セミナー】新たな広報戦略を先取り
 ！FORTNITEが生み出す企業PR効果
X-WR-TIMEZONE:Asia/Tokyo
BEGIN:VTIMEZONE
TZID:Asia/Tokyo
BEGIN:STANDARD
DTSTART:19700101T000000
TZOFFSETFROM:+0900
TZOFFSETTO:+0900
TZNAME:JST
END:STANDARD
END:VTIMEZONE
BEGIN:VEVENT
UID:909026@techplay.jp
SUMMARY:【7/14無料セミナー】新たな広報戦略を先取り！FOR
 TNITEが生み出す企業PR効果
DTSTART;TZID=Asia/Tokyo:20230714T170000
DTEND;TZID=Asia/Tokyo:20230714T180000
DTSTAMP:20260420T155209Z
CREATED:20230619T021138Z
DESCRIPTION:イベント詳細はこちら\nhttps://techplay.jp/event/90902
 6?utm_medium=referral&utm_source=ics&utm_campaign=ics\n\nこのような
 方に聞いていただきたい\n・広報やマーケティング担
 当者様・新しい広報戦略を模索している企業担当者様
 ・FORTNITEをPR活用することに興味がある/検討されてい
 る方・FORTNITEをPR活用するメリットを知りたい方\n概要\
 n今年に入り、FORTNITEからUnreal Editor for FORTNITE（以下：UE
 FN）が発表され、だれでも自由にエリアを制作するこ
 とが可能になりました。それより以前から、FORTNITEを
 活用したPR施策を行っている企業も増えてきています
 。しかし、ゲームとPRをどのようにつなぎ合わせれば
 よいのか、本当に効果はあるのか迷われる方も多いの
 ではないでしょうか。本セミナーではそのような企業
 様向けに「FORTNITEが企業PRにどのように活用され得るの
 か」についてご紹介していきます。\nプログラム内容\n
 ・セミナー「FORTNITEが生み出す企業PR効果」・Q＆A※一
 部内容を変更する場合がございますのでご了承くださ
 い\n開催日時\n7月14日（金）17:00〜17:30\n詳細参加費用：
  無料形式： XR CLOUDによるメタバースセミナー※お申
 込みいただいたメールアドレス宛に、参加用URLをお送
 りします。※競合他社様や個人事業主様、学生の方の
 ご参加はご遠慮いただいております。ご了承ください
 。※本セミナーはPRでフォートナイトの活用を検討し
 ている企業様向けの内容となっております。monoAI techno
 logy株式会社についてのご質問にはお答えできません。
 \n登壇者\nmonoAI technology株式会社メタバース制作部プロ
 ジェクトマネージャー権 哲昊
LOCATION:メタバースプラットフォーム「XR CLOUD」
URL:https://techplay.jp/event/909026?utm_medium=referral&utm_source=ics&utm
 _campaign=ics
END:VEVENT
END:VCALENDAR
