BEGIN:VCALENDAR
VERSION:2.0
PRODID:-//https://techplay.jp//JP
CALSCALE:GREGORIAN
METHOD:PUBLISH
X-WR-CALDESC:D2C/EC活用の最新情報がわかる『Atouch』セミナ
 ー開催のお知らせ
X-WR-CALNAME:D2C/EC活用の最新情報がわかる『Atouch』セミナ
 ー開催のお知らせ
X-WR-TIMEZONE:Asia/Tokyo
BEGIN:VTIMEZONE
TZID:Asia/Tokyo
BEGIN:STANDARD
DTSTART:19700101T000000
TZOFFSETFROM:+0900
TZOFFSETTO:+0900
TZNAME:JST
END:STANDARD
END:VTIMEZONE
BEGIN:VEVENT
UID:909219@techplay.jp
SUMMARY:D2C/EC活用の最新情報がわかる『Atouch』セミナー開
 催のお知らせ
DTSTART;TZID=Asia/Tokyo:20230623T150000
DTEND;TZID=Asia/Tokyo:20230629T170000
DTSTAMP:20260421T185748Z
CREATED:20230620T025739Z
DESCRIPTION:イベント詳細はこちら\nhttps://techplay.jp/event/90921
 9?utm_medium=referral&utm_source=ics&utm_campaign=ics\n\n◆『Atouch』
 オンライン無料セミナー開催！\n『LINEのトーク上でお
 買い物完了』が実現する、「Atouch」の活用セミナーを
 開催します。LINEで誰でもカンタンにネットショップが
 開設でき、EC事業者の課題解決に直結する内容もあり
 、マーケ担当者・WEB担当者・EC運用担当者に特に有益
 なセミナーです。\n◆EC事業には大きな壁が……\nDX推
 進により多くの企業がD2C/ECへ参入しています。市場規
 模が拡大し事業機会が広がる一方、ここには大きな壁
 が立ちはだかっています。EC事業における大きな壁…
 …それは、「ページ遷移中の離脱」です。\n買い物客
 が『よし！この商品を購入しよう！』と決めてから、
 平均〇回もページが遷移します。その間に、お客様は
 なんと平均約〇割も離脱してしまうのです。\n※〇の
 箇所は、説明会の中で公開いたします。\nですが多く
 の運営事業主さまはその事実を知りません。「買おう
 ！」と思った買い物客の中の、たった約〇割しか購入
 に至ってない……そんな大きな『機会損失』をし続け
 ていることに、大勢の運営事業主さまが気づいていな
 いのです。\nそしてこの離脱による『機会損失』は、
 『買い物客』にある感情を抱かせてしまっています。
 そのため、彼らが再び買い物に戻ってくる、というこ
 ともほぼありません。\n買い物客を遠ざけてしまって
 いる「ある感情」とは……\n◆本セミナーで、重大な
 「機会損失」の根本的な解決方法を解説！\n本セミナ
 ーでは、そんな事業主さまサイドが見落としている買
 い物客の重大な真実、最新の市場動向を踏まえた弊社
 サービスなど、事業主さまの課題解決に直結する話を
 させていただきます。\n本セミナーはこんな方におス
 スメ\n・最新のLINE×D2C事情を知りたい・効果的なCRM施
 策を知りたい・定期通販を行っている/立ち上げるクラ
 イアントへ提案したい\n下記のような課題の解決に有
 効です\n・LINEを活用したマーケティングの方法を知り
 たい・顧客と密なコミュニケーションをとりたい・大
 手ECモールから自社ECに乗り換えたい・購買データを活
 用した販売戦略をたてたいがやり方がわからない・ネ
 ットショップの運用が上手くいかない・もっと簡潔で
 効率的なセールス方法があれば……\n開催日時\n6月23日
 （金）　15:00～17:006月26日（月）　15:00～17:006月29日（
 木）　15:00～17:00※各日程、同じセミナー内容です■開
 催場所　オンライン（Zoom）■登壇者　　IRISデータラ
 ボ株式会社\nLINE APIツール「Atouch」とは\nLINE公式アカウ
 ントで簡単にネットショップが開設できるサービスで
 す。\n手間がかかる初期設定や面倒な運用業務は不要
 。\n特別な知識やスキルがなくても、直観的な操作で
 自分だけのオリジナルECショップが手軽に開設できま
 す。\nhttps://atouch.jp/\n～～～～～～～～～～～～～～～
 ～■IRISデータラボ株式会社所在地　　：東京都港区南
 青山2-7-30 ムラハンビル1階設立　　　：2019年3月5日代
 表取締役：安達教顕\n■個人情報の取り扱いについてht
 tps://iris-corp.co.jp/privacypolicy/～～～～～～～～～～～～
 ～～～～
LOCATION:オンライン（Zoom）
URL:https://techplay.jp/event/909219?utm_medium=referral&utm_source=ics&utm
 _campaign=ics
END:VEVENT
END:VCALENDAR
