BEGIN:VCALENDAR
VERSION:2.0
PRODID:-//https://techplay.jp//JP
CALSCALE:GREGORIAN
METHOD:PUBLISH
X-WR-CALDESC:【7/19開催】G検定/DS検定のネクストステップ 
 　AIエンジニアリングを学ぶメリットと学習方法
X-WR-CALNAME:【7/19開催】G検定/DS検定のネクストステップ 
 　AIエンジニアリングを学ぶメリットと学習方法
X-WR-TIMEZONE:Asia/Tokyo
BEGIN:VTIMEZONE
TZID:Asia/Tokyo
BEGIN:STANDARD
DTSTART:19700101T000000
TZOFFSETFROM:+0900
TZOFFSETTO:+0900
TZNAME:JST
END:STANDARD
END:VTIMEZONE
BEGIN:VEVENT
UID:909876@techplay.jp
SUMMARY:【7/19開催】G検定/DS検定のネクストステップ 　AI
 エンジニアリングを学ぶメリットと学習方法
DTSTART;TZID=Asia/Tokyo:20230719T190000
DTEND;TZID=Asia/Tokyo:20230719T200000
DTSTAMP:20260420T183419Z
CREATED:20230624T073122Z
DESCRIPTION:イベント詳細はこちら\nhttps://techplay.jp/event/90987
 6?utm_medium=referral&utm_source=ics&utm_campaign=ics\n\n概要\n本セ
 ミナーでは、AIエンジニアリングをゼロから学べる学
 習講座と学習方法・スケジュールをご紹介します。\n
 自己研鑽、キャリアアップのために、AIエンジニアリ
 ングを学びたい方は、ぜひ本セミナーにご参加のうえ
 、学習すべき項目や学習講座についてお聞きください
 。\n＜こんな方におすすめ＞\n\nAIエンジニアリングを
 学びたいが、どこから始めて良いか分からない方\nPytho
 nプログラミングや数理統計スキルからキャッチアップ
 したい方\nAVILENのオンライン学習講座に興味のある方\n
 \n開催情報\n\n日程：2023年7月19日（水）19:00〜 20:00\n会
 場：Zoomウェビナー（オンライン）\n参加費：無料\n主
 催：株式会社AVILEN\n\n注意事項\n\n競合製品をお取り扱
 いされている企業様はご参加をお断りする場合がござ
 います。\nその他、主催者の判断で参加に相応しくな
 い方は、参加をお断りする場合がございますので何卒
 ご了承ください。\nセミナーへお申し込みいただいた
 方へは、後日参加方法を記載したメールをお送り致し
 ますので、1社から複数名様ご参加頂く場合でも1名様
 ずつお申込みください。\n\n株式会社AVILEN\nAVILENは「最
 新のテクノロジーを、多くの人へ」をビジョンに掲げ
 、より多くの人々が最先端のテクノロジーを理解・活
 用できる豊かな社会の実現を目指すスタートアップ企
 業です。現在、AI人材育成事業・AI開発事業の2つを軸
 に、顧客のビジネス課題解決に向けてAIのトータルソ
 リューションを提供しています。
LOCATION:オンライン
URL:https://techplay.jp/event/909876?utm_medium=referral&utm_source=ics&utm
 _campaign=ics
END:VEVENT
END:VCALENDAR
