BEGIN:VCALENDAR
VERSION:2.0
PRODID:-//https://techplay.jp//JP
CALSCALE:GREGORIAN
METHOD:PUBLISH
X-WR-CALDESC:肥大化するデータとコストを最適化！ ファイ
 ルサーバー運用のイロハ
X-WR-CALNAME:肥大化するデータとコストを最適化！ ファイ
 ルサーバー運用のイロハ
X-WR-TIMEZONE:Asia/Tokyo
BEGIN:VTIMEZONE
TZID:Asia/Tokyo
BEGIN:STANDARD
DTSTART:19700101T000000
TZOFFSETFROM:+0900
TZOFFSETTO:+0900
TZNAME:JST
END:STANDARD
END:VTIMEZONE
BEGIN:VEVENT
UID:910926@techplay.jp
SUMMARY:肥大化するデータとコストを最適化！ ファイルサ
 ーバー運用のイロハ
DTSTART;TZID=Asia/Tokyo:20230727T110000
DTEND;TZID=Asia/Tokyo:20230727T115000
DTSTAMP:20260419T161509Z
CREATED:20230703T015526Z
DESCRIPTION:イベント詳細はこちら\nhttps://techplay.jp/event/91092
 6?utm_medium=referral&utm_source=ics&utm_campaign=ics\n\n肥大化する
 データとコストを最適化！ファイルサーバー運用のイ
 ロハ\n概要\nクロス・ヘッド株式会社主催による、ARア
 ドバンストテクノロジ株式会社　共催セミナー\nファ
 イルサーバーの容量不足にお悩みはありませんか？\n
 近年、ペーパーレス化や音楽・映像のようなリッチコ
 ンテンツの増加等、企業のデジタルデータは増加の一
 途をたどっています。それにともない、データを保存
 するNASやファイルサーバーの容量は年々増加し続けて
 いるのではないでしょうか。\n肥大化するデータを放
 置しておくと、デジタルデータを保管・運用するため
 のコストはどんどん増えてしくことになります。加え
 て、それらのデータは企業の大切な資産であり、機器
 故障や災害による消失についても検討する重要性が高
 いと言えます。バックアップやBCP対策という観点でも
 、ファイルサーバーは大切な資産といえるでしょう。\
 n今回のWEBセミナーでは、そうしたファイルサーバーの
 運用にまつわるイロハ、バックアップデータの保管先
 としても優秀なクラウドホットストレージサービス「W
 asabi」、ファイルサーバー運用ソフトウェアである「Zi
 DOMA data」についてご紹介させて頂きます。\n※お申し
 込みは7/27 9:00までになります。\nタイムスケジュール\n
 \n\n\n時間\n内容\n\n\n\n\n11:00〜11:05\n冒頭あいさつ\n\n\n11:0
 5〜11:25\nセッション1：ファイルサーバー運用のイロハ
 　　　　　　  コスト最適化にも繋がる「Wasabi」活用
 術！ 　　  　講師：クロス・ヘッド株式会社　新山 
 貴彦本セッションではファイルサーバのコスト最適化
 を実現するために必要な、運用のイロハについてご紹
 介させて頂きます。ファイルサーバーが肥大化する原
 因、バックアップやアーカイブの考え方、当社取り扱
 いのクラウドストレージサービス「Wasabi Hot Cloud Storage
 」の製品紹介と活用方法についてご説明いたします。\
 n\n\n11:25〜11:45\nセッション2：情シス担当者なら絶対知
 りたい！　　　　　　  ZiDOMA dataを活用したファイル
 サーバ肥大化対策の　　　　　　  コスト削減ノウハ
 ウ 　　　  講師：ARアドバンステクノロジ株式会社　
 菅原 聡本セッションでは、肥大化してしまったファイ
 ルサーバ対策をいかに低価格で行い、かつ最終的なコ
 スト削減に繋げるためのノウハウをご紹介させて頂き
 ます。肥大化対策の具体的なポイントと、ファイルを
 可視化することによるコスト削減の方法を、ファイル
 サーバ容量可視化、分析システム「ZiDOMA data（ジドー
 マ・データ）」のデモを交えてご説明いたします。\n\n
 \n11:45〜11:50\nクロージング\n\n\n\n※ 当日予告なく時間
 配分・内容が変更になる可能性がございます。\n参加
 費\n無料\n注意事項\n\nリクルーティング、勧誘など、
 採用目的でのイベント参加はお断りしております。\n
 キャンセル待ち・補欠・落選の方はご参加いただくこ
 とが出来ませんのでご了承ください。\n欠席される場
 合は、お手数ですが速やかにキャンセル処理をお願い
 致します。\n無断キャンセルや欠席が続く場合、次回
 以降の参加をお断りさせていただく場合がございます
 。\n
LOCATION:オンライン
URL:https://techplay.jp/event/910926?utm_medium=referral&utm_source=ics&utm
 _campaign=ics
END:VEVENT
END:VCALENDAR
